BEGIN:VCALENDAR
VERSION:2.0
PRODID:-//AKTIVITA Bad Essen - ECPv6.15.20//NONSGML v1.0//EN
CALSCALE:GREGORIAN
METHOD:PUBLISH
X-WR-CALNAME:AKTIVITA Bad Essen
X-ORIGINAL-URL:https://www.aktivita-badessen.de
X-WR-CALDESC:Kurse für AKTIVITA Bad Essen
REFRESH-INTERVAL;VALUE=DURATION:PT1H
X-Robots-Tag:noindex
X-PUBLISHED-TTL:PT1H
BEGIN:VTIMEZONE
TZID:Europe/Berlin
BEGIN:DAYLIGHT
TZOFFSETFROM:+0100
TZOFFSETTO:+0200
TZNAME:CEST
DTSTART:20250330T010000
END:DAYLIGHT
BEGIN:STANDARD
TZOFFSETFROM:+0200
TZOFFSETTO:+0100
TZNAME:CET
DTSTART:20251026T010000
END:STANDARD
BEGIN:DAYLIGHT
TZOFFSETFROM:+0100
TZOFFSETTO:+0200
TZNAME:CEST
DTSTART:20260329T010000
END:DAYLIGHT
BEGIN:STANDARD
TZOFFSETFROM:+0200
TZOFFSETTO:+0100
TZNAME:CET
DTSTART:20261025T010000
END:STANDARD
BEGIN:DAYLIGHT
TZOFFSETFROM:+0100
TZOFFSETTO:+0200
TZNAME:CEST
DTSTART:20270328T010000
END:DAYLIGHT
BEGIN:STANDARD
TZOFFSETFROM:+0200
TZOFFSETTO:+0100
TZNAME:CET
DTSTART:20271031T010000
END:STANDARD
END:VTIMEZONE
BEGIN:VEVENT
DTSTART;TZID=Europe/Berlin:20260427T201500
DTEND;TZID=Europe/Berlin:20260427T211500
DTSTAMP:20260422T172224
CREATED:20241202T124229Z
LAST-MODIFIED:20251211T153005Z
UID:10077739-1777320900-1777324500@www.aktivita-badessen.de
SUMMARY:Funktion meets Form
DESCRIPTION:Kraft-Ausdauertraining für Schulter\, Nacken und Rücken – ideal zur Ergänzung bei sitzender Tätigkeit\, mit und ohne Gewichte.
URL:https://www.aktivita-badessen.de/einzelkurs/funktion-meets-form-trocken-neu/2026-04-27/
LOCATION:AKTIVITA Physio-Med\, Nikolaistraße 34/36\, Bad Essen\, 49152\, Deutschland
CATEGORIES:Gesundheits- und Präventionskurs
END:VEVENT
BEGIN:VEVENT
DTSTART;TZID=Europe/Berlin:20260504T201500
DTEND;TZID=Europe/Berlin:20260504T211500
DTSTAMP:20260422T172224
CREATED:20241202T124229Z
LAST-MODIFIED:20251211T153005Z
UID:10077740-1777925700-1777929300@www.aktivita-badessen.de
SUMMARY:Funktion meets Form
DESCRIPTION:Kraft-Ausdauertraining für Schulter\, Nacken und Rücken – ideal zur Ergänzung bei sitzender Tätigkeit\, mit und ohne Gewichte.
URL:https://www.aktivita-badessen.de/einzelkurs/funktion-meets-form-trocken-neu/2026-05-04/
LOCATION:AKTIVITA Physio-Med\, Nikolaistraße 34/36\, Bad Essen\, 49152\, Deutschland
CATEGORIES:Gesundheits- und Präventionskurs
END:VEVENT
BEGIN:VEVENT
DTSTART;TZID=Europe/Berlin:20260511T201500
DTEND;TZID=Europe/Berlin:20260511T211500
DTSTAMP:20260422T172224
CREATED:20241202T124229Z
LAST-MODIFIED:20251211T153005Z
UID:10077741-1778530500-1778534100@www.aktivita-badessen.de
SUMMARY:Funktion meets Form
DESCRIPTION:Kraft-Ausdauertraining für Schulter\, Nacken und Rücken – ideal zur Ergänzung bei sitzender Tätigkeit\, mit und ohne Gewichte.
URL:https://www.aktivita-badessen.de/einzelkurs/funktion-meets-form-trocken-neu/2026-05-11/
LOCATION:AKTIVITA Physio-Med\, Nikolaistraße 34/36\, Bad Essen\, 49152\, Deutschland
CATEGORIES:Gesundheits- und Präventionskurs
END:VEVENT
BEGIN:VEVENT
DTSTART;TZID=Europe/Berlin:20260518T201500
DTEND;TZID=Europe/Berlin:20260518T211500
DTSTAMP:20260422T172224
CREATED:20241202T124229Z
LAST-MODIFIED:20251211T153005Z
UID:10077742-1779135300-1779138900@www.aktivita-badessen.de
SUMMARY:Funktion meets Form
DESCRIPTION:Kraft-Ausdauertraining für Schulter\, Nacken und Rücken – ideal zur Ergänzung bei sitzender Tätigkeit\, mit und ohne Gewichte.
URL:https://www.aktivita-badessen.de/einzelkurs/funktion-meets-form-trocken-neu/2026-05-18/
LOCATION:AKTIVITA Physio-Med\, Nikolaistraße 34/36\, Bad Essen\, 49152\, Deutschland
CATEGORIES:Gesundheits- und Präventionskurs
END:VEVENT
BEGIN:VEVENT
DTSTART;TZID=Europe/Berlin:20260525T201500
DTEND;TZID=Europe/Berlin:20260525T211500
DTSTAMP:20260422T172224
CREATED:20241202T124229Z
LAST-MODIFIED:20251211T153005Z
UID:10077743-1779740100-1779743700@www.aktivita-badessen.de
SUMMARY:Funktion meets Form
DESCRIPTION:Kraft-Ausdauertraining für Schulter\, Nacken und Rücken – ideal zur Ergänzung bei sitzender Tätigkeit\, mit und ohne Gewichte.
URL:https://www.aktivita-badessen.de/einzelkurs/funktion-meets-form-trocken-neu/2026-05-25/
LOCATION:AKTIVITA Physio-Med\, Nikolaistraße 34/36\, Bad Essen\, 49152\, Deutschland
CATEGORIES:Gesundheits- und Präventionskurs
END:VEVENT
BEGIN:VEVENT
DTSTART;TZID=Europe/Berlin:20260601T201500
DTEND;TZID=Europe/Berlin:20260601T211500
DTSTAMP:20260422T172224
CREATED:20241202T124229Z
LAST-MODIFIED:20251211T153005Z
UID:10077744-1780344900-1780348500@www.aktivita-badessen.de
SUMMARY:Funktion meets Form
DESCRIPTION:Kraft-Ausdauertraining für Schulter\, Nacken und Rücken – ideal zur Ergänzung bei sitzender Tätigkeit\, mit und ohne Gewichte.
URL:https://www.aktivita-badessen.de/einzelkurs/funktion-meets-form-trocken-neu/2026-06-01/
LOCATION:AKTIVITA Physio-Med\, Nikolaistraße 34/36\, Bad Essen\, 49152\, Deutschland
CATEGORIES:Gesundheits- und Präventionskurs
END:VEVENT
BEGIN:VEVENT
DTSTART;TZID=Europe/Berlin:20260608T201500
DTEND;TZID=Europe/Berlin:20260608T211500
DTSTAMP:20260422T172224
CREATED:20241202T124229Z
LAST-MODIFIED:20251211T153005Z
UID:10077745-1780949700-1780953300@www.aktivita-badessen.de
SUMMARY:Funktion meets Form
DESCRIPTION:Kraft-Ausdauertraining für Schulter\, Nacken und Rücken – ideal zur Ergänzung bei sitzender Tätigkeit\, mit und ohne Gewichte.
URL:https://www.aktivita-badessen.de/einzelkurs/funktion-meets-form-trocken-neu/2026-06-08/
LOCATION:AKTIVITA Physio-Med\, Nikolaistraße 34/36\, Bad Essen\, 49152\, Deutschland
CATEGORIES:Gesundheits- und Präventionskurs
END:VEVENT
BEGIN:VEVENT
DTSTART;TZID=Europe/Berlin:20260615T201500
DTEND;TZID=Europe/Berlin:20260615T211500
DTSTAMP:20260422T172224
CREATED:20241202T124229Z
LAST-MODIFIED:20251211T153005Z
UID:10077746-1781554500-1781558100@www.aktivita-badessen.de
SUMMARY:Funktion meets Form
DESCRIPTION:Kraft-Ausdauertraining für Schulter\, Nacken und Rücken – ideal zur Ergänzung bei sitzender Tätigkeit\, mit und ohne Gewichte.
URL:https://www.aktivita-badessen.de/einzelkurs/funktion-meets-form-trocken-neu/2026-06-15/
LOCATION:AKTIVITA Physio-Med\, Nikolaistraße 34/36\, Bad Essen\, 49152\, Deutschland
CATEGORIES:Gesundheits- und Präventionskurs
END:VEVENT
BEGIN:VEVENT
DTSTART;TZID=Europe/Berlin:20260622T201500
DTEND;TZID=Europe/Berlin:20260622T211500
DTSTAMP:20260422T172224
CREATED:20241202T124229Z
LAST-MODIFIED:20251211T153005Z
UID:10077747-1782159300-1782162900@www.aktivita-badessen.de
SUMMARY:Funktion meets Form
DESCRIPTION:Kraft-Ausdauertraining für Schulter\, Nacken und Rücken – ideal zur Ergänzung bei sitzender Tätigkeit\, mit und ohne Gewichte.
URL:https://www.aktivita-badessen.de/einzelkurs/funktion-meets-form-trocken-neu/2026-06-22/
LOCATION:AKTIVITA Physio-Med\, Nikolaistraße 34/36\, Bad Essen\, 49152\, Deutschland
CATEGORIES:Gesundheits- und Präventionskurs
END:VEVENT
BEGIN:VEVENT
DTSTART;TZID=Europe/Berlin:20260629T201500
DTEND;TZID=Europe/Berlin:20260629T211500
DTSTAMP:20260422T172224
CREATED:20241202T124229Z
LAST-MODIFIED:20251211T153005Z
UID:10077748-1782764100-1782767700@www.aktivita-badessen.de
SUMMARY:Funktion meets Form
DESCRIPTION:Kraft-Ausdauertraining für Schulter\, Nacken und Rücken – ideal zur Ergänzung bei sitzender Tätigkeit\, mit und ohne Gewichte.
URL:https://www.aktivita-badessen.de/einzelkurs/funktion-meets-form-trocken-neu/2026-06-29/
LOCATION:AKTIVITA Physio-Med\, Nikolaistraße 34/36\, Bad Essen\, 49152\, Deutschland
CATEGORIES:Gesundheits- und Präventionskurs
END:VEVENT
END:VCALENDAR