BEGIN:VCALENDAR
VERSION:2.0
PRODID:-//AKTIVITA Bad Essen - ECPv6.15.20//NONSGML v1.0//EN
CALSCALE:GREGORIAN
METHOD:PUBLISH
X-WR-CALNAME:AKTIVITA Bad Essen
X-ORIGINAL-URL:https://www.aktivita-badessen.de
X-WR-CALDESC:Kurse für AKTIVITA Bad Essen
REFRESH-INTERVAL;VALUE=DURATION:PT1H
X-Robots-Tag:noindex
X-PUBLISHED-TTL:PT1H
BEGIN:VTIMEZONE
TZID:Europe/Berlin
BEGIN:DAYLIGHT
TZOFFSETFROM:+0100
TZOFFSETTO:+0200
TZNAME:CEST
DTSTART:20250330T010000
END:DAYLIGHT
BEGIN:STANDARD
TZOFFSETFROM:+0200
TZOFFSETTO:+0100
TZNAME:CET
DTSTART:20251026T010000
END:STANDARD
BEGIN:DAYLIGHT
TZOFFSETFROM:+0100
TZOFFSETTO:+0200
TZNAME:CEST
DTSTART:20260329T010000
END:DAYLIGHT
BEGIN:STANDARD
TZOFFSETFROM:+0200
TZOFFSETTO:+0100
TZNAME:CET
DTSTART:20261025T010000
END:STANDARD
BEGIN:DAYLIGHT
TZOFFSETFROM:+0100
TZOFFSETTO:+0200
TZNAME:CEST
DTSTART:20270328T010000
END:DAYLIGHT
BEGIN:STANDARD
TZOFFSETFROM:+0200
TZOFFSETTO:+0100
TZNAME:CET
DTSTART:20271031T010000
END:STANDARD
END:VTIMEZONE
BEGIN:VEVENT
DTSTART;TZID=Europe/Berlin:20260427T103000
DTEND;TZID=Europe/Berlin:20260427T113000
DTSTAMP:20260423T113906
CREATED:20241204T100338Z
LAST-MODIFIED:20251211T153654Z
UID:10078051-1777285800-1777289400@www.aktivita-badessen.de
SUMMARY:Rehasport (Wasser)
DESCRIPTION:Schonende Ganzkörperübungen im Wasser zur Steigerung von Kraft\, Ausdauer und Beweglichkeit – gelenkschonend\, zur Schmerzlinderung und Verbesserung der Lebensqualität.
URL:https://www.aktivita-badessen.de/einzelkurs/rehasport-wasser-neu-2/2026-04-27/
LOCATION:AKTIVITA SoleSpa\, Lindenstraße 100\, Bad Essen\, 49152\, Deutschland
CATEGORIES:Rehasportkurs
END:VEVENT
BEGIN:VEVENT
DTSTART;TZID=Europe/Berlin:20260504T103000
DTEND;TZID=Europe/Berlin:20260504T113000
DTSTAMP:20260423T113906
CREATED:20241204T100338Z
LAST-MODIFIED:20251211T153654Z
UID:10078052-1777890600-1777894200@www.aktivita-badessen.de
SUMMARY:Rehasport (Wasser)
DESCRIPTION:Schonende Ganzkörperübungen im Wasser zur Steigerung von Kraft\, Ausdauer und Beweglichkeit – gelenkschonend\, zur Schmerzlinderung und Verbesserung der Lebensqualität.
URL:https://www.aktivita-badessen.de/einzelkurs/rehasport-wasser-neu-2/2026-05-04/
LOCATION:AKTIVITA SoleSpa\, Lindenstraße 100\, Bad Essen\, 49152\, Deutschland
CATEGORIES:Rehasportkurs
END:VEVENT
BEGIN:VEVENT
DTSTART;TZID=Europe/Berlin:20260511T103000
DTEND;TZID=Europe/Berlin:20260511T113000
DTSTAMP:20260423T113906
CREATED:20241204T100338Z
LAST-MODIFIED:20251211T153654Z
UID:10078053-1778495400-1778499000@www.aktivita-badessen.de
SUMMARY:Rehasport (Wasser)
DESCRIPTION:Schonende Ganzkörperübungen im Wasser zur Steigerung von Kraft\, Ausdauer und Beweglichkeit – gelenkschonend\, zur Schmerzlinderung und Verbesserung der Lebensqualität.
URL:https://www.aktivita-badessen.de/einzelkurs/rehasport-wasser-neu-2/2026-05-11/
LOCATION:AKTIVITA SoleSpa\, Lindenstraße 100\, Bad Essen\, 49152\, Deutschland
CATEGORIES:Rehasportkurs
END:VEVENT
BEGIN:VEVENT
DTSTART;TZID=Europe/Berlin:20260518T103000
DTEND;TZID=Europe/Berlin:20260518T113000
DTSTAMP:20260423T113906
CREATED:20241204T100338Z
LAST-MODIFIED:20251211T153654Z
UID:10078054-1779100200-1779103800@www.aktivita-badessen.de
SUMMARY:Rehasport (Wasser)
DESCRIPTION:Schonende Ganzkörperübungen im Wasser zur Steigerung von Kraft\, Ausdauer und Beweglichkeit – gelenkschonend\, zur Schmerzlinderung und Verbesserung der Lebensqualität.
URL:https://www.aktivita-badessen.de/einzelkurs/rehasport-wasser-neu-2/2026-05-18/
LOCATION:AKTIVITA SoleSpa\, Lindenstraße 100\, Bad Essen\, 49152\, Deutschland
CATEGORIES:Rehasportkurs
END:VEVENT
BEGIN:VEVENT
DTSTART;TZID=Europe/Berlin:20260525T103000
DTEND;TZID=Europe/Berlin:20260525T113000
DTSTAMP:20260423T113906
CREATED:20241204T100338Z
LAST-MODIFIED:20251211T153654Z
UID:10078055-1779705000-1779708600@www.aktivita-badessen.de
SUMMARY:Rehasport (Wasser)
DESCRIPTION:Schonende Ganzkörperübungen im Wasser zur Steigerung von Kraft\, Ausdauer und Beweglichkeit – gelenkschonend\, zur Schmerzlinderung und Verbesserung der Lebensqualität.
URL:https://www.aktivita-badessen.de/einzelkurs/rehasport-wasser-neu-2/2026-05-25/
LOCATION:AKTIVITA SoleSpa\, Lindenstraße 100\, Bad Essen\, 49152\, Deutschland
CATEGORIES:Rehasportkurs
END:VEVENT
BEGIN:VEVENT
DTSTART;TZID=Europe/Berlin:20260601T103000
DTEND;TZID=Europe/Berlin:20260601T113000
DTSTAMP:20260423T113906
CREATED:20241204T100338Z
LAST-MODIFIED:20251211T153654Z
UID:10078056-1780309800-1780313400@www.aktivita-badessen.de
SUMMARY:Rehasport (Wasser)
DESCRIPTION:Schonende Ganzkörperübungen im Wasser zur Steigerung von Kraft\, Ausdauer und Beweglichkeit – gelenkschonend\, zur Schmerzlinderung und Verbesserung der Lebensqualität.
URL:https://www.aktivita-badessen.de/einzelkurs/rehasport-wasser-neu-2/2026-06-01/
LOCATION:AKTIVITA SoleSpa\, Lindenstraße 100\, Bad Essen\, 49152\, Deutschland
CATEGORIES:Rehasportkurs
END:VEVENT
BEGIN:VEVENT
DTSTART;TZID=Europe/Berlin:20260608T103000
DTEND;TZID=Europe/Berlin:20260608T113000
DTSTAMP:20260423T113906
CREATED:20241204T100338Z
LAST-MODIFIED:20251211T153654Z
UID:10078057-1780914600-1780918200@www.aktivita-badessen.de
SUMMARY:Rehasport (Wasser)
DESCRIPTION:Schonende Ganzkörperübungen im Wasser zur Steigerung von Kraft\, Ausdauer und Beweglichkeit – gelenkschonend\, zur Schmerzlinderung und Verbesserung der Lebensqualität.
URL:https://www.aktivita-badessen.de/einzelkurs/rehasport-wasser-neu-2/2026-06-08/
LOCATION:AKTIVITA SoleSpa\, Lindenstraße 100\, Bad Essen\, 49152\, Deutschland
CATEGORIES:Rehasportkurs
END:VEVENT
BEGIN:VEVENT
DTSTART;TZID=Europe/Berlin:20260615T103000
DTEND;TZID=Europe/Berlin:20260615T113000
DTSTAMP:20260423T113906
CREATED:20241204T100338Z
LAST-MODIFIED:20251211T153654Z
UID:10078058-1781519400-1781523000@www.aktivita-badessen.de
SUMMARY:Rehasport (Wasser)
DESCRIPTION:Schonende Ganzkörperübungen im Wasser zur Steigerung von Kraft\, Ausdauer und Beweglichkeit – gelenkschonend\, zur Schmerzlinderung und Verbesserung der Lebensqualität.
URL:https://www.aktivita-badessen.de/einzelkurs/rehasport-wasser-neu-2/2026-06-15/
LOCATION:AKTIVITA SoleSpa\, Lindenstraße 100\, Bad Essen\, 49152\, Deutschland
CATEGORIES:Rehasportkurs
END:VEVENT
BEGIN:VEVENT
DTSTART;TZID=Europe/Berlin:20260622T103000
DTEND;TZID=Europe/Berlin:20260622T113000
DTSTAMP:20260423T113906
CREATED:20241204T100338Z
LAST-MODIFIED:20251211T153654Z
UID:10078059-1782124200-1782127800@www.aktivita-badessen.de
SUMMARY:Rehasport (Wasser)
DESCRIPTION:Schonende Ganzkörperübungen im Wasser zur Steigerung von Kraft\, Ausdauer und Beweglichkeit – gelenkschonend\, zur Schmerzlinderung und Verbesserung der Lebensqualität.
URL:https://www.aktivita-badessen.de/einzelkurs/rehasport-wasser-neu-2/2026-06-22/
LOCATION:AKTIVITA SoleSpa\, Lindenstraße 100\, Bad Essen\, 49152\, Deutschland
CATEGORIES:Rehasportkurs
END:VEVENT
BEGIN:VEVENT
DTSTART;TZID=Europe/Berlin:20260629T103000
DTEND;TZID=Europe/Berlin:20260629T113000
DTSTAMP:20260423T113906
CREATED:20241204T100338Z
LAST-MODIFIED:20251211T153654Z
UID:10078060-1782729000-1782732600@www.aktivita-badessen.de
SUMMARY:Rehasport (Wasser)
DESCRIPTION:Schonende Ganzkörperübungen im Wasser zur Steigerung von Kraft\, Ausdauer und Beweglichkeit – gelenkschonend\, zur Schmerzlinderung und Verbesserung der Lebensqualität.
URL:https://www.aktivita-badessen.de/einzelkurs/rehasport-wasser-neu-2/2026-06-29/
LOCATION:AKTIVITA SoleSpa\, Lindenstraße 100\, Bad Essen\, 49152\, Deutschland
CATEGORIES:Rehasportkurs
END:VEVENT
END:VCALENDAR