BEGIN:VCALENDAR
VERSION:2.0
PRODID:-//AKTIVITA Bad Essen - ECPv6.15.20//NONSGML v1.0//EN
CALSCALE:GREGORIAN
METHOD:PUBLISH
X-ORIGINAL-URL:https://www.aktivita-badessen.de
X-WR-CALDESC:Kurse für AKTIVITA Bad Essen
REFRESH-INTERVAL;VALUE=DURATION:PT1H
X-Robots-Tag:noindex
X-PUBLISHED-TTL:PT1H
BEGIN:VTIMEZONE
TZID:Europe/Berlin
BEGIN:DAYLIGHT
TZOFFSETFROM:+0100
TZOFFSETTO:+0200
TZNAME:CEST
DTSTART:20230326T010000
END:DAYLIGHT
BEGIN:STANDARD
TZOFFSETFROM:+0200
TZOFFSETTO:+0100
TZNAME:CET
DTSTART:20231029T010000
END:STANDARD
BEGIN:DAYLIGHT
TZOFFSETFROM:+0100
TZOFFSETTO:+0200
TZNAME:CEST
DTSTART:20240331T010000
END:DAYLIGHT
BEGIN:STANDARD
TZOFFSETFROM:+0200
TZOFFSETTO:+0100
TZNAME:CET
DTSTART:20241027T010000
END:STANDARD
BEGIN:DAYLIGHT
TZOFFSETFROM:+0100
TZOFFSETTO:+0200
TZNAME:CEST
DTSTART:20250330T010000
END:DAYLIGHT
BEGIN:STANDARD
TZOFFSETFROM:+0200
TZOFFSETTO:+0100
TZNAME:CET
DTSTART:20251026T010000
END:STANDARD
END:VTIMEZONE
BEGIN:VEVENT
DTSTART;TZID=Europe/Berlin:20241212T080000
DTEND;TZID=Europe/Berlin:20241212T090000
DTSTAMP:20260420T150533
CREATED:20250227T163826Z
LAST-MODIFIED:20251211T150833Z
UID:10071864-1733990400-1733994000@www.aktivita-badessen.de
SUMMARY:Zertifiziertes Gerätetraining
DESCRIPTION:Das Ganzkörpertraining: Zertifiziertes Gerätetraining in kleinen Gruppen\, unter Anleitung eines qualifizierten Physiotherapeuten\, zur Krafterhaltung und Verbesserung des allgemeinen Wohlbefindens – einmal wöchentlich.
URL:https://www.aktivita-badessen.de/einzelkurs/zertifiziertes-geraetetraining/2024-12-12/
LOCATION:AKTIVITA SoleSpa\, Lindenstraße 100\, Bad Essen\, 49152\, Deutschland
CATEGORIES:Gesundheits- und Präventionskurs
END:VEVENT
BEGIN:VEVENT
DTSTART;TZID=Europe/Berlin:20241212T083000
DTEND;TZID=Europe/Berlin:20241212T093000
DTSTAMP:20260420T150533
CREATED:20241204T101750Z
LAST-MODIFIED:20251211T150802Z
UID:10057190-1733992200-1733995800@www.aktivita-badessen.de
SUMMARY:Rehasport (Wasser)
DESCRIPTION:Schonende Ganzkörperübungen im Wasser zur Steigerung von Kraft\, Ausdauer und Beweglichkeit – gelenkschonend\, zur Schmerzlinderung und Verbesserung der Lebensqualität.
URL:https://www.aktivita-badessen.de/einzelkurs/rehasport-wasser-neu-17/2024-12-12/
LOCATION:AKTIVITA SoleSpa\, Lindenstraße 100\, Bad Essen\, 49152\, Deutschland
CATEGORIES:Rehasportkurs
END:VEVENT
BEGIN:VEVENT
DTSTART;TZID=Europe/Berlin:20241212T093000
DTEND;TZID=Europe/Berlin:20241212T103000
DTSTAMP:20260420T150533
CREATED:20241202T115214Z
LAST-MODIFIED:20251211T150703Z
UID:10040693-1733995800-1733999400@www.aktivita-badessen.de
SUMMARY:Osteoporose
DESCRIPTION:Bewegungs- und Sportprogramm zur Erhaltung von Knochendichte und Muskulatur unter fachlicher Anleitung. Kraft-\, Koordinations- und Balancetraining zur Sturzvermeidung sowie Tipps zum allgemeinen Umgang mit Osteoporose.
URL:https://www.aktivita-badessen.de/einzelkurs/osteoporose-trocken-neu-3/2024-12-12/
LOCATION:AKTIVITA Physio-Med\, Nikolaistraße 34/36\, Bad Essen\, 49152\, Deutschland
CATEGORIES:Funktionstrainingskurs
END:VEVENT
BEGIN:VEVENT
DTSTART;TZID=Europe/Berlin:20241212T093000
DTEND;TZID=Europe/Berlin:20241212T103000
DTSTAMP:20260420T150533
CREATED:20241204T101905Z
LAST-MODIFIED:20251211T150637Z
UID:10057451-1733995800-1733999400@www.aktivita-badessen.de
SUMMARY:Rehasport (Wasser)
DESCRIPTION:Schonende Ganzkörperübungen im Wasser zur Steigerung von Kraft\, Ausdauer und Beweglichkeit – gelenkschonend\, zur Schmerzlinderung und Verbesserung der Lebensqualität.
URL:https://www.aktivita-badessen.de/einzelkurs/rehasport-wasser-neu-18/2024-12-12/
LOCATION:AKTIVITA SoleSpa\, Lindenstraße 100\, Bad Essen\, 49152\, Deutschland
CATEGORIES:Rehasportkurs
END:VEVENT
BEGIN:VEVENT
DTSTART;TZID=Europe/Berlin:20241212T103000
DTEND;TZID=Europe/Berlin:20241212T110000
DTSTAMP:20260420T150533
CREATED:20241202T105536Z
LAST-MODIFIED:20251211T150559Z
UID:10035968-1733999400-1734001200@www.aktivita-badessen.de
SUMMARY:Funktionstraining (Wasser)
DESCRIPTION:Schonendes Training im Wasser zur Verbesserung Ihrer Bewegungsfunktion\, Schmerzlinderung und Reduzierung von Belastungen.
URL:https://www.aktivita-badessen.de/einzelkurs/funktionstraining-wasser-neu-6/2024-12-12/
LOCATION:AKTIVITA SoleSpa\, Lindenstraße 100\, Bad Essen\, 49152\, Deutschland
CATEGORIES:Funktionstrainingskurs
END:VEVENT
BEGIN:VEVENT
DTSTART;TZID=Europe/Berlin:20241212T110000
DTEND;TZID=Europe/Berlin:20241212T120000
DTSTAMP:20260420T150533
CREATED:20241202T132227Z
LAST-MODIFIED:20251211T135711Z
UID:10044085-1734001200-1734004800@www.aktivita-badessen.de
SUMMARY:Qigong
DESCRIPTION:Sanfte\, fließende Bewegungen und ruhige Atemübungen für entspannte Konzentration und harmonische Balance von Körper\, Geist und Seele.
URL:https://www.aktivita-badessen.de/einzelkurs/qigong-trocken-neu/2024-12-12/
LOCATION:AKTIVITA Physio-Med\, Nikolaistraße 34/36\, Bad Essen\, 49152\, Deutschland
CATEGORIES:Gesundheits- und Präventionskurs
END:VEVENT
BEGIN:VEVENT
DTSTART;TZID=Europe/Berlin:20241212T110000
DTEND;TZID=Europe/Berlin:20241212T120000
DTSTAMP:20260420T150533
CREATED:20241204T090554Z
LAST-MODIFIED:20251211T150532Z
UID:10048415-1734001200-1734004800@www.aktivita-badessen.de
SUMMARY:Zertifiziertes Gerätetraining
DESCRIPTION:Das Ganzkörpertraining: Zertifiziertes Gerätetraining in kleinen Gruppen\, unter Anleitung eines qualifizierten Physiotherapeuten\, zur Krafterhaltung und Verbesserung des allgemeinen Wohlbefindens – einmal wöchentlich.
URL:https://www.aktivita-badessen.de/einzelkurs/zirkeltraining-das-ganzkoerpertraining-trocken-neu-7/2024-12-12/
LOCATION:AKTIVITA SoleSpa\, Lindenstraße 100\, Bad Essen\, 49152\, Deutschland
CATEGORIES:Gesundheits- und Präventionskurs
END:VEVENT
BEGIN:VEVENT
DTSTART;TZID=Europe/Berlin:20241212T110000
DTEND;TZID=Europe/Berlin:20241212T120000
DTSTAMP:20260420T150533
CREATED:20241204T102013Z
LAST-MODIFIED:20251211T150500Z
UID:10057712-1734001200-1734004800@www.aktivita-badessen.de
SUMMARY:Rehasport (Wasser)
DESCRIPTION:Schonende Ganzkörperübungen im Wasser zur Steigerung von Kraft\, Ausdauer und Beweglichkeit – gelenkschonend\, zur Schmerzlinderung und Verbesserung der Lebensqualität.
URL:https://www.aktivita-badessen.de/einzelkurs/rehasport-wasser-neu-19/2024-12-12/
LOCATION:AKTIVITA SoleSpa\, Lindenstraße 100\, Bad Essen\, 49152\, Deutschland
CATEGORIES:Rehasportkurs
END:VEVENT
BEGIN:VEVENT
DTSTART;TZID=Europe/Berlin:20241212T133000
DTEND;TZID=Europe/Berlin:20241212T155000
DTSTAMP:20260420T150533
CREATED:20241204T110110Z
LAST-MODIFIED:20260105T092550Z
UID:10061385-1734010200-1734018600@www.aktivita-badessen.de
SUMMARY:Kinderschwimmen
DESCRIPTION:Kinder lernen die Schwimmgrundlagen\, verfeinern ihre Technik und Schwimmstile und arbeiten auf die Abzeichen Seepferdchen\, Seeräuber und Bronze hin (für Anfänger ab 4 Jahren). \nIn Kooperation mit: Schwimmschule Jürgen Lamping
URL:https://www.aktivita-badessen.de/einzelkurs/kinderschwimmen-wasser-neu/2024-12-12/
LOCATION:AKTIVITA SoleSpa\, Lindenstraße 100\, Bad Essen\, 49152\, Deutschland
CATEGORIES:Schwimmschule
END:VEVENT
BEGIN:VEVENT
DTSTART;TZID=Europe/Berlin:20241212T140000
DTEND;TZID=Europe/Berlin:20241212T173000
DTSTAMP:20260420T150533
CREATED:20241204T113302Z
LAST-MODIFIED:20251211T150433Z
UID:10064782-1734012000-1734024600@www.aktivita-badessen.de
SUMMARY:Ballettschule Watkins
DESCRIPTION:Ballett für Kinder bis zu jungen Erwachsenen – für alle\, die ihre tänzerischen Fähigkeiten entwickeln möchten. \nIn Kooperation mit: Balettschule Watkins
URL:https://www.aktivita-badessen.de/einzelkurs/ballettschule-trocken-neu-2/2024-12-12/
CATEGORIES:Tanzkurs
END:VEVENT
BEGIN:VEVENT
DTSTART;TZID=Europe/Berlin:20241212T160000
DTEND;TZID=Europe/Berlin:20241212T170000
DTSTAMP:20260420T150533
CREATED:20241204T102106Z
LAST-MODIFIED:20251211T150400Z
UID:10057973-1734019200-1734022800@www.aktivita-badessen.de
SUMMARY:Rehasport (Wasser)
DESCRIPTION:Schonende Ganzkörperübungen im Wasser zur Steigerung von Kraft\, Ausdauer und Beweglichkeit – gelenkschonend\, zur Schmerzlinderung und Verbesserung der Lebensqualität.
URL:https://www.aktivita-badessen.de/einzelkurs/rehasport-wasser-neu-20/2024-12-12/
LOCATION:AKTIVITA SoleSpa\, Lindenstraße 100\, Bad Essen\, 49152\, Deutschland
CATEGORIES:Rehasportkurs
END:VEVENT
BEGIN:VEVENT
DTSTART;TZID=Europe/Berlin:20241212T163000
DTEND;TZID=Europe/Berlin:20241212T171500
DTSTAMP:20260420T150533
CREATED:20241213T152644Z
LAST-MODIFIED:20251211T145949Z
UID:10068123-1734021000-1734023700@www.aktivita-badessen.de
SUMMARY:Rehasport (Trocken)
DESCRIPTION:Mit physiotherapeutischen Methoden werden Kraft\, Ausdauer\, Koordination und Beweglichkeit verbessert – das Gruppentraining zielt auf die Steigerung der Leistungsfähigkeit und Schmerzlinderung ab und fördert mehr Gesundheit und Lebensqualität.
URL:https://www.aktivita-badessen.de/einzelkurs/rehasport-trocken-2/2024-12-12/
LOCATION:AKTIVITA SoleSpa\, Lindenstraße 100\, Bad Essen\, 49152\, Deutschland
CATEGORIES:Rehasportkurs
END:VEVENT
BEGIN:VEVENT
DTSTART;TZID=Europe/Berlin:20241212T170000
DTEND;TZID=Europe/Berlin:20241212T180000
DTSTAMP:20260420T150533
CREATED:20241204T102205Z
LAST-MODIFIED:20251211T145917Z
UID:10058234-1734022800-1734026400@www.aktivita-badessen.de
SUMMARY:Rehasport (Wasser)
DESCRIPTION:Schonende Ganzkörperübungen im Wasser zur Steigerung von Kraft\, Ausdauer und Beweglichkeit – gelenkschonend\, zur Schmerzlinderung und Verbesserung der Lebensqualität.
URL:https://www.aktivita-badessen.de/einzelkurs/rehasport-wasser-neu-21/2024-12-12/
LOCATION:AKTIVITA SoleSpa\, Lindenstraße 100\, Bad Essen\, 49152\, Deutschland
CATEGORIES:Rehasportkurs
END:VEVENT
BEGIN:VEVENT
DTSTART;TZID=Europe/Berlin:20241212T174500
DTEND;TZID=Europe/Berlin:20241212T183000
DTSTAMP:20260420T150533
CREATED:20241204T095729Z
LAST-MODIFIED:20251211T145840Z
UID:10067967-1734025500-1734028200@www.aktivita-badessen.de
SUMMARY:Rehasport (Trocken)
DESCRIPTION:Mit physiotherapeutischen Methoden werden Kraft\, Ausdauer\, Koordination und Beweglichkeit verbessert – das Gruppentraining zielt auf die Steigerung der Leistungsfähigkeit und Schmerzlinderung ab und fördert mehr Gesundheit und Lebensqualität.
URL:https://www.aktivita-badessen.de/einzelkurs/rehasport-trocken-neu-14/2024-12-12/
LOCATION:AKTIVITA Physio-Med\, Nikolaistraße 34/36\, Bad Essen\, 49152\, Deutschland
CATEGORIES:Rehasportkurs
END:VEVENT
BEGIN:VEVENT
DTSTART;TZID=Europe/Berlin:20241212T174500
DTEND;TZID=Europe/Berlin:20241212T184500
DTSTAMP:20260420T150533
CREATED:20241202T093512Z
LAST-MODIFIED:20251211T135642Z
UID:10065572-1734025500-1734029100@www.aktivita-badessen.de
SUMMARY:Yoga\, 60 Minuten
DESCRIPTION:Im Fokus stehen Achtsamkeit\, Konzentration und Körperwahrnehmung. Durch bewusstes Atmen wird die Flexibilität gefördert und eine entspannte Ausgeglichenheit erreicht.
URL:https://www.aktivita-badessen.de/einzelkurs/yoga-3-2-2/2024-12-12/
LOCATION:AKTIVITA SoleSpa\, Lindenstraße 100\, Bad Essen\, 49152\, Deutschland
CATEGORIES:Fitnesskurs
END:VEVENT
BEGIN:VEVENT
DTSTART;TZID=Europe/Berlin:20241212T180000
DTEND;TZID=Europe/Berlin:20241212T190000
DTSTAMP:20260420T150533
CREATED:20241204T090340Z
LAST-MODIFIED:20251211T145425Z
UID:10048154-1734026400-1734030000@www.aktivita-badessen.de
SUMMARY:Zertifiziertes Gerätetraining
DESCRIPTION:Das Ganzkörpertraining: Zertifiziertes Gerätetraining in kleinen Gruppen\, unter Anleitung eines qualifizierten Physiotherapeuten\, zur Krafterhaltung und Verbesserung des allgemeinen Wohlbefindens – einmal wöchentlich.
URL:https://www.aktivita-badessen.de/einzelkurs/zirkeltraining-das-ganzkoerpertraining-trocken-neu-6/2024-12-12/
LOCATION:AKTIVITA Physio-Med\, Nikolaistraße 34/36\, Bad Essen\, 49152\, Deutschland
CATEGORIES:Gesundheits- und Präventionskurs
END:VEVENT
BEGIN:VEVENT
DTSTART;TZID=Europe/Berlin:20241212T180000
DTEND;TZID=Europe/Berlin:20241212T190000
DTSTAMP:20260420T150533
CREATED:20241204T102305Z
LAST-MODIFIED:20251211T144026Z
UID:10058495-1734026400-1734030000@www.aktivita-badessen.de
SUMMARY:Rehasport (Wasser)
DESCRIPTION:Schonende Ganzkörperübungen im Wasser zur Steigerung von Kraft\, Ausdauer und Beweglichkeit – gelenkschonend\, zur Schmerzlinderung und Verbesserung der Lebensqualität.
URL:https://www.aktivita-badessen.de/einzelkurs/rehasport-wasser-neu-22/2024-12-12/
LOCATION:AKTIVITA SoleSpa\, Lindenstraße 100\, Bad Essen\, 49152\, Deutschland
CATEGORIES:Rehasportkurs
END:VEVENT
BEGIN:VEVENT
DTSTART;TZID=Europe/Berlin:20241212T183000
DTEND;TZID=Europe/Berlin:20241212T193000
DTSTAMP:20260420T150533
CREATED:20241202T132906Z
LAST-MODIFIED:20251211T143920Z
UID:10045129-1734028200-1734031800@www.aktivita-badessen.de
SUMMARY:Qigong
DESCRIPTION:Sanfte\, fließende Bewegungen und ruhige Atemübungen für entspannte Konzentration und harmonische Balance von Körper\, Geist und Seele.
URL:https://www.aktivita-badessen.de/einzelkurs/qigong-trocken-neu-3/2024-12-12/
LOCATION:AKTIVITA Physio-Med\, Nikolaistraße 34/36\, Bad Essen\, 49152\, Deutschland
CATEGORIES:Gesundheits- und Präventionskurs
END:VEVENT
BEGIN:VEVENT
DTSTART;TZID=Europe/Berlin:20241212T190000
DTEND;TZID=Europe/Berlin:20241212T193000
DTSTAMP:20260420T150533
CREATED:20241202T105713Z
LAST-MODIFIED:20251211T143847Z
UID:10036229-1734030000-1734031800@www.aktivita-badessen.de
SUMMARY:Funktionstraining (Wasser)
DESCRIPTION:Schonendes Training im Wasser zur Verbesserung Ihrer Bewegungsfunktion\, Schmerzlinderung und Reduzierung von Belastungen.
URL:https://www.aktivita-badessen.de/einzelkurs/funktionstraining-wasser-neu-7/2024-12-12/
LOCATION:AKTIVITA SoleSpa\, Lindenstraße 100\, Bad Essen\, 49152\, Deutschland
CATEGORIES:Funktionstrainingskurs
END:VEVENT
BEGIN:VEVENT
DTSTART;TZID=Europe/Berlin:20241212T190000
DTEND;TZID=Europe/Berlin:20241212T200000
DTSTAMP:20260420T150533
CREATED:20241202T101044Z
LAST-MODIFIED:20251211T143806Z
UID:10066610-1734030000-1734033600@www.aktivita-badessen.de
SUMMARY:Langhantel-Workout
DESCRIPTION:Kraft-Ausdauertraining mit der Langhantel – ein intensives Workout für den gesamten Körper\, das Kraft und Ausdauer steigert.
URL:https://www.aktivita-badessen.de/einzelkurs/langhantel-workouttrocken-neu-2/2024-12-12/
LOCATION:AKTIVITA SoleSpa\, Lindenstraße 100\, Bad Essen\, 49152\, Deutschland
CATEGORIES:Fitnesskurs
END:VEVENT
BEGIN:VEVENT
DTSTART;TZID=Europe/Berlin:20241212T193000
DTEND;TZID=Europe/Berlin:20241212T203000
DTSTAMP:20260420T150533
CREATED:20240529T130139Z
LAST-MODIFIED:20251211T154211Z
UID:10010486-1734031800-1734035400@www.aktivita-badessen.de
SUMMARY:Wirbelsäulenfit
DESCRIPTION:Effiziente\, dynamische Übungen mit Musik für einen starken Rücken – zur Steigerung von Muskelkraft\, Beweglichkeit und Koordination.
URL:https://www.aktivita-badessen.de/einzelkurs/wirbelsaeulenfit-3/2024-12-12/
LOCATION:AKTIVITA Physio-Med\, Nikolaistraße 34/36\, Bad Essen\, 49152\, Deutschland
CATEGORIES:Gesundheits- und Präventionskurs
END:VEVENT
BEGIN:VEVENT
DTSTART;TZID=Europe/Berlin:20241212T193000
DTEND;TZID=Europe/Berlin:20241212T203000
DTSTAMP:20260420T150533
CREATED:20241213T123032Z
LAST-MODIFIED:20251211T143729Z
UID:10067915-1734031800-1734035400@www.aktivita-badessen.de
SUMMARY:Rehasport (Wasser)
DESCRIPTION:Schonende Ganzkörperübungen im Wasser zur Steigerung von Kraft\, Ausdauer und Beweglichkeit – gelenkschonend\, zur Schmerzlinderung und Verbesserung der Lebensqualität.
URL:https://www.aktivita-badessen.de/einzelkurs/rehasport-wasser-2/2024-12-12/
LOCATION:AKTIVITA SoleSpa\, Lindenstraße 100\, Bad Essen\, 49152\, Deutschland
CATEGORIES:Rehasportkurs
END:VEVENT
BEGIN:VEVENT
DTSTART;TZID=Europe/Berlin:20241212T200000
DTEND;TZID=Europe/Berlin:20241212T210000
DTSTAMP:20260420T150533
CREATED:20241202T124025Z
LAST-MODIFIED:20251211T143701Z
UID:10042259-1734033600-1734037200@www.aktivita-badessen.de
SUMMARY:Funktion meets Form Männer
DESCRIPTION:Ausgleichstraining mit gezielten Übungen zur Reduzierung einseitiger Belastungen sowie zur Verbesserung der Koordination und Beweglichkeit.
URL:https://www.aktivita-badessen.de/einzelkurs/funktion-meets-form-maenner-trocken-neu/2024-12-12/
LOCATION:AKTIVITA SoleSpa\, Lindenstraße 100\, Bad Essen\, 49152\, Deutschland
CATEGORIES:Gesundheits- und Präventionskurs
END:VEVENT
END:VCALENDAR