BEGIN:VCALENDAR
VERSION:2.0
PRODID:-//AKTIVITA Bad Essen - ECPv6.15.20//NONSGML v1.0//EN
CALSCALE:GREGORIAN
METHOD:PUBLISH
X-WR-CALNAME:AKTIVITA Bad Essen
X-ORIGINAL-URL:https://www.aktivita-badessen.de
X-WR-CALDESC:Kurse für AKTIVITA Bad Essen
REFRESH-INTERVAL;VALUE=DURATION:PT1H
X-Robots-Tag:noindex
X-PUBLISHED-TTL:PT1H
BEGIN:VTIMEZONE
TZID:Europe/Berlin
BEGIN:DAYLIGHT
TZOFFSETFROM:+0100
TZOFFSETTO:+0200
TZNAME:CEST
DTSTART:20240331T010000
END:DAYLIGHT
BEGIN:STANDARD
TZOFFSETFROM:+0200
TZOFFSETTO:+0100
TZNAME:CET
DTSTART:20241027T010000
END:STANDARD
BEGIN:DAYLIGHT
TZOFFSETFROM:+0100
TZOFFSETTO:+0200
TZNAME:CEST
DTSTART:20250330T010000
END:DAYLIGHT
BEGIN:STANDARD
TZOFFSETFROM:+0200
TZOFFSETTO:+0100
TZNAME:CET
DTSTART:20251026T010000
END:STANDARD
BEGIN:DAYLIGHT
TZOFFSETFROM:+0100
TZOFFSETTO:+0200
TZNAME:CEST
DTSTART:20260329T010000
END:DAYLIGHT
BEGIN:STANDARD
TZOFFSETFROM:+0200
TZOFFSETTO:+0100
TZNAME:CET
DTSTART:20261025T010000
END:STANDARD
END:VTIMEZONE
BEGIN:VEVENT
DTSTART;TZID=Europe/Berlin:20251117T083000
DTEND;TZID=Europe/Berlin:20251117T091500
DTSTAMP:20260419T151049
CREATED:20241204T093055Z
LAST-MODIFIED:20251211T154057Z
UID:10074233-1763368200-1763370900@www.aktivita-badessen.de
SUMMARY:Rehasport (Trocken)
DESCRIPTION:Mit physiotherapeutischen Methoden werden Kraft\, Ausdauer\, Koordination und Beweglichkeit verbessert – das Gruppentraining zielt auf die Steigerung der Leistungsfähigkeit und Schmerzlinderung ab und fördert mehr Gesundheit und Lebensqualität.
URL:https://www.aktivita-badessen.de/einzelkurs/rehasport-trocken-neu/2025-11-17/
LOCATION:AKTIVITA SoleSpa\, Lindenstraße 100\, Bad Essen\, 49152\, Deutschland
CATEGORIES:Rehasportkurs
END:VEVENT
BEGIN:VEVENT
DTSTART;TZID=Europe/Berlin:20251117T083000
DTEND;TZID=Europe/Berlin:20251117T093000
DTSTAMP:20260419T151049
CREATED:20240529T132227Z
LAST-MODIFIED:20251211T154813Z
UID:10072025-1763368200-1763371800@www.aktivita-badessen.de
SUMMARY:Wirbelsäulenfit Sanft und Aktiv
DESCRIPTION:Sanfte und effektive Übungen für jedes Fitnesslevel\, um die Rückengesundheit im Alltag durch gezielte Bewegung zu fördern.
URL:https://www.aktivita-badessen.de/einzelkurs/wirbelsaeulenfit-sanft-und-aktiv/2025-11-17/
LOCATION:AKTIVITA Physio-Med\, Nikolaistraße 34/36\, Bad Essen\, 49152\, Deutschland
CATEGORIES:Gesundheits- und Präventionskurs
END:VEVENT
BEGIN:VEVENT
DTSTART;TZID=Europe/Berlin:20251117T083000
DTEND;TZID=Europe/Berlin:20251117T093000
DTSTAMP:20260419T151049
CREATED:20241212T130421Z
LAST-MODIFIED:20251211T134956Z
UID:10072204-1763368200-1763371800@www.aktivita-badessen.de
SUMMARY:Rehasport (Wasser)
DESCRIPTION:Schonende Ganzkörperübungen im Wasser zur Steigerung von Kraft\, Ausdauer und Beweglichkeit – gelenkschonend\, zur Schmerzlinderung und Verbesserung der Lebensqualität.
URL:https://www.aktivita-badessen.de/einzelkurs/rehasport-wasser/2025-11-17/
LOCATION:AKTIVITA SoleSpa\, Lindenstraße 100\, Bad Essen\, 49152\, Deutschland
CATEGORIES:Rehasportkurs
END:VEVENT
BEGIN:VEVENT
DTSTART;TZID=Europe/Berlin:20251117T090000
DTEND;TZID=Europe/Berlin:20251117T100000
DTSTAMP:20260419T151049
CREATED:20241203T133918Z
LAST-MODIFIED:20251211T154029Z
UID:10072007-1763370000-1763373600@www.aktivita-badessen.de
SUMMARY:Wirbelsäulenfit meets BBP
DESCRIPTION:Kombination aus der Straffung von Bauch\, Beinen\, Po und Oberkörper mit gezielten Übungen für eine starke Wirbelsäule und ganzheitliche Fitness.
URL:https://www.aktivita-badessen.de/einzelkurs/wirbelsaeulen-meets-bbp-trocken-neu/2025-11-17/
LOCATION:AKTIVITA Physio-Med\, Nikolaistraße 34/36\, Bad Essen\, 49152\, Deutschland
CATEGORIES:Gesundheits- und Präventionskurs
END:VEVENT
BEGIN:VEVENT
DTSTART;TZID=Europe/Berlin:20251117T091500
DTEND;TZID=Europe/Berlin:20251117T100000
DTSTAMP:20260419T151049
CREATED:20241204T093233Z
LAST-MODIFIED:20251211T153948Z
UID:10074197-1763370900-1763373600@www.aktivita-badessen.de
SUMMARY:Rehasport (Trocken)
DESCRIPTION:Mit physiotherapeutischen Methoden werden Kraft\, Ausdauer\, Koordination und Beweglichkeit verbessert – das Gruppentraining zielt auf die Steigerung der Leistungsfähigkeit und Schmerzlinderung ab und fördert mehr Gesundheit und Lebensqualität.
URL:https://www.aktivita-badessen.de/einzelkurs/rehasport-trocken-neu-2/2025-11-17/
LOCATION:AKTIVITA SoleSpa\, Lindenstraße 100\, Bad Essen\, 49152\, Deutschland
CATEGORIES:Rehasportkurs
END:VEVENT
BEGIN:VEVENT
DTSTART;TZID=Europe/Berlin:20251117T093000
DTEND;TZID=Europe/Berlin:20251117T103000
DTSTAMP:20260419T151049
CREATED:20241202T114536Z
LAST-MODIFIED:20251211T153923Z
UID:10074179-1763371800-1763375400@www.aktivita-badessen.de
SUMMARY:Osteoporose
DESCRIPTION:Bewegungs- und Sportprogramm zur Erhaltung von Knochendichte und Muskulatur unter fachlicher Anleitung. Kraft-\, Koordinations- und Balancetraining zur Sturzvermeidung sowie Tipps zum allgemeinen Umgang mit Osteoporose.
URL:https://www.aktivita-badessen.de/einzelkurs/osteoporose-trocken-neu/2025-11-17/
LOCATION:AKTIVITA Physio-Med\, Nikolaistraße 34/36\, Bad Essen\, 49152\, Deutschland
CATEGORIES:Funktionstrainingskurs
END:VEVENT
BEGIN:VEVENT
DTSTART;TZID=Europe/Berlin:20251117T093000
DTEND;TZID=Europe/Berlin:20251117T103000
DTSTAMP:20260419T151049
CREATED:20241204T100151Z
LAST-MODIFIED:20251211T153853Z
UID:10074723-1763371800-1763375400@www.aktivita-badessen.de
SUMMARY:Rehasport (Wasser)
DESCRIPTION:Schonende Ganzkörperübungen im Wasser zur Steigerung von Kraft\, Ausdauer und Beweglichkeit – gelenkschonend\, zur Schmerzlinderung und Verbesserung der Lebensqualität.
URL:https://www.aktivita-badessen.de/einzelkurs/rehasport-wasser-neu/2025-11-17/
LOCATION:AKTIVITA SoleSpa\, Lindenstraße 100\, Bad Essen\, 49152\, Deutschland
CATEGORIES:Rehasportkurs
END:VEVENT
BEGIN:VEVENT
DTSTART;TZID=Europe/Berlin:20251117T100000
DTEND;TZID=Europe/Berlin:20251117T104500
DTSTAMP:20260419T151049
CREATED:20241214T101657Z
LAST-MODIFIED:20251211T153752Z
UID:10074161-1763373600-1763376300@www.aktivita-badessen.de
SUMMARY:Rehasport (Trocken)
DESCRIPTION:Mit physiotherapeutischen Methoden werden Kraft\, Ausdauer\, Koordination und Beweglichkeit verbessert – das Gruppentraining zielt auf die Steigerung der Leistungsfähigkeit und Schmerzlinderung ab und fördert mehr Gesundheit und Lebensqualität.
URL:https://www.aktivita-badessen.de/einzelkurs/rehasport-trocken-3/2025-11-17/
LOCATION:AKTIVITA SoleSpa\, Lindenstraße 100\, Bad Essen\, 49152\, Deutschland
CATEGORIES:Rehasportkurs
END:VEVENT
BEGIN:VEVENT
DTSTART;TZID=Europe/Berlin:20251117T100000
DTEND;TZID=Europe/Berlin:20251117T110000
DTSTAMP:20260419T151049
CREATED:20241202T125530Z
LAST-MODIFIED:20251211T153720Z
UID:10071953-1763373600-1763377200@www.aktivita-badessen.de
SUMMARY:Pilates
DESCRIPTION:Pilates-Prinzipien wie Konzentration\, Kontrolle\, Atmung und Präzision stärken die Körpermitte\, kräftigen die Rumpfmuskulatur und fördern die Flexibilität. Ein ausgewogenes Training für mehr Kraft und Beweglichkeit.
URL:https://www.aktivita-badessen.de/einzelkurs/pilates-trocken-neu/2025-11-17/
LOCATION:AKTIVITA Physio-Med\, Nikolaistraße 34/36\, Bad Essen\, 49152\, Deutschland
CATEGORIES:Gesundheits- und Präventionskurs
END:VEVENT
BEGIN:VEVENT
DTSTART;TZID=Europe/Berlin:20251117T103000
DTEND;TZID=Europe/Berlin:20251117T113000
DTSTAMP:20260419T151049
CREATED:20241204T100338Z
LAST-MODIFIED:20251211T153654Z
UID:10074143-1763375400-1763379000@www.aktivita-badessen.de
SUMMARY:Rehasport (Wasser)
DESCRIPTION:Schonende Ganzkörperübungen im Wasser zur Steigerung von Kraft\, Ausdauer und Beweglichkeit – gelenkschonend\, zur Schmerzlinderung und Verbesserung der Lebensqualität.
URL:https://www.aktivita-badessen.de/einzelkurs/rehasport-wasser-neu-2/2025-11-17/
LOCATION:AKTIVITA SoleSpa\, Lindenstraße 100\, Bad Essen\, 49152\, Deutschland
CATEGORIES:Rehasportkurs
END:VEVENT
BEGIN:VEVENT
DTSTART;TZID=Europe/Berlin:20251117T110000
DTEND;TZID=Europe/Berlin:20251117T120000
DTSTAMP:20260419T151049
CREATED:20241203T142908Z
LAST-MODIFIED:20251211T153630Z
UID:10074125-1763377200-1763380800@www.aktivita-badessen.de
SUMMARY:Zertifiziertes Gerätetraining
DESCRIPTION:Das Ganzkörpertraining: Zertifiziertes Gerätetraining in kleinen Gruppen\, unter Anleitung eines qualifizierten Physiotherapeuten\, zur Krafterhaltung und Verbesserung des allgemeinen Wohlbefindens – einmal wöchentlich
URL:https://www.aktivita-badessen.de/einzelkurs/zirkeltraining-das-ganzkoerpertraining-trocken-neu/2025-11-17/
LOCATION:AKTIVITA Physio-Med\, Nikolaistraße 34/36\, Bad Essen\, 49152\, Deutschland
CATEGORIES:Gesundheits- und Präventionskurs
END:VEVENT
BEGIN:VEVENT
DTSTART;TZID=Europe/Berlin:20251117T114500
DTEND;TZID=Europe/Berlin:20251117T123000
DTSTAMP:20260419T151049
CREATED:20240529T145932Z
LAST-MODIFIED:20251211T154743Z
UID:10074442-1763379900-1763382600@www.aktivita-badessen.de
SUMMARY:Lungensport / COPD
DESCRIPTION:Gezieltes Kraft- und Ausdauertraining zur Förderung der Atemkapazität. Brustkorbdehnungen und Atemtechniken verbessern die Belastbarkeit und steigern die Leistungsfähigkeit im Alltag.
URL:https://www.aktivita-badessen.de/einzelkurs/copd-lungensport/2025-11-17/
LOCATION:AKTIVITA Physio-Med\, Nikolaistraße 34/36\, Bad Essen\, 49152\, Deutschland
CATEGORIES:Rehasportkurs
END:VEVENT
BEGIN:VEVENT
DTSTART;TZID=Europe/Berlin:20251117T135000
DTEND;TZID=Europe/Berlin:20251117T171000
DTSTAMP:20260419T151049
CREATED:20241204T110010Z
LAST-MODIFIED:20260105T092621Z
UID:10074107-1763387400-1763399400@www.aktivita-badessen.de
SUMMARY:Kinderschwimmen
DESCRIPTION:Kinder lernen die Schwimmgrundlagen\, verfeinern ihre Technik und Schwimmstile und arbeiten auf die Abzeichen Seepferdchen\, Seeräuber und Bronze hin (für Anfänger ab 4 Jahren). \nIn Kooperation mit: Schwimmschule Jürgen Lamping
URL:https://www.aktivita-badessen.de/einzelkurs/kinderschwimmmen-wasser-neu/2025-11-17/
LOCATION:AKTIVITA SoleSpa\, Lindenstraße 100\, Bad Essen\, 49152\, Deutschland
CATEGORIES:Schwimmschule
END:VEVENT
BEGIN:VEVENT
DTSTART;TZID=Europe/Berlin:20251117T160000
DTEND;TZID=Europe/Berlin:20251117T164500
DTSTAMP:20260419T151049
CREATED:20241204T093339Z
LAST-MODIFIED:20251211T153524Z
UID:10074089-1763395200-1763397900@www.aktivita-badessen.de
SUMMARY:Rehasport (Trocken)
DESCRIPTION:Mit physiotherapeutischen Methoden werden Kraft\, Ausdauer\, Koordination und Beweglichkeit verbessert – das Gruppentraining zielt auf die Steigerung der Leistungsfähigkeit und Schmerzlinderung ab und fördert mehr Gesundheit und Lebensqualität.
URL:https://www.aktivita-badessen.de/einzelkurs/rehasport-trocken-neu-3/2025-11-17/
LOCATION:AKTIVITA Physio-Med\, Nikolaistraße 34/36\, Bad Essen\, 49152\, Deutschland
CATEGORIES:Rehasportkurs
END:VEVENT
BEGIN:VEVENT
DTSTART;TZID=Europe/Berlin:20251117T170000
DTEND;TZID=Europe/Berlin:20251117T180000
DTSTAMP:20260419T151049
CREATED:20241210T095834Z
LAST-MODIFIED:20251211T133255Z
UID:10072275-1763398800-1763402400@www.aktivita-badessen.de
SUMMARY:Zumba®
DESCRIPTION:Ein perfektes Tanzworkout mit lateinamerikanischer und internationaler Musik. Tänze wie Merengue\, Cumbia\, Reggaeton\, Salsa und mehr sorgen für Spaß und Energie.
URL:https://www.aktivita-badessen.de/einzelkurs/zumba-2-2/2025-11-17/
LOCATION:AKTIVITA Physio-Med\, Nikolaistraße 34/36\, Bad Essen\, 49152\, Deutschland
CATEGORIES:Fitnesskurs
END:VEVENT
BEGIN:VEVENT
DTSTART;TZID=Europe/Berlin:20251117T170000
DTEND;TZID=Europe/Berlin:20251117T180000
DTSTAMP:20260419T151049
CREATED:20250217T150950Z
LAST-MODIFIED:20251211T134909Z
UID:10074666-1763398800-1763402400@www.aktivita-badessen.de
SUMMARY:Pilates
DESCRIPTION:Pilates-Prinzipien wie Konzentration\, Kontrolle\, Atmung und Präzision stärken die Körpermitte\, kräftigen die Rumpfmuskulatur und fördern die Flexibilität. Ein ausgewogenes Training für mehr Kraft und Beweglichkeit.
URL:https://www.aktivita-badessen.de/einzelkurs/pilates/2025-11-17/
LOCATION:AKTIVITA SoleSpa\, Lindenstraße 100\, Bad Essen\, 49152\, Deutschland
CATEGORIES:Fitnesskurs
END:VEVENT
BEGIN:VEVENT
DTSTART;TZID=Europe/Berlin:20251117T170000
DTEND;TZID=Europe/Berlin:20251117T183000
DTSTAMP:20260419T151049
CREATED:20250217T104359Z
LAST-MODIFIED:20251211T134847Z
UID:10072150-1763398800-1763404200@www.aktivita-badessen.de
SUMMARY:Yoga\, 90 Minuten
DESCRIPTION:Im Fokus stehen Achtsamkeit\, Konzentration und Körperwahrnehmung. Durch bewusstes Atmen wird die Flexibilität gefördert und eine entspannte Ausgeglichenheit erreicht.
URL:https://www.aktivita-badessen.de/einzelkurs/yoga-4-2-2-2-2/2025-11-17/
LOCATION:AKTIVITA Physio-Med\, Nikolaistraße 34/36\, Bad Essen\, 49152\, Deutschland
CATEGORIES:Fitnesskurs
END:VEVENT
BEGIN:VEVENT
DTSTART;TZID=Europe/Berlin:20251117T171500
DTEND;TZID=Europe/Berlin:20251117T180000
DTSTAMP:20260419T151049
CREATED:20241202T120835Z
LAST-MODIFIED:20251211T153453Z
UID:10074071-1763399700-1763402400@www.aktivita-badessen.de
SUMMARY:Aquafit
DESCRIPTION:Vielseitiges Ganzkörpertraining im Wasser\, sowohl mit als auch ohne Geräte\, begleitet von Musik und therapeutischer Anleitung.
URL:https://www.aktivita-badessen.de/einzelkurs/aquafit-wassser-neu/2025-11-17/
LOCATION:AKTIVITA SoleSpa\, Lindenstraße 100\, Bad Essen\, 49152\, Deutschland
CATEGORIES:Gesundheits- und Präventionskurs
END:VEVENT
BEGIN:VEVENT
DTSTART;TZID=Europe/Berlin:20251117T180000
DTEND;TZID=Europe/Berlin:20251117T190000
DTSTAMP:20260419T151049
CREATED:20241204T084205Z
LAST-MODIFIED:20251211T153327Z
UID:10074053-1763402400-1763406000@www.aktivita-badessen.de
SUMMARY:Zertifiziertes Gerätetraining
DESCRIPTION:Das Ganzkörpertraining: Zertifiziertes Gerätetraining in kleinen Gruppen\, unter Anleitung eines qualifizierten Physiotherapeuten\, zur Krafterhaltung und Verbesserung des allgemeinen Wohlbefindens – einmal wöchentlich
URL:https://www.aktivita-badessen.de/einzelkurs/zirkeltraining-das-ganzkoerpertraining-trocken-neu-2/2025-11-17/
LOCATION:AKTIVITA SoleSpa\, Lindenstraße 100\, Bad Essen\, 49152\, Deutschland
CATEGORIES:Gesundheits- und Präventionskurs
END:VEVENT
BEGIN:VEVENT
DTSTART;TZID=Europe/Berlin:20251117T180000
DTEND;TZID=Europe/Berlin:20251117T190000
DTSTAMP:20260419T151049
CREATED:20241204T100431Z
LAST-MODIFIED:20251211T153302Z
UID:10074035-1763402400-1763406000@www.aktivita-badessen.de
SUMMARY:Rehasport (Wasser)
DESCRIPTION:Schonende Ganzkörperübungen im Wasser zur Steigerung von Kraft\, Ausdauer und Beweglichkeit – gelenkschonend\, zur Schmerzlinderung und Verbesserung der Lebensqualität.
URL:https://www.aktivita-badessen.de/einzelkurs/rehasport-wasser-neu-3/2025-11-17/
LOCATION:AKTIVITA SoleSpa\, Lindenstraße 100\, Bad Essen\, 49152\, Deutschland
CATEGORIES:Rehasportkurs
END:VEVENT
BEGIN:VEVENT
DTSTART;TZID=Europe/Berlin:20251117T180000
DTEND;TZID=Europe/Berlin:20251117T190000
DTSTAMP:20260419T151049
CREATED:20241210T093517Z
LAST-MODIFIED:20251211T135211Z
UID:10072257-1763402400-1763406000@www.aktivita-badessen.de
SUMMARY:Power-Workout
DESCRIPTION:Ein abwechslungsreiches Intervalltraining mit und ohne Kleingeräte\, bei dem das eigene Körpergewicht im Fokus steht. Power ist garantiert.
URL:https://www.aktivita-badessen.de/einzelkurs/power-workout-2/2025-11-17/
LOCATION:AKTIVITA SoleSpa\, Lindenstraße 100\, Bad Essen\, 49152\, Deutschland
CATEGORIES:Fitnesskurs
END:VEVENT
BEGIN:VEVENT
DTSTART;TZID=Europe/Berlin:20251117T184500
DTEND;TZID=Europe/Berlin:20251117T193000
DTSTAMP:20260419T151049
CREATED:20241204T093503Z
LAST-MODIFIED:20251211T153236Z
UID:10074017-1763405100-1763407800@www.aktivita-badessen.de
SUMMARY:Rehasport (Trocken)
DESCRIPTION:Mit physiotherapeutischen Methoden werden Kraft\, Ausdauer\, Koordination und Beweglichkeit verbessert – das Gruppentraining zielt auf die Steigerung der Leistungsfähigkeit und Schmerzlinderung ab und fördert mehr Gesundheit und Lebensqualität.
URL:https://www.aktivita-badessen.de/einzelkurs/rehasport-trocken-neu-4/2025-11-17/
LOCATION:AKTIVITA Physio-Med\, Nikolaistraße 34/36\, Bad Essen\, 49152\, Deutschland
CATEGORIES:Rehasportkurs
END:VEVENT
BEGIN:VEVENT
DTSTART;TZID=Europe/Berlin:20251117T190000
DTEND;TZID=Europe/Berlin:20251117T200000
DTSTAMP:20260419T151049
CREATED:20240529T125840Z
LAST-MODIFIED:20251211T154720Z
UID:10071989-1763406000-1763409600@www.aktivita-badessen.de
SUMMARY:Wirbelsäulenfit
DESCRIPTION:Effiziente\, dynamische Übungen mit Musik für einen starken Rücken – zur Steigerung von Muskelkraft\, Beweglichkeit und Koordination.
URL:https://www.aktivita-badessen.de/einzelkurs/wirbelsaeulenfit-1/2025-11-17/
LOCATION:AKTIVITA Physio-Med\, Nikolaistraße 34/36\, Bad Essen\, 49152\, Deutschland
CATEGORIES:Gesundheits- und Präventionskurs
END:VEVENT
BEGIN:VEVENT
DTSTART;TZID=Europe/Berlin:20251117T190000
DTEND;TZID=Europe/Berlin:20251117T200000
DTSTAMP:20260419T151049
CREATED:20241204T100518Z
LAST-MODIFIED:20251211T153202Z
UID:10073999-1763406000-1763409600@www.aktivita-badessen.de
SUMMARY:Rehasport (Wasser)
DESCRIPTION:Schonende Ganzkörperübungen im Wasser zur Steigerung von Kraft\, Ausdauer und Beweglichkeit – gelenkschonend\, zur Schmerzlinderung und Verbesserung der Lebensqualität.
URL:https://www.aktivita-badessen.de/einzelkurs/rehasport-wasser-neu-4/2025-11-17/
LOCATION:AKTIVITA SoleSpa\, Lindenstraße 100\, Bad Essen\, 49152\, Deutschland
CATEGORIES:Rehasportkurs
END:VEVENT
BEGIN:VEVENT
DTSTART;TZID=Europe/Berlin:20251117T190000
DTEND;TZID=Europe/Berlin:20251117T200000
DTSTAMP:20260419T151049
CREATED:20241210T090103Z
LAST-MODIFIED:20251211T135045Z
UID:10072239-1763406000-1763409600@www.aktivita-badessen.de
SUMMARY:Bauch-Beine-Po
DESCRIPTION:Gezieltes Training zur Straffung und Kräftigung von Bauch\, Beinen\, Po und Oberkörper – ein umfassendes Körperworkout.
URL:https://www.aktivita-badessen.de/einzelkurs/bauch-beine-po-2/2025-11-17/
LOCATION:AKTIVITA SoleSpa\, Lindenstraße 100\, Bad Essen\, 49152\, Deutschland
CATEGORIES:Fitnesskurs
END:VEVENT
BEGIN:VEVENT
DTSTART;TZID=Europe/Berlin:20251117T193000
DTEND;TZID=Europe/Berlin:20251117T200000
DTSTAMP:20260419T151049
CREATED:20241202T111645Z
LAST-MODIFIED:20251211T153133Z
UID:10073981-1763407800-1763409600@www.aktivita-badessen.de
SUMMARY:Funktionstraining (Trocken)
DESCRIPTION:Gezieltes Training zur Verbesserung der Bewegungsfunktion\, Schmerzlinderung und Steigerung der Beweglichkeit bei bestehenden Erkrankungen\, mit physiotherapeutischen Methoden und fachlicher Anleitung.
URL:https://www.aktivita-badessen.de/einzelkurs/funktionstraining-trocken-neu-3/2025-11-17/
LOCATION:AKTIVITA Physio-Med\, Nikolaistraße 34/36\, Bad Essen\, 49152\, Deutschland
CATEGORIES:Funktionstrainingskurs
END:VEVENT
BEGIN:VEVENT
DTSTART;TZID=Europe/Berlin:20251117T200000
DTEND;TZID=Europe/Berlin:20251117T204500
DTSTAMP:20260419T151049
CREATED:20241204T093616Z
LAST-MODIFIED:20251211T153106Z
UID:10073963-1763409600-1763412300@www.aktivita-badessen.de
SUMMARY:Rehasport (Trocken)
DESCRIPTION:Mit physiotherapeutischen Methoden werden Kraft\, Ausdauer\, Koordination und Beweglichkeit verbessert – das Gruppentraining zielt auf die Steigerung der Leistungsfähigkeit und Schmerzlinderung ab und fördert mehr Gesundheit und Lebensqualität.
URL:https://www.aktivita-badessen.de/einzelkurs/rehasport-trocken-neu-5/2025-11-17/
LOCATION:AKTIVITA SoleSpa\, Lindenstraße 100\, Bad Essen\, 49152\, Deutschland
CATEGORIES:Rehasportkurs
END:VEVENT
BEGIN:VEVENT
DTSTART;TZID=Europe/Berlin:20251117T200000
DTEND;TZID=Europe/Berlin:20251117T210000
DTSTAMP:20260419T151049
CREATED:20241202T125629Z
LAST-MODIFIED:20251211T153034Z
UID:10071971-1763409600-1763413200@www.aktivita-badessen.de
SUMMARY:Pilates
DESCRIPTION:Pilates-Prinzipien wie Konzentration\, Kontrolle\, Atmung und Präzision stärken die Körpermitte\, kräftigen die Rumpfmuskulatur und fördern die Flexibilität. Ein ausgewogenes Training für mehr Kraft und Beweglichkeit.
URL:https://www.aktivita-badessen.de/einzelkurs/pilates-trocken-neu-2/2025-11-17/
LOCATION:AKTIVITA Physio-Med\, Nikolaistraße 34/36\, Bad Essen\, 49152\, Deutschland
CATEGORIES:Gesundheits- und Präventionskurs
END:VEVENT
BEGIN:VEVENT
DTSTART;TZID=Europe/Berlin:20251117T201500
DTEND;TZID=Europe/Berlin:20251117T211500
DTSTAMP:20260419T151049
CREATED:20241202T124229Z
LAST-MODIFIED:20251211T153005Z
UID:10071935-1763410500-1763414100@www.aktivita-badessen.de
SUMMARY:Funktion meets Form
DESCRIPTION:Kraft-Ausdauertraining für Schulter\, Nacken und Rücken – ideal zur Ergänzung bei sitzender Tätigkeit\, mit und ohne Gewichte.
URL:https://www.aktivita-badessen.de/einzelkurs/funktion-meets-form-trocken-neu/2025-11-17/
LOCATION:AKTIVITA Physio-Med\, Nikolaistraße 34/36\, Bad Essen\, 49152\, Deutschland
CATEGORIES:Gesundheits- und Präventionskurs
END:VEVENT
END:VCALENDAR