BEGIN:VCALENDAR
VERSION:2.0
PRODID:-//AKTIVITA Bad Essen - ECPv6.15.20//NONSGML v1.0//EN
CALSCALE:GREGORIAN
METHOD:PUBLISH
X-ORIGINAL-URL:https://www.aktivita-badessen.de
X-WR-CALDESC:Kurse für AKTIVITA Bad Essen
REFRESH-INTERVAL;VALUE=DURATION:PT1H
X-Robots-Tag:noindex
X-PUBLISHED-TTL:PT1H
BEGIN:VTIMEZONE
TZID:Europe/Berlin
BEGIN:DAYLIGHT
TZOFFSETFROM:+0100
TZOFFSETTO:+0200
TZNAME:CEST
DTSTART:20240331T010000
END:DAYLIGHT
BEGIN:STANDARD
TZOFFSETFROM:+0200
TZOFFSETTO:+0100
TZNAME:CET
DTSTART:20241027T010000
END:STANDARD
BEGIN:DAYLIGHT
TZOFFSETFROM:+0100
TZOFFSETTO:+0200
TZNAME:CEST
DTSTART:20250330T010000
END:DAYLIGHT
BEGIN:STANDARD
TZOFFSETFROM:+0200
TZOFFSETTO:+0100
TZNAME:CET
DTSTART:20251026T010000
END:STANDARD
BEGIN:DAYLIGHT
TZOFFSETFROM:+0100
TZOFFSETTO:+0200
TZNAME:CEST
DTSTART:20260329T010000
END:DAYLIGHT
BEGIN:STANDARD
TZOFFSETFROM:+0200
TZOFFSETTO:+0100
TZNAME:CET
DTSTART:20261025T010000
END:STANDARD
END:VTIMEZONE
BEGIN:VEVENT
DTSTART;TZID=Europe/Berlin:20251120T080000
DTEND;TZID=Europe/Berlin:20251120T090000
DTSTAMP:20260419T195613
CREATED:20250227T163826Z
LAST-MODIFIED:20251211T150833Z
UID:10073237-1763625600-1763629200@www.aktivita-badessen.de
SUMMARY:Zertifiziertes Gerätetraining
DESCRIPTION:Das Ganzkörpertraining: Zertifiziertes Gerätetraining in kleinen Gruppen\, unter Anleitung eines qualifizierten Physiotherapeuten\, zur Krafterhaltung und Verbesserung des allgemeinen Wohlbefindens – einmal wöchentlich.
URL:https://www.aktivita-badessen.de/einzelkurs/zertifiziertes-geraetetraining/2025-11-20/
LOCATION:AKTIVITA SoleSpa\, Lindenstraße 100\, Bad Essen\, 49152\, Deutschland
CATEGORIES:Gesundheits- und Präventionskurs
END:VEVENT
BEGIN:VEVENT
DTSTART;TZID=Europe/Berlin:20251120T083000
DTEND;TZID=Europe/Berlin:20251120T093000
DTSTAMP:20260419T195613
CREATED:20241204T101750Z
LAST-MODIFIED:20251211T150802Z
UID:10073220-1763627400-1763631000@www.aktivita-badessen.de
SUMMARY:Rehasport (Wasser)
DESCRIPTION:Schonende Ganzkörperübungen im Wasser zur Steigerung von Kraft\, Ausdauer und Beweglichkeit – gelenkschonend\, zur Schmerzlinderung und Verbesserung der Lebensqualität.
URL:https://www.aktivita-badessen.de/einzelkurs/rehasport-wasser-neu-17/2025-11-20/
LOCATION:AKTIVITA SoleSpa\, Lindenstraße 100\, Bad Essen\, 49152\, Deutschland
CATEGORIES:Rehasportkurs
END:VEVENT
BEGIN:VEVENT
DTSTART;TZID=Europe/Berlin:20251120T093000
DTEND;TZID=Europe/Berlin:20251120T103000
DTSTAMP:20260419T195613
CREATED:20241202T115214Z
LAST-MODIFIED:20251211T150703Z
UID:10073203-1763631000-1763634600@www.aktivita-badessen.de
SUMMARY:Osteoporose
DESCRIPTION:Bewegungs- und Sportprogramm zur Erhaltung von Knochendichte und Muskulatur unter fachlicher Anleitung. Kraft-\, Koordinations- und Balancetraining zur Sturzvermeidung sowie Tipps zum allgemeinen Umgang mit Osteoporose.
URL:https://www.aktivita-badessen.de/einzelkurs/osteoporose-trocken-neu-3/2025-11-20/
LOCATION:AKTIVITA Physio-Med\, Nikolaistraße 34/36\, Bad Essen\, 49152\, Deutschland
CATEGORIES:Funktionstrainingskurs
END:VEVENT
BEGIN:VEVENT
DTSTART;TZID=Europe/Berlin:20251120T093000
DTEND;TZID=Europe/Berlin:20251120T103000
DTSTAMP:20260419T195613
CREATED:20241204T101905Z
LAST-MODIFIED:20251211T150637Z
UID:10073186-1763631000-1763634600@www.aktivita-badessen.de
SUMMARY:Rehasport (Wasser)
DESCRIPTION:Schonende Ganzkörperübungen im Wasser zur Steigerung von Kraft\, Ausdauer und Beweglichkeit – gelenkschonend\, zur Schmerzlinderung und Verbesserung der Lebensqualität.
URL:https://www.aktivita-badessen.de/einzelkurs/rehasport-wasser-neu-18/2025-11-20/
LOCATION:AKTIVITA SoleSpa\, Lindenstraße 100\, Bad Essen\, 49152\, Deutschland
CATEGORIES:Rehasportkurs
END:VEVENT
BEGIN:VEVENT
DTSTART;TZID=Europe/Berlin:20251120T093000
DTEND;TZID=Europe/Berlin:20251120T103000
DTSTAMP:20260419T195613
CREATED:20250714T072624Z
LAST-MODIFIED:20251211T130303Z
UID:10074642-1763631000-1763634600@www.aktivita-badessen.de
SUMMARY:Pilates
DESCRIPTION:Pilates-Prinzipien wie Konzentration\, Kontrolle\, Atmung und Präzision stärken die Körpermitte\, kräftigen die Rumpfmuskulatur und fördern die Flexibilität. Ein ausgewogenes Training für mehr Kraft und Beweglichkeit – mit Debby.
URL:https://www.aktivita-badessen.de/einzelkurs/pilates-2/2025-11-20/
LOCATION:AKTIVITA SoleSpa\, Lindenstraße 100\, Bad Essen\, 49152\, Deutschland
CATEGORIES:Fitnesskurs
END:VEVENT
BEGIN:VEVENT
DTSTART;TZID=Europe/Berlin:20251120T103000
DTEND;TZID=Europe/Berlin:20251120T110000
DTSTAMP:20260419T195613
CREATED:20241202T105536Z
LAST-MODIFIED:20251211T150559Z
UID:10073169-1763634600-1763636400@www.aktivita-badessen.de
SUMMARY:Funktionstraining (Wasser)
DESCRIPTION:Schonendes Training im Wasser zur Verbesserung Ihrer Bewegungsfunktion\, Schmerzlinderung und Reduzierung von Belastungen.
URL:https://www.aktivita-badessen.de/einzelkurs/funktionstraining-wasser-neu-6/2025-11-20/
LOCATION:AKTIVITA SoleSpa\, Lindenstraße 100\, Bad Essen\, 49152\, Deutschland
CATEGORIES:Funktionstrainingskurs
END:VEVENT
BEGIN:VEVENT
DTSTART;TZID=Europe/Berlin:20251120T110000
DTEND;TZID=Europe/Berlin:20251120T120000
DTSTAMP:20260419T195613
CREATED:20241202T132227Z
LAST-MODIFIED:20251211T135711Z
UID:10072412-1763636400-1763640000@www.aktivita-badessen.de
SUMMARY:Qigong
DESCRIPTION:Sanfte\, fließende Bewegungen und ruhige Atemübungen für entspannte Konzentration und harmonische Balance von Körper\, Geist und Seele.
URL:https://www.aktivita-badessen.de/einzelkurs/qigong-trocken-neu/2025-11-20/
LOCATION:AKTIVITA Physio-Med\, Nikolaistraße 34/36\, Bad Essen\, 49152\, Deutschland
CATEGORIES:Gesundheits- und Präventionskurs
END:VEVENT
BEGIN:VEVENT
DTSTART;TZID=Europe/Berlin:20251120T110000
DTEND;TZID=Europe/Berlin:20251120T120000
DTSTAMP:20260419T195613
CREATED:20241204T090554Z
LAST-MODIFIED:20251211T150532Z
UID:10073152-1763636400-1763640000@www.aktivita-badessen.de
SUMMARY:Zertifiziertes Gerätetraining
DESCRIPTION:Das Ganzkörpertraining: Zertifiziertes Gerätetraining in kleinen Gruppen\, unter Anleitung eines qualifizierten Physiotherapeuten\, zur Krafterhaltung und Verbesserung des allgemeinen Wohlbefindens – einmal wöchentlich.
URL:https://www.aktivita-badessen.de/einzelkurs/zirkeltraining-das-ganzkoerpertraining-trocken-neu-7/2025-11-20/
LOCATION:AKTIVITA SoleSpa\, Lindenstraße 100\, Bad Essen\, 49152\, Deutschland
CATEGORIES:Gesundheits- und Präventionskurs
END:VEVENT
BEGIN:VEVENT
DTSTART;TZID=Europe/Berlin:20251120T110000
DTEND;TZID=Europe/Berlin:20251120T120000
DTSTAMP:20260419T195613
CREATED:20241204T102013Z
LAST-MODIFIED:20251211T150500Z
UID:10073135-1763636400-1763640000@www.aktivita-badessen.de
SUMMARY:Rehasport (Wasser)
DESCRIPTION:Schonende Ganzkörperübungen im Wasser zur Steigerung von Kraft\, Ausdauer und Beweglichkeit – gelenkschonend\, zur Schmerzlinderung und Verbesserung der Lebensqualität.
URL:https://www.aktivita-badessen.de/einzelkurs/rehasport-wasser-neu-19/2025-11-20/
LOCATION:AKTIVITA SoleSpa\, Lindenstraße 100\, Bad Essen\, 49152\, Deutschland
CATEGORIES:Rehasportkurs
END:VEVENT
BEGIN:VEVENT
DTSTART;TZID=Europe/Berlin:20251120T110000
DTEND;TZID=Europe/Berlin:20251120T120000
DTSTAMP:20260419T195613
CREATED:20250415T085450Z
LAST-MODIFIED:20251211T131716Z
UID:10072043-1763636400-1763640000@www.aktivita-badessen.de
SUMMARY:Seniorengymnastik
DESCRIPTION:Funktionelles Training bei Osteoporose\, Arthrose und ähnlichen Beschwerden. Die Übungen stärken Kraft\, Mobilität und Sicherheit im Alltag – auch im Sitzen möglich. Der Kurs ist barrierefrei und geeignet für Teilnehmende mit Rollator oder Gehhilfe.
URL:https://www.aktivita-badessen.de/einzelkurs/hockergymnastik-2/2025-11-20/
LOCATION:AKTIVITA Physio-Med\, Nikolaistraße 34/36\, Bad Essen\, 49152\, Deutschland
CATEGORIES:Funktionstrainingskurs
END:VEVENT
BEGIN:VEVENT
DTSTART;TZID=Europe/Berlin:20251120T133000
DTEND;TZID=Europe/Berlin:20251120T155000
DTSTAMP:20260419T195613
CREATED:20241204T110110Z
LAST-MODIFIED:20260105T092550Z
UID:10073118-1763645400-1763653800@www.aktivita-badessen.de
SUMMARY:Kinderschwimmen
DESCRIPTION:Kinder lernen die Schwimmgrundlagen\, verfeinern ihre Technik und Schwimmstile und arbeiten auf die Abzeichen Seepferdchen\, Seeräuber und Bronze hin (für Anfänger ab 4 Jahren). \nIn Kooperation mit: Schwimmschule Jürgen Lamping
URL:https://www.aktivita-badessen.de/einzelkurs/kinderschwimmen-wasser-neu/2025-11-20/
LOCATION:AKTIVITA SoleSpa\, Lindenstraße 100\, Bad Essen\, 49152\, Deutschland
CATEGORIES:Schwimmschule
END:VEVENT
BEGIN:VEVENT
DTSTART;TZID=Europe/Berlin:20251120T140000
DTEND;TZID=Europe/Berlin:20251120T173000
DTSTAMP:20260419T195613
CREATED:20241204T113302Z
LAST-MODIFIED:20251211T150433Z
UID:10073101-1763647200-1763659800@www.aktivita-badessen.de
SUMMARY:Ballettschule Watkins
DESCRIPTION:Ballett für Kinder bis zu jungen Erwachsenen – für alle\, die ihre tänzerischen Fähigkeiten entwickeln möchten. \nIn Kooperation mit: Balettschule Watkins
URL:https://www.aktivita-badessen.de/einzelkurs/ballettschule-trocken-neu-2/2025-11-20/
CATEGORIES:Tanzkurs
END:VEVENT
BEGIN:VEVENT
DTSTART;TZID=Europe/Berlin:20251120T160000
DTEND;TZID=Europe/Berlin:20251120T170000
DTSTAMP:20260419T195613
CREATED:20241204T102106Z
LAST-MODIFIED:20251211T150400Z
UID:10073084-1763654400-1763658000@www.aktivita-badessen.de
SUMMARY:Rehasport (Wasser)
DESCRIPTION:Schonende Ganzkörperübungen im Wasser zur Steigerung von Kraft\, Ausdauer und Beweglichkeit – gelenkschonend\, zur Schmerzlinderung und Verbesserung der Lebensqualität.
URL:https://www.aktivita-badessen.de/einzelkurs/rehasport-wasser-neu-20/2025-11-20/
LOCATION:AKTIVITA SoleSpa\, Lindenstraße 100\, Bad Essen\, 49152\, Deutschland
CATEGORIES:Rehasportkurs
END:VEVENT
BEGIN:VEVENT
DTSTART;TZID=Europe/Berlin:20251120T163000
DTEND;TZID=Europe/Berlin:20251120T171500
DTSTAMP:20260419T195613
CREATED:20241213T152644Z
LAST-MODIFIED:20251211T145949Z
UID:10073067-1763656200-1763658900@www.aktivita-badessen.de
SUMMARY:Rehasport (Trocken)
DESCRIPTION:Mit physiotherapeutischen Methoden werden Kraft\, Ausdauer\, Koordination und Beweglichkeit verbessert – das Gruppentraining zielt auf die Steigerung der Leistungsfähigkeit und Schmerzlinderung ab und fördert mehr Gesundheit und Lebensqualität.
URL:https://www.aktivita-badessen.de/einzelkurs/rehasport-trocken-2/2025-11-20/
LOCATION:AKTIVITA SoleSpa\, Lindenstraße 100\, Bad Essen\, 49152\, Deutschland
CATEGORIES:Rehasportkurs
END:VEVENT
BEGIN:VEVENT
DTSTART;TZID=Europe/Berlin:20251120T170000
DTEND;TZID=Europe/Berlin:20251120T180000
DTSTAMP:20260419T195613
CREATED:20241204T102205Z
LAST-MODIFIED:20251211T145917Z
UID:10073050-1763658000-1763661600@www.aktivita-badessen.de
SUMMARY:Rehasport (Wasser)
DESCRIPTION:Schonende Ganzkörperübungen im Wasser zur Steigerung von Kraft\, Ausdauer und Beweglichkeit – gelenkschonend\, zur Schmerzlinderung und Verbesserung der Lebensqualität.
URL:https://www.aktivita-badessen.de/einzelkurs/rehasport-wasser-neu-21/2025-11-20/
LOCATION:AKTIVITA SoleSpa\, Lindenstraße 100\, Bad Essen\, 49152\, Deutschland
CATEGORIES:Rehasportkurs
END:VEVENT
BEGIN:VEVENT
DTSTART;TZID=Europe/Berlin:20251120T171500
DTEND;TZID=Europe/Berlin:20251120T174500
DTSTAMP:20260419T195613
CREATED:20241216T104556Z
LAST-MODIFIED:20251211T135025Z
UID:10072222-1763658900-1763660700@www.aktivita-badessen.de
SUMMARY:Funktionstraining (Trocken)
DESCRIPTION:
URL:https://www.aktivita-badessen.de/einzelkurs/funktonstairining-trocken/2025-11-20/
LOCATION:AKTIVITA SoleSpa\, Lindenstraße 100\, Bad Essen\, 49152\, Deutschland
CATEGORIES:Funktionstrainingskurs
END:VEVENT
BEGIN:VEVENT
DTSTART;TZID=Europe/Berlin:20251120T174500
DTEND;TZID=Europe/Berlin:20251120T183000
DTSTAMP:20260419T195613
CREATED:20241204T095729Z
LAST-MODIFIED:20251211T145840Z
UID:10073033-1763660700-1763663400@www.aktivita-badessen.de
SUMMARY:Rehasport (Trocken)
DESCRIPTION:Mit physiotherapeutischen Methoden werden Kraft\, Ausdauer\, Koordination und Beweglichkeit verbessert – das Gruppentraining zielt auf die Steigerung der Leistungsfähigkeit und Schmerzlinderung ab und fördert mehr Gesundheit und Lebensqualität.
URL:https://www.aktivita-badessen.de/einzelkurs/rehasport-trocken-neu-14/2025-11-20/
LOCATION:AKTIVITA Physio-Med\, Nikolaistraße 34/36\, Bad Essen\, 49152\, Deutschland
CATEGORIES:Rehasportkurs
END:VEVENT
BEGIN:VEVENT
DTSTART;TZID=Europe/Berlin:20251120T174500
DTEND;TZID=Europe/Berlin:20251120T184500
DTSTAMP:20260419T195613
CREATED:20241202T093512Z
LAST-MODIFIED:20251211T135642Z
UID:10072395-1763660700-1763664300@www.aktivita-badessen.de
SUMMARY:Yoga\, 60 Minuten
DESCRIPTION:Im Fokus stehen Achtsamkeit\, Konzentration und Körperwahrnehmung. Durch bewusstes Atmen wird die Flexibilität gefördert und eine entspannte Ausgeglichenheit erreicht.
URL:https://www.aktivita-badessen.de/einzelkurs/yoga-3-2-2/2025-11-20/
LOCATION:AKTIVITA SoleSpa\, Lindenstraße 100\, Bad Essen\, 49152\, Deutschland
CATEGORIES:Fitnesskurs
END:VEVENT
BEGIN:VEVENT
DTSTART;TZID=Europe/Berlin:20251120T180000
DTEND;TZID=Europe/Berlin:20251120T190000
DTSTAMP:20260419T195613
CREATED:20241204T090340Z
LAST-MODIFIED:20251211T145425Z
UID:10073016-1763661600-1763665200@www.aktivita-badessen.de
SUMMARY:Zertifiziertes Gerätetraining
DESCRIPTION:Das Ganzkörpertraining: Zertifiziertes Gerätetraining in kleinen Gruppen\, unter Anleitung eines qualifizierten Physiotherapeuten\, zur Krafterhaltung und Verbesserung des allgemeinen Wohlbefindens – einmal wöchentlich.
URL:https://www.aktivita-badessen.de/einzelkurs/zirkeltraining-das-ganzkoerpertraining-trocken-neu-6/2025-11-20/
LOCATION:AKTIVITA Physio-Med\, Nikolaistraße 34/36\, Bad Essen\, 49152\, Deutschland
CATEGORIES:Gesundheits- und Präventionskurs
END:VEVENT
BEGIN:VEVENT
DTSTART;TZID=Europe/Berlin:20251120T180000
DTEND;TZID=Europe/Berlin:20251120T190000
DTSTAMP:20260419T195613
CREATED:20241204T102305Z
LAST-MODIFIED:20251211T144026Z
UID:10072999-1763661600-1763665200@www.aktivita-badessen.de
SUMMARY:Rehasport (Wasser)
DESCRIPTION:Schonende Ganzkörperübungen im Wasser zur Steigerung von Kraft\, Ausdauer und Beweglichkeit – gelenkschonend\, zur Schmerzlinderung und Verbesserung der Lebensqualität.
URL:https://www.aktivita-badessen.de/einzelkurs/rehasport-wasser-neu-22/2025-11-20/
LOCATION:AKTIVITA SoleSpa\, Lindenstraße 100\, Bad Essen\, 49152\, Deutschland
CATEGORIES:Rehasportkurs
END:VEVENT
BEGIN:VEVENT
DTSTART;TZID=Europe/Berlin:20251120T183000
DTEND;TZID=Europe/Berlin:20251120T193000
DTSTAMP:20260419T195613
CREATED:20241202T132906Z
LAST-MODIFIED:20251211T143920Z
UID:10072982-1763663400-1763667000@www.aktivita-badessen.de
SUMMARY:Qigong
DESCRIPTION:Sanfte\, fließende Bewegungen und ruhige Atemübungen für entspannte Konzentration und harmonische Balance von Körper\, Geist und Seele.
URL:https://www.aktivita-badessen.de/einzelkurs/qigong-trocken-neu-3/2025-11-20/
LOCATION:AKTIVITA Physio-Med\, Nikolaistraße 34/36\, Bad Essen\, 49152\, Deutschland
CATEGORIES:Gesundheits- und Präventionskurs
END:VEVENT
BEGIN:VEVENT
DTSTART;TZID=Europe/Berlin:20251120T190000
DTEND;TZID=Europe/Berlin:20251120T193000
DTSTAMP:20260419T195613
CREATED:20241202T105713Z
LAST-MODIFIED:20251211T143847Z
UID:10072965-1763665200-1763667000@www.aktivita-badessen.de
SUMMARY:Funktionstraining (Wasser)
DESCRIPTION:Schonendes Training im Wasser zur Verbesserung Ihrer Bewegungsfunktion\, Schmerzlinderung und Reduzierung von Belastungen.
URL:https://www.aktivita-badessen.de/einzelkurs/funktionstraining-wasser-neu-7/2025-11-20/
LOCATION:AKTIVITA SoleSpa\, Lindenstraße 100\, Bad Essen\, 49152\, Deutschland
CATEGORIES:Funktionstrainingskurs
END:VEVENT
BEGIN:VEVENT
DTSTART;TZID=Europe/Berlin:20251120T190000
DTEND;TZID=Europe/Berlin:20251120T200000
DTSTAMP:20260419T195613
CREATED:20241202T101044Z
LAST-MODIFIED:20251211T143806Z
UID:10072948-1763665200-1763668800@www.aktivita-badessen.de
SUMMARY:Langhantel-Workout
DESCRIPTION:Kraft-Ausdauertraining mit der Langhantel – ein intensives Workout für den gesamten Körper\, das Kraft und Ausdauer steigert.
URL:https://www.aktivita-badessen.de/einzelkurs/langhantel-workouttrocken-neu-2/2025-11-20/
LOCATION:AKTIVITA SoleSpa\, Lindenstraße 100\, Bad Essen\, 49152\, Deutschland
CATEGORIES:Fitnesskurs
END:VEVENT
BEGIN:VEVENT
DTSTART;TZID=Europe/Berlin:20251120T193000
DTEND;TZID=Europe/Berlin:20251120T203000
DTSTAMP:20260419T195613
CREATED:20240529T130139Z
LAST-MODIFIED:20251211T154211Z
UID:10074285-1763667000-1763670600@www.aktivita-badessen.de
SUMMARY:Wirbelsäulenfit
DESCRIPTION:Effiziente\, dynamische Übungen mit Musik für einen starken Rücken – zur Steigerung von Muskelkraft\, Beweglichkeit und Koordination.
URL:https://www.aktivita-badessen.de/einzelkurs/wirbelsaeulenfit-3/2025-11-20/
LOCATION:AKTIVITA Physio-Med\, Nikolaistraße 34/36\, Bad Essen\, 49152\, Deutschland
CATEGORIES:Gesundheits- und Präventionskurs
END:VEVENT
BEGIN:VEVENT
DTSTART;TZID=Europe/Berlin:20251120T193000
DTEND;TZID=Europe/Berlin:20251120T203000
DTSTAMP:20260419T195613
CREATED:20241213T123032Z
LAST-MODIFIED:20251211T143729Z
UID:10072914-1763667000-1763670600@www.aktivita-badessen.de
SUMMARY:Rehasport (Wasser)
DESCRIPTION:Schonende Ganzkörperübungen im Wasser zur Steigerung von Kraft\, Ausdauer und Beweglichkeit – gelenkschonend\, zur Schmerzlinderung und Verbesserung der Lebensqualität.
URL:https://www.aktivita-badessen.de/einzelkurs/rehasport-wasser-2/2025-11-20/
LOCATION:AKTIVITA SoleSpa\, Lindenstraße 100\, Bad Essen\, 49152\, Deutschland
CATEGORIES:Rehasportkurs
END:VEVENT
BEGIN:VEVENT
DTSTART;TZID=Europe/Berlin:20251120T200000
DTEND;TZID=Europe/Berlin:20251120T210000
DTSTAMP:20260419T195613
CREATED:20241202T124025Z
LAST-MODIFIED:20251211T143701Z
UID:10072897-1763668800-1763672400@www.aktivita-badessen.de
SUMMARY:Funktion meets Form Männer
DESCRIPTION:Ausgleichstraining mit gezielten Übungen zur Reduzierung einseitiger Belastungen sowie zur Verbesserung der Koordination und Beweglichkeit.
URL:https://www.aktivita-badessen.de/einzelkurs/funktion-meets-form-maenner-trocken-neu/2025-11-20/
LOCATION:AKTIVITA SoleSpa\, Lindenstraße 100\, Bad Essen\, 49152\, Deutschland
CATEGORIES:Gesundheits- und Präventionskurs
END:VEVENT
END:VCALENDAR