BEGIN:VCALENDAR
VERSION:2.0
PRODID:-//AKTIVITA Bad Essen - ECPv6.15.20//NONSGML v1.0//EN
CALSCALE:GREGORIAN
METHOD:PUBLISH
X-WR-CALNAME:AKTIVITA Bad Essen
X-ORIGINAL-URL:https://www.aktivita-badessen.de
X-WR-CALDESC:Kurse für AKTIVITA Bad Essen
REFRESH-INTERVAL;VALUE=DURATION:PT1H
X-Robots-Tag:noindex
X-PUBLISHED-TTL:PT1H
BEGIN:VTIMEZONE
TZID:Europe/Berlin
BEGIN:DAYLIGHT
TZOFFSETFROM:+0100
TZOFFSETTO:+0200
TZNAME:CEST
DTSTART:20240331T010000
END:DAYLIGHT
BEGIN:STANDARD
TZOFFSETFROM:+0200
TZOFFSETTO:+0100
TZNAME:CET
DTSTART:20241027T010000
END:STANDARD
BEGIN:DAYLIGHT
TZOFFSETFROM:+0100
TZOFFSETTO:+0200
TZNAME:CEST
DTSTART:20250330T010000
END:DAYLIGHT
BEGIN:STANDARD
TZOFFSETFROM:+0200
TZOFFSETTO:+0100
TZNAME:CET
DTSTART:20251026T010000
END:STANDARD
BEGIN:DAYLIGHT
TZOFFSETFROM:+0100
TZOFFSETTO:+0200
TZNAME:CEST
DTSTART:20260329T010000
END:DAYLIGHT
BEGIN:STANDARD
TZOFFSETFROM:+0200
TZOFFSETTO:+0100
TZNAME:CET
DTSTART:20261025T010000
END:STANDARD
END:VTIMEZONE
BEGIN:VEVENT
DTSTART;TZID=Europe/Berlin:20251128T080000
DTEND;TZID=Europe/Berlin:20251128T090000
DTSTAMP:20260420T075051
CREATED:20250217T151809Z
LAST-MODIFIED:20251211T143559Z
UID:10072881-1764316800-1764320400@www.aktivita-badessen.de
SUMMARY:Rehasport (Wasser)
DESCRIPTION:Schonende Ganzkörperübungen im Wasser zur Steigerung von Kraft\, Ausdauer und Beweglichkeit – gelenkschonend\, zur Schmerzlinderung und Verbesserung der Lebensqualität.
URL:https://www.aktivita-badessen.de/einzelkurs/rehasport-wasser-3/2025-11-28/
LOCATION:AKTIVITA SoleSpa\, Lindenstraße 100\, Bad Essen\, 49152\, Deutschland
CATEGORIES:Rehasportkurs
END:VEVENT
BEGIN:VEVENT
DTSTART;TZID=Europe/Berlin:20251128T083000
DTEND;TZID=Europe/Berlin:20251128T090000
DTSTAMP:20260420T075051
CREATED:20241202T113637Z
LAST-MODIFIED:20251211T143529Z
UID:10072864-1764318600-1764320400@www.aktivita-badessen.de
SUMMARY:Funktionstraining (Trocken)
DESCRIPTION:Gezieltes Training zur Verbesserung der Bewegungsfunktion\, Schmerzlinderung und Steigerung der Beweglichkeit bei bestehenden Erkrankungen\, mit physiotherapeutischen Methoden und fachlicher Anleitung.
URL:https://www.aktivita-badessen.de/einzelkurs/funktionstraining-trocken-neu-9/2025-11-28/
LOCATION:AKTIVITA Physio-Med\, Nikolaistraße 34/36\, Bad Essen\, 49152\, Deutschland
CATEGORIES:Funktionstrainingskurs
END:VEVENT
BEGIN:VEVENT
DTSTART;TZID=Europe/Berlin:20251128T083000
DTEND;TZID=Europe/Berlin:20251128T091500
DTSTAMP:20260420T075051
CREATED:20241204T095904Z
LAST-MODIFIED:20251211T143500Z
UID:10072847-1764318600-1764321300@www.aktivita-badessen.de
SUMMARY:Rehasport (Trocken)
DESCRIPTION:Mit physiotherapeutischen Methoden werden Kraft\, Ausdauer\, Koordination und Beweglichkeit verbessert – das Gruppentraining zielt auf die Steigerung der Leistungsfähigkeit und Schmerzlinderung ab und fördert mehr Gesundheit und Lebensqualität.
URL:https://www.aktivita-badessen.de/einzelkurs/rehasport-trocken-neu-15/2025-11-28/
LOCATION:AKTIVITA SoleSpa\, Lindenstraße 100\, Bad Essen\, 49152\, Deutschland
CATEGORIES:Rehasportkurs
END:VEVENT
BEGIN:VEVENT
DTSTART;TZID=Europe/Berlin:20251128T083000
DTEND;TZID=Europe/Berlin:20251128T093000
DTSTAMP:20260420T075051
CREATED:20241203T134812Z
LAST-MODIFIED:20251211T143350Z
UID:10072830-1764318600-1764322200@www.aktivita-badessen.de
SUMMARY:Wirbelsäulenfit meets BBP
DESCRIPTION:Kombination aus der Straffung von Bauch\, Beinen\, Po und Oberkörper mit gezielten Übungen für eine starke Wirbelsäule und ganzheitliche Fitness.
URL:https://www.aktivita-badessen.de/einzelkurs/wirbwlsaeulen-meets-bbp-trocken/2025-11-28/
LOCATION:AKTIVITA Physio-Med\, Nikolaistraße 34/36\, Bad Essen\, 49152\, Deutschland
CATEGORIES:Gesundheits- und Präventionskurs
END:VEVENT
BEGIN:VEVENT
DTSTART;TZID=Europe/Berlin:20251128T090000
DTEND;TZID=Europe/Berlin:20251128T093000
DTSTAMP:20260420T075051
CREATED:20241210T100547Z
LAST-MODIFIED:20251211T135613Z
UID:10072379-1764320400-1764322200@www.aktivita-badessen.de
SUMMARY:Funktionstraining (Trocken)
DESCRIPTION:Gezieltes Training zur Verbesserung der Bewegungsfunktion\, Schmerzlinderung und Steigerung der Beweglichkeit bei bestehenden Erkrankungen\, mit physiotherapeutischen Methoden und fachlicher Anleitung.
URL:https://www.aktivita-badessen.de/einzelkurs/funktionstraining-trocken-neu-9-2/2025-11-28/
LOCATION:AKTIVITA Physio-Med\, Nikolaistraße 34/36\, Bad Essen\, 49152\, Deutschland
CATEGORIES:Funktionstrainingskurs
END:VEVENT
BEGIN:VEVENT
DTSTART;TZID=Europe/Berlin:20251128T090000
DTEND;TZID=Europe/Berlin:20251128T100000
DTSTAMP:20260420T075051
CREATED:20250217T151928Z
LAST-MODIFIED:20251211T143318Z
UID:10072813-1764320400-1764324000@www.aktivita-badessen.de
SUMMARY:Rehasport (Wasser)
DESCRIPTION:Schonende Ganzkörperübungen im Wasser zur Steigerung von Kraft\, Ausdauer und Beweglichkeit – gelenkschonend\, zur Schmerzlinderung und Verbesserung der Lebensqualität.
URL:https://www.aktivita-badessen.de/einzelkurs/rehasport-wasser-4/2025-11-28/
LOCATION:AKTIVITA SoleSpa\, Lindenstraße 100\, Bad Essen\, 49152\, Deutschland
CATEGORIES:Rehasportkurs
END:VEVENT
BEGIN:VEVENT
DTSTART;TZID=Europe/Berlin:20251128T093000
DTEND;TZID=Europe/Berlin:20251128T103000
DTSTAMP:20260420T075051
CREATED:20241202T115320Z
LAST-MODIFIED:20251211T143247Z
UID:10072796-1764322200-1764325800@www.aktivita-badessen.de
SUMMARY:Osteoporose
DESCRIPTION:Bewegungs- und Sportprogramm zur Erhaltung von Knochendichte und Muskulatur unter fachlicher Anleitung. Kraft-\, Koordinations- und Balancetraining zur Sturzvermeidung sowie Tipps zum allgemeinen Umgang mit Osteoporose.
URL:https://www.aktivita-badessen.de/einzelkurs/osteoporose-trocken-neu-4/2025-11-28/
LOCATION:AKTIVITA Physio-Med\, Nikolaistraße 34/36\, Bad Essen\, 49152\, Deutschland
CATEGORIES:Funktionstrainingskurs
END:VEVENT
BEGIN:VEVENT
DTSTART;TZID=Europe/Berlin:20251128T093000
DTEND;TZID=Europe/Berlin:20251128T103000
DTSTAMP:20260420T075051
CREATED:20241202T125846Z
LAST-MODIFIED:20251211T143212Z
UID:10072779-1764322200-1764325800@www.aktivita-badessen.de
SUMMARY:Pilates
DESCRIPTION:Pilates-Prinzipien wie Konzentration\, Kontrolle\, Atmung und Präzision stärken die Körpermitte\, kräftigen die Rumpfmuskulatur und fördern die Flexibilität. Ein ausgewogenes Training für mehr Kraft und Beweglichkeit.
URL:https://www.aktivita-badessen.de/einzelkurs/pilates-trocken-neu-4/2025-11-28/
LOCATION:AKTIVITA Physio-Med\, Nikolaistraße 34/36\, Bad Essen\, 49152\, Deutschland
CATEGORIES:Gesundheits- und Präventionskurs
END:VEVENT
BEGIN:VEVENT
DTSTART;TZID=Europe/Berlin:20251128T100000
DTEND;TZID=Europe/Berlin:20251128T103000
DTSTAMP:20260420T075051
CREATED:20241202T105853Z
LAST-MODIFIED:20251211T143135Z
UID:10072762-1764324000-1764325800@www.aktivita-badessen.de
SUMMARY:Funktionstraining (Wasser)
DESCRIPTION:Schonendes Training im Wasser zur Verbesserung Ihrer Bewegungsfunktion\, Schmerzlinderung und Reduzierung von Belastungen.
URL:https://www.aktivita-badessen.de/einzelkurs/funktionstraining-wasser-neu-8/2025-11-28/
LOCATION:AKTIVITA SoleSpa\, Lindenstraße 100\, Bad Essen\, 49152\, Deutschland
CATEGORIES:Funktionstrainingskurs
END:VEVENT
BEGIN:VEVENT
DTSTART;TZID=Europe/Berlin:20251128T100000
DTEND;TZID=Europe/Berlin:20251128T113000
DTSTAMP:20260420T075051
CREATED:20241209T092525Z
LAST-MODIFIED:20251211T135542Z
UID:10072362-1764324000-1764329400@www.aktivita-badessen.de
SUMMARY:Yoga\, 90 Minuten
DESCRIPTION:Im Fokus stehen Achtsamkeit\, Konzentration und Körperwahrnehmung. Durch bewusstes Atmen wird die Flexibilität gefördert und eine entspannte Ausgeglichenheit erreicht.
URL:https://www.aktivita-badessen.de/einzelkurs/yoga-4-4-2/2025-11-28/
LOCATION:AKTIVITA SoleSpa\, Lindenstraße 100\, Bad Essen\, 49152\, Deutschland
CATEGORIES:Fitnesskurs
END:VEVENT
BEGIN:VEVENT
DTSTART;TZID=Europe/Berlin:20251128T103000
DTEND;TZID=Europe/Berlin:20251128T113000
DTSTAMP:20260420T075051
CREATED:20241204T102555Z
LAST-MODIFIED:20251211T143052Z
UID:10072745-1764325800-1764329400@www.aktivita-badessen.de
SUMMARY:Rehasport (Wasser)
DESCRIPTION:Schonende Ganzkörperübungen im Wasser zur Steigerung von Kraft\, Ausdauer und Beweglichkeit – gelenkschonend\, zur Schmerzlinderung und Verbesserung der Lebensqualität.
URL:https://www.aktivita-badessen.de/einzelkurs/rehasport-wasser-neu-25/2025-11-28/
LOCATION:AKTIVITA SoleSpa\, Lindenstraße 100\, Bad Essen\, 49152\, Deutschland
CATEGORIES:Rehasportkurs
END:VEVENT
BEGIN:VEVENT
DTSTART;TZID=Europe/Berlin:20251128T104500
DTEND;TZID=Europe/Berlin:20251128T113000
DTSTAMP:20260420T075051
CREATED:20241213T152211Z
LAST-MODIFIED:20251211T142738Z
UID:10072728-1764326700-1764329400@www.aktivita-badessen.de
SUMMARY:Rehasport (Trocken)
DESCRIPTION:Mit physiotherapeutischen Methoden werden Kraft\, Ausdauer\, Koordination und Beweglichkeit verbessert – das Gruppentraining zielt auf die Steigerung der Leistungsfähigkeit und Schmerzlinderung ab und fördert mehr Gesundheit und Lebensqualität.
URL:https://www.aktivita-badessen.de/einzelkurs/rehasport-trocken/2025-11-28/
LOCATION:AKTIVITA Physio-Med\, Nikolaistraße 34/36\, Bad Essen\, 49152\, Deutschland
CATEGORIES:Rehasportkurs
END:VEVENT
BEGIN:VEVENT
DTSTART;TZID=Europe/Berlin:20251128T110000
DTEND;TZID=Europe/Berlin:20251128T120000
DTSTAMP:20260420T075051
CREATED:20241202T133025Z
LAST-MODIFIED:20251211T142708Z
UID:10072711-1764327600-1764331200@www.aktivita-badessen.de
SUMMARY:Qigong
DESCRIPTION:Sanfte\, fließende Bewegungen und ruhige Atemübungen für entspannte Konzentration und harmonische Balance von Körper\, Geist und Seele.
URL:https://www.aktivita-badessen.de/einzelkurs/qigong-trocken-neu-4/2025-11-28/
LOCATION:AKTIVITA Physio-Med\, Nikolaistraße 34/36\, Bad Essen\, 49152\, Deutschland
CATEGORIES:Gesundheits- und Präventionskurs
END:VEVENT
BEGIN:VEVENT
DTSTART;TZID=Europe/Berlin:20251128T113000
DTEND;TZID=Europe/Berlin:20251128T123000
DTSTAMP:20260420T075051
CREATED:20241204T102700Z
LAST-MODIFIED:20251211T142456Z
UID:10072694-1764329400-1764333000@www.aktivita-badessen.de
SUMMARY:Rehasport (Wasser)
DESCRIPTION:Schonende Ganzkörperübungen im Wasser zur Steigerung von Kraft\, Ausdauer und Beweglichkeit – gelenkschonend\, zur Schmerzlinderung und Verbesserung der Lebensqualität.
URL:https://www.aktivita-badessen.de/einzelkurs/rehasport-wasser-neu-26/2025-11-28/
LOCATION:AKTIVITA SoleSpa\, Lindenstraße 100\, Bad Essen\, 49152\, Deutschland
CATEGORIES:Rehasportkurs
END:VEVENT
BEGIN:VEVENT
DTSTART;TZID=Europe/Berlin:20251128T143000
DTEND;TZID=Europe/Berlin:20251128T153000
DTSTAMP:20260420T075051
CREATED:20241204T102757Z
LAST-MODIFIED:20251211T142429Z
UID:10072677-1764340200-1764343800@www.aktivita-badessen.de
SUMMARY:Rehasport (Wasser)
DESCRIPTION:Schonende Ganzkörperübungen im Wasser zur Steigerung von Kraft\, Ausdauer und Beweglichkeit – gelenkschonend\, zur Schmerzlinderung und Verbesserung der Lebensqualität.
URL:https://www.aktivita-badessen.de/einzelkurs/rehasport-wasser-neu-27/2025-11-28/
LOCATION:AKTIVITA SoleSpa\, Lindenstraße 100\, Bad Essen\, 49152\, Deutschland
CATEGORIES:Rehasportkurs
END:VEVENT
BEGIN:VEVENT
DTSTART;TZID=Europe/Berlin:20251128T160000
DTEND;TZID=Europe/Berlin:20251128T170000
DTSTAMP:20260420T075051
CREATED:20241204T090742Z
LAST-MODIFIED:20251211T142406Z
UID:10072660-1764345600-1764349200@www.aktivita-badessen.de
SUMMARY:Zertifiziertes Gerätetraining
DESCRIPTION:Das Ganzkörpertraining: Zertifiziertes Gerätetraining in kleinen Gruppen\, unter Anleitung eines qualifizierten Physiotherapeuten\, zur Krafterhaltung und Verbesserung des allgemeinen Wohlbefindens – einmal wöchentlich.
URL:https://www.aktivita-badessen.de/einzelkurs/zirkeltraining-das-ganzkoerpertraining-trocken-neu-8/2025-11-28/
LOCATION:AKTIVITA Physio-Med\, Nikolaistraße 34/36\, Bad Essen\, 49152\, Deutschland
CATEGORIES:Gesundheits- und Präventionskurs
END:VEVENT
BEGIN:VEVENT
DTSTART;TZID=Europe/Berlin:20251128T160000
DTEND;TZID=Europe/Berlin:20251128T170000
DTSTAMP:20260420T075051
CREATED:20241204T102912Z
LAST-MODIFIED:20251211T142325Z
UID:10072643-1764345600-1764349200@www.aktivita-badessen.de
SUMMARY:Rehasport (Wasser)
DESCRIPTION:Schonende Ganzkörperübungen im Wasser zur Steigerung von Kraft\, Ausdauer und Beweglichkeit – gelenkschonend\, zur Schmerzlinderung und Verbesserung der Lebensqualität.
URL:https://www.aktivita-badessen.de/einzelkurs/rehasport-wasser-neu-28/2025-11-28/
LOCATION:AKTIVITA SoleSpa\, Lindenstraße 100\, Bad Essen\, 49152\, Deutschland
CATEGORIES:Rehasportkurs
END:VEVENT
BEGIN:VEVENT
DTSTART;TZID=Europe/Berlin:20251128T170000
DTEND;TZID=Europe/Berlin:20251128T180000
DTSTAMP:20260420T075051
CREATED:20241210T093750Z
LAST-MODIFIED:20251211T135437Z
UID:10072345-1764349200-1764352800@www.aktivita-badessen.de
SUMMARY:Step-Intervall
DESCRIPTION:Intervalltraining mit dem Step-Board – intensiv und vielseitig zur Verbesserung von Kraft und Ausdauer.
URL:https://www.aktivita-badessen.de/einzelkurs/step-intervall-2/2025-11-28/
LOCATION:AKTIVITA SoleSpa\, Lindenstraße 100\, Bad Essen\, 49152\, Deutschland
CATEGORIES:Fitnesskurs
END:VEVENT
BEGIN:VEVENT
DTSTART;TZID=Europe/Berlin:20251128T173000
DTEND;TZID=Europe/Berlin:20251128T180000
DTSTAMP:20260420T075051
CREATED:20241202T110028Z
LAST-MODIFIED:20251211T142255Z
UID:10072626-1764351000-1764352800@www.aktivita-badessen.de
SUMMARY:Funktionstraining (Wasser)
DESCRIPTION:Schonendes Training im Wasser zur Verbesserung Ihrer Bewegungsfunktion\, Schmerzlinderung und Reduzierung von Belastungen.
URL:https://www.aktivita-badessen.de/einzelkurs/funktionstraining-wasser-neu-9/2025-11-28/
LOCATION:AKTIVITA SoleSpa\, Lindenstraße 100\, Bad Essen\, 49152\, Deutschland
CATEGORIES:Funktionstrainingskurs
END:VEVENT
BEGIN:VEVENT
DTSTART;TZID=Europe/Berlin:20251128T180000
DTEND;TZID=Europe/Berlin:20251128T190000
DTSTAMP:20260420T075051
CREATED:20241202T130409Z
LAST-MODIFIED:20251211T142226Z
UID:10072609-1764352800-1764356400@www.aktivita-badessen.de
SUMMARY:Pilates
DESCRIPTION:Pilates-Prinzipien wie Konzentration\, Kontrolle\, Atmung und Präzision stärken die Körpermitte\, kräftigen die Rumpfmuskulatur und fördern die Flexibilität. Ein ausgewogenes Training für mehr Kraft und Beweglichkeit.
URL:https://www.aktivita-badessen.de/einzelkurs/pilates-trocken-neu-5/2025-11-28/
LOCATION:AKTIVITA Physio-Med\, Nikolaistraße 34/36\, Bad Essen\, 49152\, Deutschland
CATEGORIES:Gesundheits- und Präventionskurs
END:VEVENT
BEGIN:VEVENT
DTSTART;TZID=Europe/Berlin:20251128T180000
DTEND;TZID=Europe/Berlin:20251128T190000
DTSTAMP:20260420T075051
CREATED:20241204T103001Z
LAST-MODIFIED:20251211T142151Z
UID:10072592-1764352800-1764356400@www.aktivita-badessen.de
SUMMARY:Rehasport (Wasser)
DESCRIPTION:Rubensgruppe: Schonende Ganzkörperübungen im Wasser zur Steigerung von Kraft\, Ausdauer und Beweglichkeit – gelenkschonend\, zur Schmerzlinderung und Verbesserung der Lebensqualität.
URL:https://www.aktivita-badessen.de/einzelkurs/rehasport-wasser-neu-29/2025-11-28/
LOCATION:AKTIVITA SoleSpa\, Lindenstraße 100\, Bad Essen\, 49152\, Deutschland
CATEGORIES:Rehasportkurs
END:VEVENT
BEGIN:VEVENT
DTSTART;TZID=Europe/Berlin:20251128T180000
DTEND;TZID=Europe/Berlin:20251128T190000
DTSTAMP:20260420T075051
CREATED:20241210T085737Z
LAST-MODIFIED:20251211T135414Z
UID:10072328-1764352800-1764356400@www.aktivita-badessen.de
SUMMARY:Bauch-Beine-Po
DESCRIPTION:Gezieltes Training zur Straffung und Kräftigung von Bauch\, Beinen\, Po und Oberkörper – ein umfassendes Körperworkout.
URL:https://www.aktivita-badessen.de/einzelkurs/bauch-beine-po-trocken-neu-2/2025-11-28/
LOCATION:AKTIVITA SoleSpa\, Lindenstraße 100\, Bad Essen\, 49152\, Deutschland
CATEGORIES:Fitnesskurs
END:VEVENT
BEGIN:VEVENT
DTSTART;TZID=Europe/Berlin:20251128T190000
DTEND;TZID=Europe/Berlin:20251128T200000
DTSTAMP:20260420T075051
CREATED:20240529T121344Z
LAST-MODIFIED:20251211T154148Z
UID:10074269-1764356400-1764360000@www.aktivita-badessen.de
SUMMARY:Salsa Solo Style
DESCRIPTION:Tanzen zu mitreißenden lateinamerikanischen Rhythmen ohne Tanzpartner und Erlernen der Salsa-Basics\, die zu kreativen Choreografien weiterentwickelt werden. \nIn Kooperation mit Guido Niermann
URL:https://www.aktivita-badessen.de/einzelkurs/salsa-solo-style/2025-11-28/
LOCATION:AKTIVITA Physio-Med\, Nikolaistraße 34/36\, Bad Essen\, 49152\, Deutschland
CATEGORIES:Tanzkurs
END:VEVENT
BEGIN:VEVENT
DTSTART;TZID=Europe/Berlin:20251128T200000
DTEND;TZID=Europe/Berlin:20251128T210000
DTSTAMP:20260420T075051
CREATED:20240529T124035Z
LAST-MODIFIED:20251211T154126Z
UID:10074252-1764360000-1764363600@www.aktivita-badessen.de
SUMMARY:Tango Argentino – für Paare
DESCRIPTION:Der Tango Argentino – ein Tanz voller Emotionen und Leidenschaft\, der die Tiefe der argentinischen Musik widerspiegelt und die Verbindung zwischen den Tanzpartnern stärkt. \nIn Kooperation mit Guido Niermann
URL:https://www.aktivita-badessen.de/einzelkurs/tango-argentino/2025-11-28/
LOCATION:AKTIVITA Physio-Med\, Nikolaistraße 34/36\, Bad Essen\, 49152\, Deutschland
CATEGORIES:Tanzkurs
END:VEVENT
BEGIN:VEVENT
DTSTART;TZID=Europe/Berlin:20251128T210000
DTEND;TZID=Europe/Berlin:20251128T220000
DTSTAMP:20260420T075051
CREATED:20241204T113926Z
LAST-MODIFIED:20251211T135944Z
UID:10072575-1764363600-1764367200@www.aktivita-badessen.de
SUMMARY:Tanzclub – für Paare
DESCRIPTION:Vom Discofox bis zur Rumba – alle Tänze des Welttanzprogramms werden in angenehmer Gesellschaft mit viel Spaß erlernt. \nIn Kooperation mit Guido Niermann
URL:https://www.aktivita-badessen.de/einzelkurs/tanzclub-fuer-paare-trocken-neu/2025-11-28/
LOCATION:AKTIVITA Physio-Med\, Nikolaistraße 34/36\, Bad Essen\, 49152\, Deutschland
CATEGORIES:Tanzkurs
END:VEVENT
END:VCALENDAR