BEGIN:VCALENDAR
VERSION:2.0
PRODID:-//AKTIVITA Bad Essen - ECPv6.15.20//NONSGML v1.0//EN
CALSCALE:GREGORIAN
METHOD:PUBLISH
X-ORIGINAL-URL:https://www.aktivita-badessen.de
X-WR-CALDESC:Kurse für AKTIVITA Bad Essen
REFRESH-INTERVAL;VALUE=DURATION:PT1H
X-Robots-Tag:noindex
X-PUBLISHED-TTL:PT1H
BEGIN:VTIMEZONE
TZID:Europe/Berlin
BEGIN:DAYLIGHT
TZOFFSETFROM:+0100
TZOFFSETTO:+0200
TZNAME:CEST
DTSTART:20250330T010000
END:DAYLIGHT
BEGIN:STANDARD
TZOFFSETFROM:+0200
TZOFFSETTO:+0100
TZNAME:CET
DTSTART:20251026T010000
END:STANDARD
BEGIN:DAYLIGHT
TZOFFSETFROM:+0100
TZOFFSETTO:+0200
TZNAME:CEST
DTSTART:20260329T010000
END:DAYLIGHT
BEGIN:STANDARD
TZOFFSETFROM:+0200
TZOFFSETTO:+0100
TZNAME:CET
DTSTART:20261025T010000
END:STANDARD
BEGIN:DAYLIGHT
TZOFFSETFROM:+0100
TZOFFSETTO:+0200
TZNAME:CEST
DTSTART:20270328T010000
END:DAYLIGHT
BEGIN:STANDARD
TZOFFSETFROM:+0200
TZOFFSETTO:+0100
TZNAME:CET
DTSTART:20271031T010000
END:STANDARD
END:VTIMEZONE
BEGIN:VEVENT
DTSTART;TZID=Europe/Berlin:20260420T201500
DTEND;TZID=Europe/Berlin:20260420T211500
DTSTAMP:20260421T023130
CREATED:20241202T124229Z
LAST-MODIFIED:20251211T153005Z
UID:10077738-1776716100-1776719700@www.aktivita-badessen.de
SUMMARY:Funktion meets Form
DESCRIPTION:Kraft-Ausdauertraining für Schulter\, Nacken und Rücken – ideal zur Ergänzung bei sitzender Tätigkeit\, mit und ohne Gewichte.
URL:https://www.aktivita-badessen.de/einzelkurs/funktion-meets-form-trocken-neu/2026-04-20/
LOCATION:AKTIVITA Physio-Med\, Nikolaistraße 34/36\, Bad Essen\, 49152\, Deutschland
CATEGORIES:Gesundheits- und Präventionskurs
END:VEVENT
BEGIN:VEVENT
DTSTART;TZID=Europe/Berlin:20260420T200000
DTEND;TZID=Europe/Berlin:20260420T210000
DTSTAMP:20260421T023130
CREATED:20241202T125629Z
LAST-MODIFIED:20251211T153034Z
UID:10077764-1776715200-1776718800@www.aktivita-badessen.de
SUMMARY:Pilates
DESCRIPTION:Pilates-Prinzipien wie Konzentration\, Kontrolle\, Atmung und Präzision stärken die Körpermitte\, kräftigen die Rumpfmuskulatur und fördern die Flexibilität. Ein ausgewogenes Training für mehr Kraft und Beweglichkeit.
URL:https://www.aktivita-badessen.de/einzelkurs/pilates-trocken-neu-2/2026-04-20/
LOCATION:AKTIVITA Physio-Med\, Nikolaistraße 34/36\, Bad Essen\, 49152\, Deutschland
CATEGORIES:Gesundheits- und Präventionskurs
END:VEVENT
BEGIN:VEVENT
DTSTART;TZID=Europe/Berlin:20260420T193000
DTEND;TZID=Europe/Berlin:20260420T200000
DTSTAMP:20260421T023130
CREATED:20241202T111645Z
LAST-MODIFIED:20251211T153133Z
UID:10077816-1776713400-1776715200@www.aktivita-badessen.de
SUMMARY:Funktionstraining (Trocken)
DESCRIPTION:Gezieltes Training zur Verbesserung der Bewegungsfunktion\, Schmerzlinderung und Steigerung der Beweglichkeit bei bestehenden Erkrankungen\, mit physiotherapeutischen Methoden und fachlicher Anleitung.
URL:https://www.aktivita-badessen.de/einzelkurs/funktionstraining-trocken-neu-3/2026-04-20/
LOCATION:AKTIVITA Physio-Med\, Nikolaistraße 34/36\, Bad Essen\, 49152\, Deutschland
CATEGORIES:Funktionstrainingskurs
END:VEVENT
BEGIN:VEVENT
DTSTART;TZID=Europe/Berlin:20260420T190000
DTEND;TZID=Europe/Berlin:20260420T200000
DTSTAMP:20260421T023130
CREATED:20240529T125840Z
LAST-MODIFIED:20251211T154720Z
UID:10078488-1776711600-1776715200@www.aktivita-badessen.de
SUMMARY:Wirbelsäulenfit
DESCRIPTION:Effiziente\, dynamische Übungen mit Musik für einen starken Rücken – zur Steigerung von Muskelkraft\, Beweglichkeit und Koordination.
URL:https://www.aktivita-badessen.de/einzelkurs/wirbelsaeulenfit-1/2026-04-20/
LOCATION:AKTIVITA Physio-Med\, Nikolaistraße 34/36\, Bad Essen\, 49152\, Deutschland
CATEGORIES:Gesundheits- und Präventionskurs
END:VEVENT
BEGIN:VEVENT
DTSTART;TZID=Europe/Berlin:20260420T184500
DTEND;TZID=Europe/Berlin:20260420T193000
DTSTAMP:20260421T023130
CREATED:20241204T093503Z
LAST-MODIFIED:20251211T153236Z
UID:10077868-1776710700-1776713400@www.aktivita-badessen.de
SUMMARY:Rehasport (Trocken)
DESCRIPTION:Mit physiotherapeutischen Methoden werden Kraft\, Ausdauer\, Koordination und Beweglichkeit verbessert – das Gruppentraining zielt auf die Steigerung der Leistungsfähigkeit und Schmerzlinderung ab und fördert mehr Gesundheit und Lebensqualität.
URL:https://www.aktivita-badessen.de/einzelkurs/rehasport-trocken-neu-4/2026-04-20/
LOCATION:AKTIVITA Physio-Med\, Nikolaistraße 34/36\, Bad Essen\, 49152\, Deutschland
CATEGORIES:Rehasportkurs
END:VEVENT
BEGIN:VEVENT
DTSTART;TZID=Europe/Berlin:20260420T170000
DTEND;TZID=Europe/Berlin:20260420T183000
DTSTAMP:20260421T023130
CREATED:20250217T104359Z
LAST-MODIFIED:20251211T134847Z
UID:10075346-1776704400-1776709800@www.aktivita-badessen.de
SUMMARY:Yoga\, 90 Minuten
DESCRIPTION:Im Fokus stehen Achtsamkeit\, Konzentration und Körperwahrnehmung. Durch bewusstes Atmen wird die Flexibilität gefördert und eine entspannte Ausgeglichenheit erreicht.
URL:https://www.aktivita-badessen.de/einzelkurs/yoga-4-2-2-2-2/2026-04-20/
LOCATION:AKTIVITA Physio-Med\, Nikolaistraße 34/36\, Bad Essen\, 49152\, Deutschland
CATEGORIES:Fitnesskurs
END:VEVENT
BEGIN:VEVENT
DTSTART;TZID=Europe/Berlin:20260420T170000
DTEND;TZID=Europe/Berlin:20260420T180000
DTSTAMP:20260421T023131
CREATED:20241210T095834Z
LAST-MODIFIED:20251211T133255Z
UID:10075320-1776704400-1776708000@www.aktivita-badessen.de
SUMMARY:Zumba®
DESCRIPTION:Ein perfektes Tanzworkout mit lateinamerikanischer und internationaler Musik. Tänze wie Merengue\, Cumbia\, Reggaeton\, Salsa und mehr sorgen für Spaß und Energie.
URL:https://www.aktivita-badessen.de/einzelkurs/zumba-2-2/2026-04-20/
LOCATION:AKTIVITA Physio-Med\, Nikolaistraße 34/36\, Bad Essen\, 49152\, Deutschland
CATEGORIES:Fitnesskurs
END:VEVENT
BEGIN:VEVENT
DTSTART;TZID=Europe/Berlin:20260420T160000
DTEND;TZID=Europe/Berlin:20260420T164500
DTSTAMP:20260421T023131
CREATED:20241204T093339Z
LAST-MODIFIED:20251211T153524Z
UID:10077972-1776700800-1776703500@www.aktivita-badessen.de
SUMMARY:Rehasport (Trocken)
DESCRIPTION:Mit physiotherapeutischen Methoden werden Kraft\, Ausdauer\, Koordination und Beweglichkeit verbessert – das Gruppentraining zielt auf die Steigerung der Leistungsfähigkeit und Schmerzlinderung ab und fördert mehr Gesundheit und Lebensqualität.
URL:https://www.aktivita-badessen.de/einzelkurs/rehasport-trocken-neu-3/2026-04-20/
LOCATION:AKTIVITA Physio-Med\, Nikolaistraße 34/36\, Bad Essen\, 49152\, Deutschland
CATEGORIES:Rehasportkurs
END:VEVENT
BEGIN:VEVENT
DTSTART;TZID=Europe/Berlin:20260420T114500
DTEND;TZID=Europe/Berlin:20260420T123000
DTSTAMP:20260421T023131
CREATED:20240529T145932Z
LAST-MODIFIED:20251211T154743Z
UID:10078514-1776685500-1776688200@www.aktivita-badessen.de
SUMMARY:Lungensport / COPD
DESCRIPTION:Gezieltes Kraft- und Ausdauertraining zur Förderung der Atemkapazität. Brustkorbdehnungen und Atemtechniken verbessern die Belastbarkeit und steigern die Leistungsfähigkeit im Alltag.
URL:https://www.aktivita-badessen.de/einzelkurs/copd-lungensport/2026-04-20/
LOCATION:AKTIVITA Physio-Med\, Nikolaistraße 34/36\, Bad Essen\, 49152\, Deutschland
CATEGORIES:Rehasportkurs
END:VEVENT
BEGIN:VEVENT
DTSTART;TZID=Europe/Berlin:20260420T110000
DTEND;TZID=Europe/Berlin:20260420T120000
DTSTAMP:20260421T023131
CREATED:20241203T142908Z
LAST-MODIFIED:20251211T153630Z
UID:10078024-1776682800-1776686400@www.aktivita-badessen.de
SUMMARY:Zertifiziertes Gerätetraining
DESCRIPTION:Das Ganzkörpertraining: Zertifiziertes Gerätetraining in kleinen Gruppen\, unter Anleitung eines qualifizierten Physiotherapeuten\, zur Krafterhaltung und Verbesserung des allgemeinen Wohlbefindens – einmal wöchentlich
URL:https://www.aktivita-badessen.de/einzelkurs/zirkeltraining-das-ganzkoerpertraining-trocken-neu/2026-04-20/
LOCATION:AKTIVITA Physio-Med\, Nikolaistraße 34/36\, Bad Essen\, 49152\, Deutschland
CATEGORIES:Gesundheits- und Präventionskurs
END:VEVENT
BEGIN:VEVENT
DTSTART;TZID=Europe/Berlin:20260420T100000
DTEND;TZID=Europe/Berlin:20260420T110000
DTSTAMP:20260421T023131
CREATED:20241202T125530Z
LAST-MODIFIED:20251211T153720Z
UID:10078076-1776679200-1776682800@www.aktivita-badessen.de
SUMMARY:Pilates
DESCRIPTION:Pilates-Prinzipien wie Konzentration\, Kontrolle\, Atmung und Präzision stärken die Körpermitte\, kräftigen die Rumpfmuskulatur und fördern die Flexibilität. Ein ausgewogenes Training für mehr Kraft und Beweglichkeit.
URL:https://www.aktivita-badessen.de/einzelkurs/pilates-trocken-neu/2026-04-20/
LOCATION:AKTIVITA Physio-Med\, Nikolaistraße 34/36\, Bad Essen\, 49152\, Deutschland
CATEGORIES:Gesundheits- und Präventionskurs
END:VEVENT
BEGIN:VEVENT
DTSTART;TZID=Europe/Berlin:20260420T093000
DTEND;TZID=Europe/Berlin:20260420T103000
DTSTAMP:20260421T023131
CREATED:20241202T114536Z
LAST-MODIFIED:20251211T153923Z
UID:10078154-1776677400-1776681000@www.aktivita-badessen.de
SUMMARY:Osteoporose
DESCRIPTION:Bewegungs- und Sportprogramm zur Erhaltung von Knochendichte und Muskulatur unter fachlicher Anleitung. Kraft-\, Koordinations- und Balancetraining zur Sturzvermeidung sowie Tipps zum allgemeinen Umgang mit Osteoporose.
URL:https://www.aktivita-badessen.de/einzelkurs/osteoporose-trocken-neu/2026-04-20/
LOCATION:AKTIVITA Physio-Med\, Nikolaistraße 34/36\, Bad Essen\, 49152\, Deutschland
CATEGORIES:Funktionstrainingskurs
END:VEVENT
BEGIN:VEVENT
DTSTART;TZID=Europe/Berlin:20260420T090000
DTEND;TZID=Europe/Berlin:20260420T100000
DTSTAMP:20260421T023131
CREATED:20241203T133918Z
LAST-MODIFIED:20251211T154029Z
UID:10078206-1776675600-1776679200@www.aktivita-badessen.de
SUMMARY:Wirbelsäulenfit meets BBP
DESCRIPTION:Kombination aus der Straffung von Bauch\, Beinen\, Po und Oberkörper mit gezielten Übungen für eine starke Wirbelsäule und ganzheitliche Fitness.
URL:https://www.aktivita-badessen.de/einzelkurs/wirbelsaeulen-meets-bbp-trocken-neu/2026-04-20/
LOCATION:AKTIVITA Physio-Med\, Nikolaistraße 34/36\, Bad Essen\, 49152\, Deutschland
CATEGORIES:Gesundheits- und Präventionskurs
END:VEVENT
BEGIN:VEVENT
DTSTART;TZID=Europe/Berlin:20260420T083000
DTEND;TZID=Europe/Berlin:20260420T093000
DTSTAMP:20260421T023131
CREATED:20240529T132227Z
LAST-MODIFIED:20251211T154813Z
UID:10078540-1776673800-1776677400@www.aktivita-badessen.de
SUMMARY:Wirbelsäulenfit Sanft und Aktiv
DESCRIPTION:Sanfte und effektive Übungen für jedes Fitnesslevel\, um die Rückengesundheit im Alltag durch gezielte Bewegung zu fördern.
URL:https://www.aktivita-badessen.de/einzelkurs/wirbelsaeulenfit-sanft-und-aktiv/2026-04-20/
LOCATION:AKTIVITA Physio-Med\, Nikolaistraße 34/36\, Bad Essen\, 49152\, Deutschland
CATEGORIES:Gesundheits- und Präventionskurs
END:VEVENT
BEGIN:VEVENT
DTSTART;TZID=Europe/Berlin:20260417T210000
DTEND;TZID=Europe/Berlin:20260417T220000
DTSTAMP:20260421T023131
CREATED:20241204T113926Z
LAST-MODIFIED:20251211T135944Z
UID:10075862-1776459600-1776463200@www.aktivita-badessen.de
SUMMARY:Tanzclub – für Paare
DESCRIPTION:Vom Discofox bis zur Rumba – alle Tänze des Welttanzprogramms werden in angenehmer Gesellschaft mit viel Spaß erlernt. \nIn Kooperation mit Guido Niermann
URL:https://www.aktivita-badessen.de/einzelkurs/tanzclub-fuer-paare-trocken-neu/2026-04-17/
LOCATION:AKTIVITA Physio-Med\, Nikolaistraße 34/36\, Bad Essen\, 49152\, Deutschland
CATEGORIES:Tanzkurs
END:VEVENT
BEGIN:VEVENT
DTSTART;TZID=Europe/Berlin:20260417T200000
DTEND;TZID=Europe/Berlin:20260417T210000
DTSTAMP:20260421T023131
CREATED:20240529T124035Z
LAST-MODIFIED:20251211T154126Z
UID:10078258-1776456000-1776459600@www.aktivita-badessen.de
SUMMARY:Tango Argentino – für Paare
DESCRIPTION:Der Tango Argentino – ein Tanz voller Emotionen und Leidenschaft\, der die Tiefe der argentinischen Musik widerspiegelt und die Verbindung zwischen den Tanzpartnern stärkt. \nIn Kooperation mit Guido Niermann
URL:https://www.aktivita-badessen.de/einzelkurs/tango-argentino/2026-04-17/
LOCATION:AKTIVITA Physio-Med\, Nikolaistraße 34/36\, Bad Essen\, 49152\, Deutschland
CATEGORIES:Tanzkurs
END:VEVENT
BEGIN:VEVENT
DTSTART;TZID=Europe/Berlin:20260417T190000
DTEND;TZID=Europe/Berlin:20260417T200000
DTSTAMP:20260421T023131
CREATED:20240529T121344Z
LAST-MODIFIED:20251211T154148Z
UID:10078284-1776452400-1776456000@www.aktivita-badessen.de
SUMMARY:Salsa Solo Style
DESCRIPTION:Tanzen zu mitreißenden lateinamerikanischen Rhythmen ohne Tanzpartner und Erlernen der Salsa-Basics\, die zu kreativen Choreografien weiterentwickelt werden. \nIn Kooperation mit Guido Niermann
URL:https://www.aktivita-badessen.de/einzelkurs/salsa-solo-style/2026-04-17/
LOCATION:AKTIVITA Physio-Med\, Nikolaistraße 34/36\, Bad Essen\, 49152\, Deutschland
CATEGORIES:Tanzkurs
END:VEVENT
BEGIN:VEVENT
DTSTART;TZID=Europe/Berlin:20260417T180000
DTEND;TZID=Europe/Berlin:20260417T190000
DTSTAMP:20260421T023131
CREATED:20241202T130409Z
LAST-MODIFIED:20251211T142226Z
UID:10075914-1776448800-1776452400@www.aktivita-badessen.de
SUMMARY:Pilates
DESCRIPTION:Pilates-Prinzipien wie Konzentration\, Kontrolle\, Atmung und Präzision stärken die Körpermitte\, kräftigen die Rumpfmuskulatur und fördern die Flexibilität. Ein ausgewogenes Training für mehr Kraft und Beweglichkeit.
URL:https://www.aktivita-badessen.de/einzelkurs/pilates-trocken-neu-5/2026-04-17/
LOCATION:AKTIVITA Physio-Med\, Nikolaistraße 34/36\, Bad Essen\, 49152\, Deutschland
CATEGORIES:Gesundheits- und Präventionskurs
END:VEVENT
BEGIN:VEVENT
DTSTART;TZID=Europe/Berlin:20260417T160000
DTEND;TZID=Europe/Berlin:20260417T170000
DTSTAMP:20260421T023131
CREATED:20241204T090742Z
LAST-MODIFIED:20251211T142406Z
UID:10075992-1776441600-1776445200@www.aktivita-badessen.de
SUMMARY:Zertifiziertes Gerätetraining
DESCRIPTION:Das Ganzkörpertraining: Zertifiziertes Gerätetraining in kleinen Gruppen\, unter Anleitung eines qualifizierten Physiotherapeuten\, zur Krafterhaltung und Verbesserung des allgemeinen Wohlbefindens – einmal wöchentlich.
URL:https://www.aktivita-badessen.de/einzelkurs/zirkeltraining-das-ganzkoerpertraining-trocken-neu-8/2026-04-17/
LOCATION:AKTIVITA Physio-Med\, Nikolaistraße 34/36\, Bad Essen\, 49152\, Deutschland
CATEGORIES:Gesundheits- und Präventionskurs
END:VEVENT
BEGIN:VEVENT
DTSTART;TZID=Europe/Berlin:20260417T110000
DTEND;TZID=Europe/Berlin:20260417T120000
DTSTAMP:20260421T023131
CREATED:20241202T133025Z
LAST-MODIFIED:20251211T142708Z
UID:10076070-1776423600-1776427200@www.aktivita-badessen.de
SUMMARY:Qigong
DESCRIPTION:Sanfte\, fließende Bewegungen und ruhige Atemübungen für entspannte Konzentration und harmonische Balance von Körper\, Geist und Seele.
URL:https://www.aktivita-badessen.de/einzelkurs/qigong-trocken-neu-4/2026-04-17/
LOCATION:AKTIVITA Physio-Med\, Nikolaistraße 34/36\, Bad Essen\, 49152\, Deutschland
CATEGORIES:Gesundheits- und Präventionskurs
END:VEVENT
BEGIN:VEVENT
DTSTART;TZID=Europe/Berlin:20260417T104500
DTEND;TZID=Europe/Berlin:20260417T113000
DTSTAMP:20260421T023131
CREATED:20241213T152211Z
LAST-MODIFIED:20251211T142738Z
UID:10076096-1776422700-1776425400@www.aktivita-badessen.de
SUMMARY:Rehasport (Trocken)
DESCRIPTION:Mit physiotherapeutischen Methoden werden Kraft\, Ausdauer\, Koordination und Beweglichkeit verbessert – das Gruppentraining zielt auf die Steigerung der Leistungsfähigkeit und Schmerzlinderung ab und fördert mehr Gesundheit und Lebensqualität.
URL:https://www.aktivita-badessen.de/einzelkurs/rehasport-trocken/2026-04-17/
LOCATION:AKTIVITA Physio-Med\, Nikolaistraße 34/36\, Bad Essen\, 49152\, Deutschland
CATEGORIES:Rehasportkurs
END:VEVENT
BEGIN:VEVENT
DTSTART;TZID=Europe/Berlin:20260417T093000
DTEND;TZID=Europe/Berlin:20260417T103000
DTSTAMP:20260421T023131
CREATED:20241202T125846Z
LAST-MODIFIED:20251211T143212Z
UID:10076174-1776418200-1776421800@www.aktivita-badessen.de
SUMMARY:Pilates
DESCRIPTION:Pilates-Prinzipien wie Konzentration\, Kontrolle\, Atmung und Präzision stärken die Körpermitte\, kräftigen die Rumpfmuskulatur und fördern die Flexibilität. Ein ausgewogenes Training für mehr Kraft und Beweglichkeit.
URL:https://www.aktivita-badessen.de/einzelkurs/pilates-trocken-neu-4/2026-04-17/
LOCATION:AKTIVITA Physio-Med\, Nikolaistraße 34/36\, Bad Essen\, 49152\, Deutschland
CATEGORIES:Gesundheits- und Präventionskurs
END:VEVENT
BEGIN:VEVENT
DTSTART;TZID=Europe/Berlin:20260417T093000
DTEND;TZID=Europe/Berlin:20260417T103000
DTSTAMP:20260421T023131
CREATED:20241202T115320Z
LAST-MODIFIED:20251211T143247Z
UID:10076200-1776418200-1776421800@www.aktivita-badessen.de
SUMMARY:Osteoporose
DESCRIPTION:Bewegungs- und Sportprogramm zur Erhaltung von Knochendichte und Muskulatur unter fachlicher Anleitung. Kraft-\, Koordinations- und Balancetraining zur Sturzvermeidung sowie Tipps zum allgemeinen Umgang mit Osteoporose.
URL:https://www.aktivita-badessen.de/einzelkurs/osteoporose-trocken-neu-4/2026-04-17/
LOCATION:AKTIVITA Physio-Med\, Nikolaistraße 34/36\, Bad Essen\, 49152\, Deutschland
CATEGORIES:Funktionstrainingskurs
END:VEVENT
BEGIN:VEVENT
DTSTART;TZID=Europe/Berlin:20260417T090000
DTEND;TZID=Europe/Berlin:20260417T093000
DTSTAMP:20260421T023131
CREATED:20241210T100547Z
LAST-MODIFIED:20251211T135613Z
UID:10075657-1776416400-1776418200@www.aktivita-badessen.de
SUMMARY:Funktionstraining (Trocken)
DESCRIPTION:Gezieltes Training zur Verbesserung der Bewegungsfunktion\, Schmerzlinderung und Steigerung der Beweglichkeit bei bestehenden Erkrankungen\, mit physiotherapeutischen Methoden und fachlicher Anleitung.
URL:https://www.aktivita-badessen.de/einzelkurs/funktionstraining-trocken-neu-9-2/2026-04-17/
LOCATION:AKTIVITA Physio-Med\, Nikolaistraße 34/36\, Bad Essen\, 49152\, Deutschland
CATEGORIES:Funktionstrainingskurs
END:VEVENT
BEGIN:VEVENT
DTSTART;TZID=Europe/Berlin:20260417T083000
DTEND;TZID=Europe/Berlin:20260417T093000
DTSTAMP:20260421T023131
CREATED:20241203T134812Z
LAST-MODIFIED:20251211T143350Z
UID:10076252-1776414600-1776418200@www.aktivita-badessen.de
SUMMARY:Wirbelsäulenfit meets BBP
DESCRIPTION:Kombination aus der Straffung von Bauch\, Beinen\, Po und Oberkörper mit gezielten Übungen für eine starke Wirbelsäule und ganzheitliche Fitness.
URL:https://www.aktivita-badessen.de/einzelkurs/wirbwlsaeulen-meets-bbp-trocken/2026-04-17/
LOCATION:AKTIVITA Physio-Med\, Nikolaistraße 34/36\, Bad Essen\, 49152\, Deutschland
CATEGORIES:Gesundheits- und Präventionskurs
END:VEVENT
BEGIN:VEVENT
DTSTART;TZID=Europe/Berlin:20260417T083000
DTEND;TZID=Europe/Berlin:20260417T090000
DTSTAMP:20260421T023131
CREATED:20241202T113637Z
LAST-MODIFIED:20251211T143529Z
UID:10076304-1776414600-1776416400@www.aktivita-badessen.de
SUMMARY:Funktionstraining (Trocken)
DESCRIPTION:Gezieltes Training zur Verbesserung der Bewegungsfunktion\, Schmerzlinderung und Steigerung der Beweglichkeit bei bestehenden Erkrankungen\, mit physiotherapeutischen Methoden und fachlicher Anleitung.
URL:https://www.aktivita-badessen.de/einzelkurs/funktionstraining-trocken-neu-9/2026-04-17/
LOCATION:AKTIVITA Physio-Med\, Nikolaistraße 34/36\, Bad Essen\, 49152\, Deutschland
CATEGORIES:Funktionstrainingskurs
END:VEVENT
BEGIN:VEVENT
DTSTART;TZID=Europe/Berlin:20260416T193000
DTEND;TZID=Europe/Berlin:20260416T203000
DTSTAMP:20260421T023131
CREATED:20240529T130139Z
LAST-MODIFIED:20251211T154211Z
UID:10078310-1776367800-1776371400@www.aktivita-badessen.de
SUMMARY:Wirbelsäulenfit
DESCRIPTION:Effiziente\, dynamische Übungen mit Musik für einen starken Rücken – zur Steigerung von Muskelkraft\, Beweglichkeit und Koordination.
URL:https://www.aktivita-badessen.de/einzelkurs/wirbelsaeulenfit-3/2026-04-16/
LOCATION:AKTIVITA Physio-Med\, Nikolaistraße 34/36\, Bad Essen\, 49152\, Deutschland
CATEGORIES:Gesundheits- und Präventionskurs
END:VEVENT
BEGIN:VEVENT
DTSTART;TZID=Europe/Berlin:20260416T183000
DTEND;TZID=Europe/Berlin:20260416T193000
DTSTAMP:20260421T023131
CREATED:20241202T132906Z
LAST-MODIFIED:20251211T143920Z
UID:10076460-1776364200-1776367800@www.aktivita-badessen.de
SUMMARY:Qigong
DESCRIPTION:Sanfte\, fließende Bewegungen und ruhige Atemübungen für entspannte Konzentration und harmonische Balance von Körper\, Geist und Seele.
URL:https://www.aktivita-badessen.de/einzelkurs/qigong-trocken-neu-3/2026-04-16/
LOCATION:AKTIVITA Physio-Med\, Nikolaistraße 34/36\, Bad Essen\, 49152\, Deutschland
CATEGORIES:Gesundheits- und Präventionskurs
END:VEVENT
BEGIN:VEVENT
DTSTART;TZID=Europe/Berlin:20260416T180000
DTEND;TZID=Europe/Berlin:20260416T190000
DTSTAMP:20260421T023131
CREATED:20241204T090340Z
LAST-MODIFIED:20251211T145425Z
UID:10076558-1776362400-1776366000@www.aktivita-badessen.de
SUMMARY:Zertifiziertes Gerätetraining
DESCRIPTION:Das Ganzkörpertraining: Zertifiziertes Gerätetraining in kleinen Gruppen\, unter Anleitung eines qualifizierten Physiotherapeuten\, zur Krafterhaltung und Verbesserung des allgemeinen Wohlbefindens – einmal wöchentlich.
URL:https://www.aktivita-badessen.de/einzelkurs/zirkeltraining-das-ganzkoerpertraining-trocken-neu-6/2026-04-16/
LOCATION:AKTIVITA Physio-Med\, Nikolaistraße 34/36\, Bad Essen\, 49152\, Deutschland
CATEGORIES:Gesundheits- und Präventionskurs
END:VEVENT
BEGIN:VEVENT
DTSTART;TZID=Europe/Berlin:20260416T174500
DTEND;TZID=Europe/Berlin:20260416T183000
DTSTAMP:20260421T023131
CREATED:20241204T095729Z
LAST-MODIFIED:20251211T145840Z
UID:10076610-1776361500-1776364200@www.aktivita-badessen.de
SUMMARY:Rehasport (Trocken)
DESCRIPTION:Mit physiotherapeutischen Methoden werden Kraft\, Ausdauer\, Koordination und Beweglichkeit verbessert – das Gruppentraining zielt auf die Steigerung der Leistungsfähigkeit und Schmerzlinderung ab und fördert mehr Gesundheit und Lebensqualität.
URL:https://www.aktivita-badessen.de/einzelkurs/rehasport-trocken-neu-14/2026-04-16/
LOCATION:AKTIVITA Physio-Med\, Nikolaistraße 34/36\, Bad Essen\, 49152\, Deutschland
CATEGORIES:Rehasportkurs
END:VEVENT
END:VCALENDAR