BEGIN:VCALENDAR
VERSION:2.0
PRODID:-//AKTIVITA Bad Essen - ECPv6.15.20//NONSGML v1.0//EN
CALSCALE:GREGORIAN
METHOD:PUBLISH
X-WR-CALNAME:AKTIVITA Bad Essen
X-ORIGINAL-URL:https://www.aktivita-badessen.de
X-WR-CALDESC:Kurse für AKTIVITA Bad Essen
REFRESH-INTERVAL;VALUE=DURATION:PT1H
X-Robots-Tag:noindex
X-PUBLISHED-TTL:PT1H
BEGIN:VTIMEZONE
TZID:Europe/Berlin
BEGIN:DAYLIGHT
TZOFFSETFROM:+0100
TZOFFSETTO:+0200
TZNAME:CEST
DTSTART:20240331T010000
END:DAYLIGHT
BEGIN:STANDARD
TZOFFSETFROM:+0200
TZOFFSETTO:+0100
TZNAME:CET
DTSTART:20241027T010000
END:STANDARD
BEGIN:DAYLIGHT
TZOFFSETFROM:+0100
TZOFFSETTO:+0200
TZNAME:CEST
DTSTART:20250330T010000
END:DAYLIGHT
BEGIN:STANDARD
TZOFFSETFROM:+0200
TZOFFSETTO:+0100
TZNAME:CET
DTSTART:20251026T010000
END:STANDARD
BEGIN:DAYLIGHT
TZOFFSETFROM:+0100
TZOFFSETTO:+0200
TZNAME:CEST
DTSTART:20260329T010000
END:DAYLIGHT
BEGIN:STANDARD
TZOFFSETFROM:+0200
TZOFFSETTO:+0100
TZNAME:CET
DTSTART:20261025T010000
END:STANDARD
END:VTIMEZONE
BEGIN:VEVENT
DTSTART;TZID=Europe/Berlin:20250217T170000
DTEND;TZID=Europe/Berlin:20250217T183000
DTSTAMP:20260422T111235
CREATED:20250217T104359Z
LAST-MODIFIED:20251211T134847Z
UID:10065321-1739811600-1739817000@www.aktivita-badessen.de
SUMMARY:Yoga\, 90 Minuten
DESCRIPTION:Im Fokus stehen Achtsamkeit\, Konzentration und Körperwahrnehmung. Durch bewusstes Atmen wird die Flexibilität gefördert und eine entspannte Ausgeglichenheit erreicht.
URL:https://www.aktivita-badessen.de/einzelkurs/yoga-4-2-2-2-2/2025-02-17/
LOCATION:AKTIVITA Physio-Med\, Nikolaistraße 34/36\, Bad Essen\, 49152\, Deutschland
CATEGORIES:Fitnesskurs
END:VEVENT
BEGIN:VEVENT
DTSTART;TZID=Europe/Berlin:20250217T170000
DTEND;TZID=Europe/Berlin:20250217T180000
DTSTAMP:20260422T111235
CREATED:20241210T095834Z
LAST-MODIFIED:20251211T133255Z
UID:10030873-1739811600-1739815200@www.aktivita-badessen.de
SUMMARY:Zumba®
DESCRIPTION:Ein perfektes Tanzworkout mit lateinamerikanischer und internationaler Musik. Tänze wie Merengue\, Cumbia\, Reggaeton\, Salsa und mehr sorgen für Spaß und Energie.
URL:https://www.aktivita-badessen.de/einzelkurs/zumba-2-2/2025-02-17/
LOCATION:AKTIVITA Physio-Med\, Nikolaistraße 34/36\, Bad Essen\, 49152\, Deutschland
CATEGORIES:Fitnesskurs
END:VEVENT
BEGIN:VEVENT
DTSTART;TZID=Europe/Berlin:20250217T160000
DTEND;TZID=Europe/Berlin:20250217T164500
DTSTAMP:20260422T111235
CREATED:20241204T093339Z
LAST-MODIFIED:20251211T153524Z
UID:10049354-1739808000-1739810700@www.aktivita-badessen.de
SUMMARY:Rehasport (Trocken)
DESCRIPTION:Mit physiotherapeutischen Methoden werden Kraft\, Ausdauer\, Koordination und Beweglichkeit verbessert – das Gruppentraining zielt auf die Steigerung der Leistungsfähigkeit und Schmerzlinderung ab und fördert mehr Gesundheit und Lebensqualität.
URL:https://www.aktivita-badessen.de/einzelkurs/rehasport-trocken-neu-3/2025-02-17/
LOCATION:AKTIVITA Physio-Med\, Nikolaistraße 34/36\, Bad Essen\, 49152\, Deutschland
CATEGORIES:Rehasportkurs
END:VEVENT
BEGIN:VEVENT
DTSTART;TZID=Europe/Berlin:20250217T114500
DTEND;TZID=Europe/Berlin:20250217T123000
DTSTAMP:20260422T111235
CREATED:20240529T145932Z
LAST-MODIFIED:20251211T154743Z
UID:10067178-1739792700-1739795400@www.aktivita-badessen.de
SUMMARY:Lungensport / COPD
DESCRIPTION:Gezieltes Kraft- und Ausdauertraining zur Förderung der Atemkapazität. Brustkorbdehnungen und Atemtechniken verbessern die Belastbarkeit und steigern die Leistungsfähigkeit im Alltag.
URL:https://www.aktivita-badessen.de/einzelkurs/copd-lungensport/2025-02-17/
LOCATION:AKTIVITA Physio-Med\, Nikolaistraße 34/36\, Bad Essen\, 49152\, Deutschland
CATEGORIES:Rehasportkurs
END:VEVENT
BEGIN:VEVENT
DTSTART;TZID=Europe/Berlin:20250217T110000
DTEND;TZID=Europe/Berlin:20250217T120000
DTSTAMP:20260422T111235
CREATED:20241203T142908Z
LAST-MODIFIED:20251211T153630Z
UID:10046594-1739790000-1739793600@www.aktivita-badessen.de
SUMMARY:Zertifiziertes Gerätetraining
DESCRIPTION:Das Ganzkörpertraining: Zertifiziertes Gerätetraining in kleinen Gruppen\, unter Anleitung eines qualifizierten Physiotherapeuten\, zur Krafterhaltung und Verbesserung des allgemeinen Wohlbefindens – einmal wöchentlich
URL:https://www.aktivita-badessen.de/einzelkurs/zirkeltraining-das-ganzkoerpertraining-trocken-neu/2025-02-17/
LOCATION:AKTIVITA Physio-Med\, Nikolaistraße 34/36\, Bad Essen\, 49152\, Deutschland
CATEGORIES:Gesundheits- und Präventionskurs
END:VEVENT
BEGIN:VEVENT
DTSTART;TZID=Europe/Berlin:20250217T100000
DTEND;TZID=Europe/Berlin:20250217T110000
DTSTAMP:20260422T111235
CREATED:20241202T125530Z
LAST-MODIFIED:20251211T153720Z
UID:10042791-1739786400-1739790000@www.aktivita-badessen.de
SUMMARY:Pilates
DESCRIPTION:Pilates-Prinzipien wie Konzentration\, Kontrolle\, Atmung und Präzision stärken die Körpermitte\, kräftigen die Rumpfmuskulatur und fördern die Flexibilität. Ein ausgewogenes Training für mehr Kraft und Beweglichkeit.
URL:https://www.aktivita-badessen.de/einzelkurs/pilates-trocken-neu/2025-02-17/
LOCATION:AKTIVITA Physio-Med\, Nikolaistraße 34/36\, Bad Essen\, 49152\, Deutschland
CATEGORIES:Gesundheits- und Präventionskurs
END:VEVENT
BEGIN:VEVENT
DTSTART;TZID=Europe/Berlin:20250217T093000
DTEND;TZID=Europe/Berlin:20250217T103000
DTSTAMP:20260422T111235
CREATED:20241202T114536Z
LAST-MODIFIED:20251211T153923Z
UID:10039659-1739784600-1739788200@www.aktivita-badessen.de
SUMMARY:Osteoporose
DESCRIPTION:Bewegungs- und Sportprogramm zur Erhaltung von Knochendichte und Muskulatur unter fachlicher Anleitung. Kraft-\, Koordinations- und Balancetraining zur Sturzvermeidung sowie Tipps zum allgemeinen Umgang mit Osteoporose.
URL:https://www.aktivita-badessen.de/einzelkurs/osteoporose-trocken-neu/2025-02-17/
LOCATION:AKTIVITA Physio-Med\, Nikolaistraße 34/36\, Bad Essen\, 49152\, Deutschland
CATEGORIES:Funktionstrainingskurs
END:VEVENT
BEGIN:VEVENT
DTSTART;TZID=Europe/Berlin:20250217T090000
DTEND;TZID=Europe/Berlin:20250217T100000
DTSTAMP:20260422T111235
CREATED:20241203T133918Z
LAST-MODIFIED:20251211T154029Z
UID:10045548-1739782800-1739786400@www.aktivita-badessen.de
SUMMARY:Wirbelsäulenfit meets BBP
DESCRIPTION:Kombination aus der Straffung von Bauch\, Beinen\, Po und Oberkörper mit gezielten Übungen für eine starke Wirbelsäule und ganzheitliche Fitness.
URL:https://www.aktivita-badessen.de/einzelkurs/wirbelsaeulen-meets-bbp-trocken-neu/2025-02-17/
LOCATION:AKTIVITA Physio-Med\, Nikolaistraße 34/36\, Bad Essen\, 49152\, Deutschland
CATEGORIES:Gesundheits- und Präventionskurs
END:VEVENT
BEGIN:VEVENT
DTSTART;TZID=Europe/Berlin:20250217T083000
DTEND;TZID=Europe/Berlin:20250217T093000
DTSTAMP:20260422T111235
CREATED:20240529T132227Z
LAST-MODIFIED:20251211T154813Z
UID:10013371-1739781000-1739784600@www.aktivita-badessen.de
SUMMARY:Wirbelsäulenfit Sanft und Aktiv
DESCRIPTION:Sanfte und effektive Übungen für jedes Fitnesslevel\, um die Rückengesundheit im Alltag durch gezielte Bewegung zu fördern.
URL:https://www.aktivita-badessen.de/einzelkurs/wirbelsaeulenfit-sanft-und-aktiv/2025-02-17/
LOCATION:AKTIVITA Physio-Med\, Nikolaistraße 34/36\, Bad Essen\, 49152\, Deutschland
CATEGORIES:Gesundheits- und Präventionskurs
END:VEVENT
BEGIN:VEVENT
DTSTART;TZID=Europe/Berlin:20250214T210000
DTEND;TZID=Europe/Berlin:20250214T220000
DTSTAMP:20260422T111235
CREATED:20241204T113926Z
LAST-MODIFIED:20251211T135944Z
UID:10065052-1739566800-1739570400@www.aktivita-badessen.de
SUMMARY:Tanzclub – für Paare
DESCRIPTION:Vom Discofox bis zur Rumba – alle Tänze des Welttanzprogramms werden in angenehmer Gesellschaft mit viel Spaß erlernt. \nIn Kooperation mit Guido Niermann
URL:https://www.aktivita-badessen.de/einzelkurs/tanzclub-fuer-paare-trocken-neu/2025-02-14/
LOCATION:AKTIVITA Physio-Med\, Nikolaistraße 34/36\, Bad Essen\, 49152\, Deutschland
CATEGORIES:Tanzkurs
END:VEVENT
BEGIN:VEVENT
DTSTART;TZID=Europe/Berlin:20250214T200000
DTEND;TZID=Europe/Berlin:20250214T210000
DTSTAMP:20260422T111235
CREATED:20240529T124035Z
LAST-MODIFIED:20251211T154126Z
UID:10066789-1739563200-1739566800@www.aktivita-badessen.de
SUMMARY:Tango Argentino – für Paare
DESCRIPTION:Der Tango Argentino – ein Tanz voller Emotionen und Leidenschaft\, der die Tiefe der argentinischen Musik widerspiegelt und die Verbindung zwischen den Tanzpartnern stärkt. \nIn Kooperation mit Guido Niermann
URL:https://www.aktivita-badessen.de/einzelkurs/tango-argentino/2025-02-14/
LOCATION:AKTIVITA Physio-Med\, Nikolaistraße 34/36\, Bad Essen\, 49152\, Deutschland
CATEGORIES:Tanzkurs
END:VEVENT
BEGIN:VEVENT
DTSTART;TZID=Europe/Berlin:20250214T190000
DTEND;TZID=Europe/Berlin:20250214T200000
DTSTAMP:20260422T111235
CREATED:20240529T121344Z
LAST-MODIFIED:20251211T154148Z
UID:10066811-1739559600-1739563200@www.aktivita-badessen.de
SUMMARY:Salsa Solo Style
DESCRIPTION:Tanzen zu mitreißenden lateinamerikanischen Rhythmen ohne Tanzpartner und Erlernen der Salsa-Basics\, die zu kreativen Choreografien weiterentwickelt werden. \nIn Kooperation mit Guido Niermann
URL:https://www.aktivita-badessen.de/einzelkurs/salsa-solo-style/2025-02-14/
LOCATION:AKTIVITA Physio-Med\, Nikolaistraße 34/36\, Bad Essen\, 49152\, Deutschland
CATEGORIES:Tanzkurs
END:VEVENT
BEGIN:VEVENT
DTSTART;TZID=Europe/Berlin:20250214T180000
DTEND;TZID=Europe/Berlin:20250214T190000
DTSTAMP:20260422T111235
CREATED:20241202T130409Z
LAST-MODIFIED:20251211T142226Z
UID:10043834-1739556000-1739559600@www.aktivita-badessen.de
SUMMARY:Pilates
DESCRIPTION:Pilates-Prinzipien wie Konzentration\, Kontrolle\, Atmung und Präzision stärken die Körpermitte\, kräftigen die Rumpfmuskulatur und fördern die Flexibilität. Ein ausgewogenes Training für mehr Kraft und Beweglichkeit.
URL:https://www.aktivita-badessen.de/einzelkurs/pilates-trocken-neu-5/2025-02-14/
LOCATION:AKTIVITA Physio-Med\, Nikolaistraße 34/36\, Bad Essen\, 49152\, Deutschland
CATEGORIES:Gesundheits- und Präventionskurs
END:VEVENT
BEGIN:VEVENT
DTSTART;TZID=Europe/Berlin:20250214T160000
DTEND;TZID=Europe/Berlin:20250214T170000
DTSTAMP:20260422T111235
CREATED:20241204T090742Z
LAST-MODIFIED:20251211T142406Z
UID:10048685-1739548800-1739552400@www.aktivita-badessen.de
SUMMARY:Zertifiziertes Gerätetraining
DESCRIPTION:Das Ganzkörpertraining: Zertifiziertes Gerätetraining in kleinen Gruppen\, unter Anleitung eines qualifizierten Physiotherapeuten\, zur Krafterhaltung und Verbesserung des allgemeinen Wohlbefindens – einmal wöchentlich.
URL:https://www.aktivita-badessen.de/einzelkurs/zirkeltraining-das-ganzkoerpertraining-trocken-neu-8/2025-02-14/
LOCATION:AKTIVITA Physio-Med\, Nikolaistraße 34/36\, Bad Essen\, 49152\, Deutschland
CATEGORIES:Gesundheits- und Präventionskurs
END:VEVENT
BEGIN:VEVENT
DTSTART;TZID=Europe/Berlin:20250214T110000
DTEND;TZID=Europe/Berlin:20250214T120000
DTSTAMP:20260422T111235
CREATED:20241202T133025Z
LAST-MODIFIED:20251211T142708Z
UID:10068207-1739530800-1739534400@www.aktivita-badessen.de
SUMMARY:Qigong
DESCRIPTION:Sanfte\, fließende Bewegungen und ruhige Atemübungen für entspannte Konzentration und harmonische Balance von Körper\, Geist und Seele.
URL:https://www.aktivita-badessen.de/einzelkurs/qigong-trocken-neu-4/2025-02-14/
LOCATION:AKTIVITA Physio-Med\, Nikolaistraße 34/36\, Bad Essen\, 49152\, Deutschland
CATEGORIES:Gesundheits- und Präventionskurs
END:VEVENT
BEGIN:VEVENT
DTSTART;TZID=Europe/Berlin:20250214T104500
DTEND;TZID=Europe/Berlin:20250214T113000
DTSTAMP:20260422T111235
CREATED:20241213T152211Z
LAST-MODIFIED:20251211T142738Z
UID:10068080-1739529900-1739532600@www.aktivita-badessen.de
SUMMARY:Rehasport (Trocken)
DESCRIPTION:Mit physiotherapeutischen Methoden werden Kraft\, Ausdauer\, Koordination und Beweglichkeit verbessert – das Gruppentraining zielt auf die Steigerung der Leistungsfähigkeit und Schmerzlinderung ab und fördert mehr Gesundheit und Lebensqualität.
URL:https://www.aktivita-badessen.de/einzelkurs/rehasport-trocken/2025-02-14/
LOCATION:AKTIVITA Physio-Med\, Nikolaistraße 34/36\, Bad Essen\, 49152\, Deutschland
CATEGORIES:Rehasportkurs
END:VEVENT
BEGIN:VEVENT
DTSTART;TZID=Europe/Berlin:20250214T093000
DTEND;TZID=Europe/Berlin:20250214T103000
DTSTAMP:20260422T111235
CREATED:20241202T125846Z
LAST-MODIFIED:20251211T143212Z
UID:10043573-1739525400-1739529000@www.aktivita-badessen.de
SUMMARY:Pilates
DESCRIPTION:Pilates-Prinzipien wie Konzentration\, Kontrolle\, Atmung und Präzision stärken die Körpermitte\, kräftigen die Rumpfmuskulatur und fördern die Flexibilität. Ein ausgewogenes Training für mehr Kraft und Beweglichkeit.
URL:https://www.aktivita-badessen.de/einzelkurs/pilates-trocken-neu-4/2025-02-14/
LOCATION:AKTIVITA Physio-Med\, Nikolaistraße 34/36\, Bad Essen\, 49152\, Deutschland
CATEGORIES:Gesundheits- und Präventionskurs
END:VEVENT
BEGIN:VEVENT
DTSTART;TZID=Europe/Berlin:20250214T093000
DTEND;TZID=Europe/Berlin:20250214T103000
DTSTAMP:20260422T111235
CREATED:20241202T115320Z
LAST-MODIFIED:20251211T143247Z
UID:10040441-1739525400-1739529000@www.aktivita-badessen.de
SUMMARY:Osteoporose
DESCRIPTION:Bewegungs- und Sportprogramm zur Erhaltung von Knochendichte und Muskulatur unter fachlicher Anleitung. Kraft-\, Koordinations- und Balancetraining zur Sturzvermeidung sowie Tipps zum allgemeinen Umgang mit Osteoporose.
URL:https://www.aktivita-badessen.de/einzelkurs/osteoporose-trocken-neu-4/2025-02-14/
LOCATION:AKTIVITA Physio-Med\, Nikolaistraße 34/36\, Bad Essen\, 49152\, Deutschland
CATEGORIES:Funktionstrainingskurs
END:VEVENT
BEGIN:VEVENT
DTSTART;TZID=Europe/Berlin:20250214T090000
DTEND;TZID=Europe/Berlin:20250214T093000
DTSTAMP:20260422T111235
CREATED:20241210T100547Z
LAST-MODIFIED:20251211T135613Z
UID:10065847-1739523600-1739525400@www.aktivita-badessen.de
SUMMARY:Funktionstraining (Trocken)
DESCRIPTION:Gezieltes Training zur Verbesserung der Bewegungsfunktion\, Schmerzlinderung und Steigerung der Beweglichkeit bei bestehenden Erkrankungen\, mit physiotherapeutischen Methoden und fachlicher Anleitung.
URL:https://www.aktivita-badessen.de/einzelkurs/funktionstraining-trocken-neu-9-2/2025-02-14/
LOCATION:AKTIVITA Physio-Med\, Nikolaistraße 34/36\, Bad Essen\, 49152\, Deutschland
CATEGORIES:Funktionstrainingskurs
END:VEVENT
BEGIN:VEVENT
DTSTART;TZID=Europe/Berlin:20250214T083000
DTEND;TZID=Europe/Berlin:20250214T093000
DTSTAMP:20260422T111235
CREATED:20241203T134812Z
LAST-MODIFIED:20251211T143350Z
UID:10046332-1739521800-1739525400@www.aktivita-badessen.de
SUMMARY:Wirbelsäulenfit meets BBP
DESCRIPTION:Kombination aus der Straffung von Bauch\, Beinen\, Po und Oberkörper mit gezielten Übungen für eine starke Wirbelsäule und ganzheitliche Fitness.
URL:https://www.aktivita-badessen.de/einzelkurs/wirbwlsaeulen-meets-bbp-trocken/2025-02-14/
LOCATION:AKTIVITA Physio-Med\, Nikolaistraße 34/36\, Bad Essen\, 49152\, Deutschland
CATEGORIES:Gesundheits- und Präventionskurs
END:VEVENT
BEGIN:VEVENT
DTSTART;TZID=Europe/Berlin:20250214T083000
DTEND;TZID=Europe/Berlin:20250214T090000
DTSTAMP:20260422T111235
CREATED:20241202T113637Z
LAST-MODIFIED:20251211T143529Z
UID:10069651-1739521800-1739523600@www.aktivita-badessen.de
SUMMARY:Funktionstraining (Trocken)
DESCRIPTION:Gezieltes Training zur Verbesserung der Bewegungsfunktion\, Schmerzlinderung und Steigerung der Beweglichkeit bei bestehenden Erkrankungen\, mit physiotherapeutischen Methoden und fachlicher Anleitung.
URL:https://www.aktivita-badessen.de/einzelkurs/funktionstraining-trocken-neu-9/2025-02-14/
LOCATION:AKTIVITA Physio-Med\, Nikolaistraße 34/36\, Bad Essen\, 49152\, Deutschland
CATEGORIES:Funktionstrainingskurs
END:VEVENT
BEGIN:VEVENT
DTSTART;TZID=Europe/Berlin:20250213T193000
DTEND;TZID=Europe/Berlin:20250213T203000
DTSTAMP:20260422T111235
CREATED:20240529T130139Z
LAST-MODIFIED:20251211T154211Z
UID:10066858-1739475000-1739478600@www.aktivita-badessen.de
SUMMARY:Wirbelsäulenfit
DESCRIPTION:Effiziente\, dynamische Übungen mit Musik für einen starken Rücken – zur Steigerung von Muskelkraft\, Beweglichkeit und Koordination.
URL:https://www.aktivita-badessen.de/einzelkurs/wirbelsaeulenfit-3/2025-02-13/
LOCATION:AKTIVITA Physio-Med\, Nikolaistraße 34/36\, Bad Essen\, 49152\, Deutschland
CATEGORIES:Gesundheits- und Präventionskurs
END:VEVENT
BEGIN:VEVENT
DTSTART;TZID=Europe/Berlin:20250213T183000
DTEND;TZID=Europe/Berlin:20250213T193000
DTSTAMP:20260422T111235
CREATED:20241202T132906Z
LAST-MODIFIED:20251211T143920Z
UID:10045138-1739471400-1739475000@www.aktivita-badessen.de
SUMMARY:Qigong
DESCRIPTION:Sanfte\, fließende Bewegungen und ruhige Atemübungen für entspannte Konzentration und harmonische Balance von Körper\, Geist und Seele.
URL:https://www.aktivita-badessen.de/einzelkurs/qigong-trocken-neu-3/2025-02-13/
LOCATION:AKTIVITA Physio-Med\, Nikolaistraße 34/36\, Bad Essen\, 49152\, Deutschland
CATEGORIES:Gesundheits- und Präventionskurs
END:VEVENT
BEGIN:VEVENT
DTSTART;TZID=Europe/Berlin:20250213T180000
DTEND;TZID=Europe/Berlin:20250213T190000
DTSTAMP:20260422T111235
CREATED:20241204T090340Z
LAST-MODIFIED:20251211T145425Z
UID:10048163-1739469600-1739473200@www.aktivita-badessen.de
SUMMARY:Zertifiziertes Gerätetraining
DESCRIPTION:Das Ganzkörpertraining: Zertifiziertes Gerätetraining in kleinen Gruppen\, unter Anleitung eines qualifizierten Physiotherapeuten\, zur Krafterhaltung und Verbesserung des allgemeinen Wohlbefindens – einmal wöchentlich.
URL:https://www.aktivita-badessen.de/einzelkurs/zirkeltraining-das-ganzkoerpertraining-trocken-neu-6/2025-02-13/
LOCATION:AKTIVITA Physio-Med\, Nikolaistraße 34/36\, Bad Essen\, 49152\, Deutschland
CATEGORIES:Gesundheits- und Präventionskurs
END:VEVENT
BEGIN:VEVENT
DTSTART;TZID=Europe/Berlin:20250213T174500
DTEND;TZID=Europe/Berlin:20250213T183000
DTSTAMP:20260422T111235
CREATED:20241204T095729Z
LAST-MODIFIED:20251211T145840Z
UID:10067976-1739468700-1739471400@www.aktivita-badessen.de
SUMMARY:Rehasport (Trocken)
DESCRIPTION:Mit physiotherapeutischen Methoden werden Kraft\, Ausdauer\, Koordination und Beweglichkeit verbessert – das Gruppentraining zielt auf die Steigerung der Leistungsfähigkeit und Schmerzlinderung ab und fördert mehr Gesundheit und Lebensqualität.
URL:https://www.aktivita-badessen.de/einzelkurs/rehasport-trocken-neu-14/2025-02-13/
LOCATION:AKTIVITA Physio-Med\, Nikolaistraße 34/36\, Bad Essen\, 49152\, Deutschland
CATEGORIES:Rehasportkurs
END:VEVENT
BEGIN:VEVENT
DTSTART;TZID=Europe/Berlin:20250213T110000
DTEND;TZID=Europe/Berlin:20250213T120000
DTSTAMP:20260422T111235
CREATED:20241202T132227Z
LAST-MODIFIED:20251211T135711Z
UID:10044094-1739444400-1739448000@www.aktivita-badessen.de
SUMMARY:Qigong
DESCRIPTION:Sanfte\, fließende Bewegungen und ruhige Atemübungen für entspannte Konzentration und harmonische Balance von Körper\, Geist und Seele.
URL:https://www.aktivita-badessen.de/einzelkurs/qigong-trocken-neu/2025-02-13/
LOCATION:AKTIVITA Physio-Med\, Nikolaistraße 34/36\, Bad Essen\, 49152\, Deutschland
CATEGORIES:Gesundheits- und Präventionskurs
END:VEVENT
BEGIN:VEVENT
DTSTART;TZID=Europe/Berlin:20250213T093000
DTEND;TZID=Europe/Berlin:20250213T103000
DTSTAMP:20260422T111235
CREATED:20241202T115214Z
LAST-MODIFIED:20251211T150703Z
UID:10040702-1739439000-1739442600@www.aktivita-badessen.de
SUMMARY:Osteoporose
DESCRIPTION:Bewegungs- und Sportprogramm zur Erhaltung von Knochendichte und Muskulatur unter fachlicher Anleitung. Kraft-\, Koordinations- und Balancetraining zur Sturzvermeidung sowie Tipps zum allgemeinen Umgang mit Osteoporose.
URL:https://www.aktivita-badessen.de/einzelkurs/osteoporose-trocken-neu-3/2025-02-13/
LOCATION:AKTIVITA Physio-Med\, Nikolaistraße 34/36\, Bad Essen\, 49152\, Deutschland
CATEGORIES:Funktionstrainingskurs
END:VEVENT
BEGIN:VEVENT
DTSTART;TZID=Europe/Berlin:20250212T200000
DTEND;TZID=Europe/Berlin:20250212T210000
DTSTAMP:20260422T111235
CREATED:20240529T102148Z
LAST-MODIFIED:20251211T154240Z
UID:10008925-1739390400-1739394000@www.aktivita-badessen.de
SUMMARY:Männerfit
DESCRIPTION:Intensives Kraft-Ausdauertraining kombiniert mit gezieltem Wirbelsäulentraining – die perfekte aktive Auszeit für Männer im Alltag.
URL:https://www.aktivita-badessen.de/einzelkurs/maennerfit/2025-02-12/
LOCATION:AKTIVITA Physio-Med\, Nikolaistraße 34/36\, Bad Essen\, 49152\, Deutschland
CATEGORIES:Gesundheits- und Präventionskurs
END:VEVENT
BEGIN:VEVENT
DTSTART;TZID=Europe/Berlin:20250212T194500
DTEND;TZID=Europe/Berlin:20250212T203000
DTSTAMP:20260422T111235
CREATED:20241204T094852Z
LAST-MODIFIED:20251211T150955Z
UID:10051446-1739389500-1739392200@www.aktivita-badessen.de
SUMMARY:Rehasport (Trocken)
DESCRIPTION:Mit physiotherapeutischen Methoden werden Kraft\, Ausdauer\, Koordination und Beweglichkeit verbessert – das Gruppentraining zielt auf die Steigerung der Leistungsfähigkeit und Schmerzlinderung ab und fördert mehr Gesundheit und Lebensqualität.
URL:https://www.aktivita-badessen.de/einzelkurs/rehasport-trocken-neu-11/2025-02-12/
LOCATION:AKTIVITA Physio-Med\, Nikolaistraße 34/36\, Bad Essen\, 49152\, Deutschland
CATEGORIES:Rehasportkurs
END:VEVENT
BEGIN:VEVENT
DTSTART;TZID=Europe/Berlin:20250212T190000
DTEND;TZID=Europe/Berlin:20250212T200000
DTSTAMP:20260422T111235
CREATED:20240529T132436Z
LAST-MODIFIED:20251211T154347Z
UID:10013632-1739386800-1739390400@www.aktivita-badessen.de
SUMMARY:Wirbelsäulenfit meets Step
DESCRIPTION:Step-Aerobic mit Fokus auf Rumpfmuskulatur: Hier werden Ausdauer\, Konzentration und Koordination gefördert – ganzheitliche Prävention\, ideal für Fortgeschrittene.
URL:https://www.aktivita-badessen.de/einzelkurs/wirbelsaeulenfit-meets-step/2025-02-12/
LOCATION:AKTIVITA Physio-Med\, Nikolaistraße 34/36\, Bad Essen\, 49152\, Deutschland
CATEGORIES:Gesundheits- und Präventionskurs
END:VEVENT
END:VCALENDAR