BEGIN:VCALENDAR
VERSION:2.0
PRODID:-//AKTIVITA Bad Essen - ECPv6.15.20//NONSGML v1.0//EN
CALSCALE:GREGORIAN
METHOD:PUBLISH
X-ORIGINAL-URL:https://www.aktivita-badessen.de
X-WR-CALDESC:Kurse für AKTIVITA Bad Essen
REFRESH-INTERVAL;VALUE=DURATION:PT1H
X-Robots-Tag:noindex
X-PUBLISHED-TTL:PT1H
BEGIN:VTIMEZONE
TZID:Europe/Berlin
BEGIN:DAYLIGHT
TZOFFSETFROM:+0100
TZOFFSETTO:+0200
TZNAME:CEST
DTSTART:20240331T010000
END:DAYLIGHT
BEGIN:STANDARD
TZOFFSETFROM:+0200
TZOFFSETTO:+0100
TZNAME:CET
DTSTART:20241027T010000
END:STANDARD
BEGIN:DAYLIGHT
TZOFFSETFROM:+0100
TZOFFSETTO:+0200
TZNAME:CEST
DTSTART:20250330T010000
END:DAYLIGHT
BEGIN:STANDARD
TZOFFSETFROM:+0200
TZOFFSETTO:+0100
TZNAME:CET
DTSTART:20251026T010000
END:STANDARD
BEGIN:DAYLIGHT
TZOFFSETFROM:+0100
TZOFFSETTO:+0200
TZNAME:CEST
DTSTART:20260329T010000
END:DAYLIGHT
BEGIN:STANDARD
TZOFFSETFROM:+0200
TZOFFSETTO:+0100
TZNAME:CET
DTSTART:20261025T010000
END:STANDARD
END:VTIMEZONE
BEGIN:VEVENT
DTSTART;TZID=Europe/Berlin:20250214T083000
DTEND;TZID=Europe/Berlin:20250214T093000
DTSTAMP:20260420T111310
CREATED:20241203T134812Z
LAST-MODIFIED:20251211T143350Z
UID:10046332-1739521800-1739525400@www.aktivita-badessen.de
SUMMARY:Wirbelsäulenfit meets BBP
DESCRIPTION:Kombination aus der Straffung von Bauch\, Beinen\, Po und Oberkörper mit gezielten Übungen für eine starke Wirbelsäule und ganzheitliche Fitness.
URL:https://www.aktivita-badessen.de/einzelkurs/wirbwlsaeulen-meets-bbp-trocken/2025-02-14/
LOCATION:AKTIVITA Physio-Med\, Nikolaistraße 34/36\, Bad Essen\, 49152\, Deutschland
CATEGORIES:Gesundheits- und Präventionskurs
END:VEVENT
BEGIN:VEVENT
DTSTART;TZID=Europe/Berlin:20250214T083000
DTEND;TZID=Europe/Berlin:20250214T090000
DTSTAMP:20260420T111310
CREATED:20241202T113637Z
LAST-MODIFIED:20251211T143529Z
UID:10069651-1739521800-1739523600@www.aktivita-badessen.de
SUMMARY:Funktionstraining (Trocken)
DESCRIPTION:Gezieltes Training zur Verbesserung der Bewegungsfunktion\, Schmerzlinderung und Steigerung der Beweglichkeit bei bestehenden Erkrankungen\, mit physiotherapeutischen Methoden und fachlicher Anleitung.
URL:https://www.aktivita-badessen.de/einzelkurs/funktionstraining-trocken-neu-9/2025-02-14/
LOCATION:AKTIVITA Physio-Med\, Nikolaistraße 34/36\, Bad Essen\, 49152\, Deutschland
CATEGORIES:Funktionstrainingskurs
END:VEVENT
BEGIN:VEVENT
DTSTART;TZID=Europe/Berlin:20250213T193000
DTEND;TZID=Europe/Berlin:20250213T203000
DTSTAMP:20260420T111310
CREATED:20240529T130139Z
LAST-MODIFIED:20251211T154211Z
UID:10066858-1739475000-1739478600@www.aktivita-badessen.de
SUMMARY:Wirbelsäulenfit
DESCRIPTION:Effiziente\, dynamische Übungen mit Musik für einen starken Rücken – zur Steigerung von Muskelkraft\, Beweglichkeit und Koordination.
URL:https://www.aktivita-badessen.de/einzelkurs/wirbelsaeulenfit-3/2025-02-13/
LOCATION:AKTIVITA Physio-Med\, Nikolaistraße 34/36\, Bad Essen\, 49152\, Deutschland
CATEGORIES:Gesundheits- und Präventionskurs
END:VEVENT
BEGIN:VEVENT
DTSTART;TZID=Europe/Berlin:20250213T183000
DTEND;TZID=Europe/Berlin:20250213T193000
DTSTAMP:20260420T111310
CREATED:20241202T132906Z
LAST-MODIFIED:20251211T143920Z
UID:10045138-1739471400-1739475000@www.aktivita-badessen.de
SUMMARY:Qigong
DESCRIPTION:Sanfte\, fließende Bewegungen und ruhige Atemübungen für entspannte Konzentration und harmonische Balance von Körper\, Geist und Seele.
URL:https://www.aktivita-badessen.de/einzelkurs/qigong-trocken-neu-3/2025-02-13/
LOCATION:AKTIVITA Physio-Med\, Nikolaistraße 34/36\, Bad Essen\, 49152\, Deutschland
CATEGORIES:Gesundheits- und Präventionskurs
END:VEVENT
BEGIN:VEVENT
DTSTART;TZID=Europe/Berlin:20250213T180000
DTEND;TZID=Europe/Berlin:20250213T190000
DTSTAMP:20260420T111310
CREATED:20241204T090340Z
LAST-MODIFIED:20251211T145425Z
UID:10048163-1739469600-1739473200@www.aktivita-badessen.de
SUMMARY:Zertifiziertes Gerätetraining
DESCRIPTION:Das Ganzkörpertraining: Zertifiziertes Gerätetraining in kleinen Gruppen\, unter Anleitung eines qualifizierten Physiotherapeuten\, zur Krafterhaltung und Verbesserung des allgemeinen Wohlbefindens – einmal wöchentlich.
URL:https://www.aktivita-badessen.de/einzelkurs/zirkeltraining-das-ganzkoerpertraining-trocken-neu-6/2025-02-13/
LOCATION:AKTIVITA Physio-Med\, Nikolaistraße 34/36\, Bad Essen\, 49152\, Deutschland
CATEGORIES:Gesundheits- und Präventionskurs
END:VEVENT
BEGIN:VEVENT
DTSTART;TZID=Europe/Berlin:20250213T174500
DTEND;TZID=Europe/Berlin:20250213T183000
DTSTAMP:20260420T111310
CREATED:20241204T095729Z
LAST-MODIFIED:20251211T145840Z
UID:10067976-1739468700-1739471400@www.aktivita-badessen.de
SUMMARY:Rehasport (Trocken)
DESCRIPTION:Mit physiotherapeutischen Methoden werden Kraft\, Ausdauer\, Koordination und Beweglichkeit verbessert – das Gruppentraining zielt auf die Steigerung der Leistungsfähigkeit und Schmerzlinderung ab und fördert mehr Gesundheit und Lebensqualität.
URL:https://www.aktivita-badessen.de/einzelkurs/rehasport-trocken-neu-14/2025-02-13/
LOCATION:AKTIVITA Physio-Med\, Nikolaistraße 34/36\, Bad Essen\, 49152\, Deutschland
CATEGORIES:Rehasportkurs
END:VEVENT
BEGIN:VEVENT
DTSTART;TZID=Europe/Berlin:20250213T110000
DTEND;TZID=Europe/Berlin:20250213T120000
DTSTAMP:20260420T111310
CREATED:20241202T132227Z
LAST-MODIFIED:20251211T135711Z
UID:10044094-1739444400-1739448000@www.aktivita-badessen.de
SUMMARY:Qigong
DESCRIPTION:Sanfte\, fließende Bewegungen und ruhige Atemübungen für entspannte Konzentration und harmonische Balance von Körper\, Geist und Seele.
URL:https://www.aktivita-badessen.de/einzelkurs/qigong-trocken-neu/2025-02-13/
LOCATION:AKTIVITA Physio-Med\, Nikolaistraße 34/36\, Bad Essen\, 49152\, Deutschland
CATEGORIES:Gesundheits- und Präventionskurs
END:VEVENT
BEGIN:VEVENT
DTSTART;TZID=Europe/Berlin:20250213T093000
DTEND;TZID=Europe/Berlin:20250213T103000
DTSTAMP:20260420T111310
CREATED:20241202T115214Z
LAST-MODIFIED:20251211T150703Z
UID:10040702-1739439000-1739442600@www.aktivita-badessen.de
SUMMARY:Osteoporose
DESCRIPTION:Bewegungs- und Sportprogramm zur Erhaltung von Knochendichte und Muskulatur unter fachlicher Anleitung. Kraft-\, Koordinations- und Balancetraining zur Sturzvermeidung sowie Tipps zum allgemeinen Umgang mit Osteoporose.
URL:https://www.aktivita-badessen.de/einzelkurs/osteoporose-trocken-neu-3/2025-02-13/
LOCATION:AKTIVITA Physio-Med\, Nikolaistraße 34/36\, Bad Essen\, 49152\, Deutschland
CATEGORIES:Funktionstrainingskurs
END:VEVENT
BEGIN:VEVENT
DTSTART;TZID=Europe/Berlin:20250212T200000
DTEND;TZID=Europe/Berlin:20250212T210000
DTSTAMP:20260420T111310
CREATED:20240529T102148Z
LAST-MODIFIED:20251211T154240Z
UID:10008925-1739390400-1739394000@www.aktivita-badessen.de
SUMMARY:Männerfit
DESCRIPTION:Intensives Kraft-Ausdauertraining kombiniert mit gezieltem Wirbelsäulentraining – die perfekte aktive Auszeit für Männer im Alltag.
URL:https://www.aktivita-badessen.de/einzelkurs/maennerfit/2025-02-12/
LOCATION:AKTIVITA Physio-Med\, Nikolaistraße 34/36\, Bad Essen\, 49152\, Deutschland
CATEGORIES:Gesundheits- und Präventionskurs
END:VEVENT
BEGIN:VEVENT
DTSTART;TZID=Europe/Berlin:20250212T194500
DTEND;TZID=Europe/Berlin:20250212T203000
DTSTAMP:20260420T111310
CREATED:20241204T094852Z
LAST-MODIFIED:20251211T150955Z
UID:10051446-1739389500-1739392200@www.aktivita-badessen.de
SUMMARY:Rehasport (Trocken)
DESCRIPTION:Mit physiotherapeutischen Methoden werden Kraft\, Ausdauer\, Koordination und Beweglichkeit verbessert – das Gruppentraining zielt auf die Steigerung der Leistungsfähigkeit und Schmerzlinderung ab und fördert mehr Gesundheit und Lebensqualität.
URL:https://www.aktivita-badessen.de/einzelkurs/rehasport-trocken-neu-11/2025-02-12/
LOCATION:AKTIVITA Physio-Med\, Nikolaistraße 34/36\, Bad Essen\, 49152\, Deutschland
CATEGORIES:Rehasportkurs
END:VEVENT
BEGIN:VEVENT
DTSTART;TZID=Europe/Berlin:20250212T190000
DTEND;TZID=Europe/Berlin:20250212T200000
DTSTAMP:20260420T111310
CREATED:20240529T132436Z
LAST-MODIFIED:20251211T154347Z
UID:10013632-1739386800-1739390400@www.aktivita-badessen.de
SUMMARY:Wirbelsäulenfit meets Step
DESCRIPTION:Step-Aerobic mit Fokus auf Rumpfmuskulatur: Hier werden Ausdauer\, Konzentration und Koordination gefördert – ganzheitliche Prävention\, ideal für Fortgeschrittene.
URL:https://www.aktivita-badessen.de/einzelkurs/wirbelsaeulenfit-meets-step/2025-02-12/
LOCATION:AKTIVITA Physio-Med\, Nikolaistraße 34/36\, Bad Essen\, 49152\, Deutschland
CATEGORIES:Gesundheits- und Präventionskurs
END:VEVENT
BEGIN:VEVENT
DTSTART;TZID=Europe/Berlin:20250212T180000
DTEND;TZID=Europe/Berlin:20250212T190000
DTSTAMP:20260420T111310
CREATED:20241202T123703Z
LAST-MODIFIED:20251211T151119Z
UID:10042007-1739383200-1739386800@www.aktivita-badessen.de
SUMMARY:Fascial meets Wirbelsäulenfit
DESCRIPTION:Dehnungs-\, Schwung- und Federübungen kombiniert mit Rumpfkräftigung und faszialer Stabilisierung – für einen starken\, stabilen Rücken.
URL:https://www.aktivita-badessen.de/einzelkurs/fascial-meets-wirbelsaeulenfit-trocken-neu/2025-02-12/
LOCATION:AKTIVITA Physio-Med\, Nikolaistraße 34/36\, Bad Essen\, 49152\, Deutschland
CATEGORIES:Gesundheits- und Präventionskurs
END:VEVENT
BEGIN:VEVENT
DTSTART;TZID=Europe/Berlin:20250212T170000
DTEND;TZID=Europe/Berlin:20250212T180000
DTSTAMP:20260420T111310
CREATED:20241202T125723Z
LAST-MODIFIED:20251211T151210Z
UID:10043312-1739379600-1739383200@www.aktivita-badessen.de
SUMMARY:Pilates
DESCRIPTION:Pilates-Prinzipien wie Konzentration\, Kontrolle\, Atmung und Präzision stärken die Körpermitte\, kräftigen die Rumpfmuskulatur und fördern die Flexibilität. Ein ausgewogenes Training für mehr Kraft und Beweglichkeit.
URL:https://www.aktivita-badessen.de/einzelkurs/pilates-trocken-neu-3/2025-02-12/
LOCATION:AKTIVITA Physio-Med\, Nikolaistraße 34/36\, Bad Essen\, 49152\, Deutschland
CATEGORIES:Gesundheits- und Präventionskurs
END:VEVENT
BEGIN:VEVENT
DTSTART;TZID=Europe/Berlin:20250212T113000
DTEND;TZID=Europe/Berlin:20250212T121500
DTSTAMP:20260420T111310
CREATED:20241204T092558Z
LAST-MODIFIED:20251211T151335Z
UID:10049033-1739359800-1739362500@www.aktivita-badessen.de
SUMMARY:Lungensport / COPD
DESCRIPTION:Gezieltes Kraft- und Ausdauertraining zur Förderung der Atemkapazität. Brustkorbdehnungen und Atemtechniken verbessern die Belastbarkeit und steigern die Leistungsfähigkeit im Alltag.
URL:https://www.aktivita-badessen.de/einzelkurs/copd-2/2025-02-12/
LOCATION:AKTIVITA Physio-Med\, Nikolaistraße 34/36\, Bad Essen\, 49152\, Deutschland
CATEGORIES:Rehasportkurs
END:VEVENT
BEGIN:VEVENT
DTSTART;TZID=Europe/Berlin:20250212T110000
DTEND;TZID=Europe/Berlin:20250212T120000
DTSTAMP:20260420T111310
CREATED:20241204T085832Z
LAST-MODIFIED:20251211T151500Z
UID:10047641-1739358000-1739361600@www.aktivita-badessen.de
SUMMARY:Zertifiziertes Gerätetraining
DESCRIPTION:Das Ganzkörpertraining: Zertifiziertes Gerätetraining in kleinen Gruppen\, unter Anleitung eines qualifizierten Physiotherapeuten\, zur Krafterhaltung und Verbesserung des allgemeinen Wohlbefindens – einmal wöchentlich.
URL:https://www.aktivita-badessen.de/einzelkurs/zirkeltraining-das-ganzkoerpertraining-trocken-neu-4/2025-02-12/
LOCATION:AKTIVITA Physio-Med\, Nikolaistraße 34/36\, Bad Essen\, 49152\, Deutschland
CATEGORIES:Gesundheits- und Präventionskurs
END:VEVENT
BEGIN:VEVENT
DTSTART;TZID=Europe/Berlin:20250212T103000
DTEND;TZID=Europe/Berlin:20250212T111500
DTSTAMP:20260420T111310
CREATED:20241204T094358Z
LAST-MODIFIED:20251211T151527Z
UID:10050924-1739356200-1739358900@www.aktivita-badessen.de
SUMMARY:Rehasport (Trocken)
DESCRIPTION:Mit physiotherapeutischen Methoden werden Kraft\, Ausdauer\, Koordination und Beweglichkeit verbessert – das Gruppentraining zielt auf die Steigerung der Leistungsfähigkeit und Schmerzlinderung ab und fördert mehr Gesundheit und Lebensqualität.
URL:https://www.aktivita-badessen.de/einzelkurs/rehasport-trocken-neu-9/2025-02-12/
LOCATION:AKTIVITA Physio-Med\, Nikolaistraße 34/36\, Bad Essen\, 49152\, Deutschland
CATEGORIES:Rehasportkurs
END:VEVENT
BEGIN:VEVENT
DTSTART;TZID=Europe/Berlin:20250212T100000
DTEND;TZID=Europe/Berlin:20250212T103000
DTSTAMP:20260420T111310
CREATED:20241202T112352Z
LAST-MODIFIED:20251211T151948Z
UID:10038874-1739354400-1739356200@www.aktivita-badessen.de
SUMMARY:Funktionstraining (Trocken)
DESCRIPTION:Gezieltes Training zur Verbesserung der Bewegungsfunktion\, Schmerzlinderung und Steigerung der Beweglichkeit bei bestehenden Erkrankungen\, mit physiotherapeutischen Methoden und fachlicher Anleitung.
URL:https://www.aktivita-badessen.de/einzelkurs/funktionstraining-trocken-neu-5/2025-02-12/
LOCATION:AKTIVITA Physio-Med\, Nikolaistraße 34/36\, Bad Essen\, 49152\, Deutschland
CATEGORIES:Funktionstrainingskurs
END:VEVENT
BEGIN:VEVENT
DTSTART;TZID=Europe/Berlin:20250212T090000
DTEND;TZID=Europe/Berlin:20250212T100000
DTSTAMP:20260420T111310
CREATED:20241203T134714Z
LAST-MODIFIED:20251211T152039Z
UID:10046071-1739350800-1739354400@www.aktivita-badessen.de
SUMMARY:Wirbelsäulenfit meets BBP
DESCRIPTION:Kombination aus der Straffung von Bauch\, Beinen\, Po und Oberkörper mit gezielten Übungen für eine starke Wirbelsäule und ganzheitliche Fitness.
URL:https://www.aktivita-badessen.de/einzelkurs/wirbelsaeulen-meets-bbp-trocken-neu-3/2025-02-12/
LOCATION:AKTIVITA Physio-Med\, Nikolaistraße 34/36\, Bad Essen\, 49152\, Deutschland
CATEGORIES:Gesundheits- und Präventionskurs
END:VEVENT
BEGIN:VEVENT
DTSTART;TZID=Europe/Berlin:20250212T080000
DTEND;TZID=Europe/Berlin:20250212T090000
DTSTAMP:20260420T111310
CREATED:20240529T090841Z
LAST-MODIFIED:20251211T154438Z
UID:10067055-1739347200-1739350800@www.aktivita-badessen.de
SUMMARY:Fascial Fitness
DESCRIPTION:Dehnungs-\, Schwung- und Federübungen zur Verbesserung der Beweglichkeit sowie fasciale Stabilisation und Schmerzreduktion.
URL:https://www.aktivita-badessen.de/einzelkurs/fascial-fitness/2025-02-12/
LOCATION:AKTIVITA Physio-Med\, Nikolaistraße 34/36\, Bad Essen\, 49152\, Deutschland
CATEGORIES:Gesundheits- und Präventionskurs
END:VEVENT
BEGIN:VEVENT
DTSTART;TZID=Europe/Berlin:20250211T193000
DTEND;TZID=Europe/Berlin:20250211T203000
DTSTAMP:20260420T111310
CREATED:20240529T130041Z
LAST-MODIFIED:20251211T154504Z
UID:10067104-1739302200-1739305800@www.aktivita-badessen.de
SUMMARY:Wirbelsäulenfit
DESCRIPTION:Effiziente\, dynamische Übungen mit Musik für einen starken Rücken – zur Steigerung von Muskelkraft\, Beweglichkeit und Koordination.
URL:https://www.aktivita-badessen.de/einzelkurs/wirbelsaeulenfit-2/2025-02-11/
LOCATION:AKTIVITA Physio-Med\, Nikolaistraße 34/36\, Bad Essen\, 49152\, Deutschland
CATEGORIES:Gesundheits- und Präventionskurs
END:VEVENT
BEGIN:VEVENT
DTSTART;TZID=Europe/Berlin:20250211T180000
DTEND;TZID=Europe/Berlin:20250211T190000
DTSTAMP:20260420T111310
CREATED:20241204T084416Z
LAST-MODIFIED:20251211T152245Z
UID:10047117-1739296800-1739300400@www.aktivita-badessen.de
SUMMARY:Zertifiziertes Gerätetraining
DESCRIPTION:Das Ganzkörpertraining: Zertifiziertes Gerätetraining in kleinen Gruppen\, unter Anleitung eines qualifizierten Physiotherapeuten\, zur Krafterhaltung und Verbesserung des allgemeinen Wohlbefindens – einmal wöchentlich.
URL:https://www.aktivita-badessen.de/einzelkurs/zirkeltraining-das-ganzkoerpertraining-trocken-neu-3/2025-02-11/
LOCATION:AKTIVITA Physio-Med\, Nikolaistraße 34/36\, Bad Essen\, 49152\, Deutschland
CATEGORIES:Gesundheits- und Präventionskurs
END:VEVENT
BEGIN:VEVENT
DTSTART;TZID=Europe/Berlin:20250211T173000
DTEND;TZID=Europe/Berlin:20250211T180000
DTSTAMP:20260420T111310
CREATED:20241202T111834Z
LAST-MODIFIED:20251211T152314Z
UID:10038091-1739295000-1739296800@www.aktivita-badessen.de
SUMMARY:Funktionstraining (Trocken)
DESCRIPTION:Gezieltes Training zur Verbesserung der Bewegungsfunktion\, Schmerzlinderung und Steigerung der Beweglichkeit bei bestehenden Erkrankungen\, mit physiotherapeutischen Methoden und fachlicher Anleitung.
URL:https://www.aktivita-badessen.de/einzelkurs/funktionstraining-trocken-neu-4/2025-02-11/
LOCATION:AKTIVITA Physio-Med\, Nikolaistraße 34/36\, Bad Essen\, 49152\, Deutschland
CATEGORIES:Funktionstrainingskurs
END:VEVENT
BEGIN:VEVENT
DTSTART;TZID=Europe/Berlin:20250211T093000
DTEND;TZID=Europe/Berlin:20250211T103000
DTSTAMP:20260420T111310
CREATED:20241202T115033Z
LAST-MODIFIED:20251211T152809Z
UID:10039919-1739266200-1739269800@www.aktivita-badessen.de
SUMMARY:Osteoporose
DESCRIPTION:Bewegungs- und Sportprogramm zur Erhaltung von Knochendichte und Muskulatur unter fachlicher Anleitung. Kraft-\, Koordinations- und Balancetraining zur Sturzvermeidung sowie Tipps zum allgemeinen Umgang mit Osteoporose.
URL:https://www.aktivita-badessen.de/einzelkurs/osteoporose-trocken-neu-2/2025-02-11/
LOCATION:AKTIVITA Physio-Med\, Nikolaistraße 34/36\, Bad Essen\, 49152\, Deutschland
CATEGORIES:Funktionstrainingskurs
END:VEVENT
BEGIN:VEVENT
DTSTART;TZID=Europe/Berlin:20250210T201500
DTEND;TZID=Europe/Berlin:20250210T211500
DTSTAMP:20260420T111310
CREATED:20241202T124229Z
LAST-MODIFIED:20251211T153005Z
UID:10042529-1739218500-1739222100@www.aktivita-badessen.de
SUMMARY:Funktion meets Form
DESCRIPTION:Kraft-Ausdauertraining für Schulter\, Nacken und Rücken – ideal zur Ergänzung bei sitzender Tätigkeit\, mit und ohne Gewichte.
URL:https://www.aktivita-badessen.de/einzelkurs/funktion-meets-form-trocken-neu/2025-02-10/
LOCATION:AKTIVITA Physio-Med\, Nikolaistraße 34/36\, Bad Essen\, 49152\, Deutschland
CATEGORIES:Gesundheits- und Präventionskurs
END:VEVENT
BEGIN:VEVENT
DTSTART;TZID=Europe/Berlin:20250210T200000
DTEND;TZID=Europe/Berlin:20250210T210000
DTSTAMP:20260420T111310
CREATED:20241202T125629Z
LAST-MODIFIED:20251211T153034Z
UID:10043051-1739217600-1739221200@www.aktivita-badessen.de
SUMMARY:Pilates
DESCRIPTION:Pilates-Prinzipien wie Konzentration\, Kontrolle\, Atmung und Präzision stärken die Körpermitte\, kräftigen die Rumpfmuskulatur und fördern die Flexibilität. Ein ausgewogenes Training für mehr Kraft und Beweglichkeit.
URL:https://www.aktivita-badessen.de/einzelkurs/pilates-trocken-neu-2/2025-02-10/
LOCATION:AKTIVITA Physio-Med\, Nikolaistraße 34/36\, Bad Essen\, 49152\, Deutschland
CATEGORIES:Gesundheits- und Präventionskurs
END:VEVENT
BEGIN:VEVENT
DTSTART;TZID=Europe/Berlin:20250210T193000
DTEND;TZID=Europe/Berlin:20250210T200000
DTSTAMP:20260420T111310
CREATED:20241202T111645Z
LAST-MODIFIED:20251211T153133Z
UID:10037830-1739215800-1739217600@www.aktivita-badessen.de
SUMMARY:Funktionstraining (Trocken)
DESCRIPTION:Gezieltes Training zur Verbesserung der Bewegungsfunktion\, Schmerzlinderung und Steigerung der Beweglichkeit bei bestehenden Erkrankungen\, mit physiotherapeutischen Methoden und fachlicher Anleitung.
URL:https://www.aktivita-badessen.de/einzelkurs/funktionstraining-trocken-neu-3/2025-02-10/
LOCATION:AKTIVITA Physio-Med\, Nikolaistraße 34/36\, Bad Essen\, 49152\, Deutschland
CATEGORIES:Funktionstrainingskurs
END:VEVENT
BEGIN:VEVENT
DTSTART;TZID=Europe/Berlin:20250210T190000
DTEND;TZID=Europe/Berlin:20250210T200000
DTSTAMP:20260420T111310
CREATED:20240529T125840Z
LAST-MODIFIED:20251211T154720Z
UID:10009447-1739214000-1739217600@www.aktivita-badessen.de
SUMMARY:Wirbelsäulenfit
DESCRIPTION:Effiziente\, dynamische Übungen mit Musik für einen starken Rücken – zur Steigerung von Muskelkraft\, Beweglichkeit und Koordination.
URL:https://www.aktivita-badessen.de/einzelkurs/wirbelsaeulenfit-1/2025-02-10/
LOCATION:AKTIVITA Physio-Med\, Nikolaistraße 34/36\, Bad Essen\, 49152\, Deutschland
CATEGORIES:Gesundheits- und Präventionskurs
END:VEVENT
BEGIN:VEVENT
DTSTART;TZID=Europe/Berlin:20250210T184500
DTEND;TZID=Europe/Berlin:20250210T193000
DTSTAMP:20260420T111310
CREATED:20241204T093503Z
LAST-MODIFIED:20251211T153236Z
UID:10049615-1739213100-1739215800@www.aktivita-badessen.de
SUMMARY:Rehasport (Trocken)
DESCRIPTION:Mit physiotherapeutischen Methoden werden Kraft\, Ausdauer\, Koordination und Beweglichkeit verbessert – das Gruppentraining zielt auf die Steigerung der Leistungsfähigkeit und Schmerzlinderung ab und fördert mehr Gesundheit und Lebensqualität.
URL:https://www.aktivita-badessen.de/einzelkurs/rehasport-trocken-neu-4/2025-02-10/
LOCATION:AKTIVITA Physio-Med\, Nikolaistraße 34/36\, Bad Essen\, 49152\, Deutschland
CATEGORIES:Rehasportkurs
END:VEVENT
BEGIN:VEVENT
DTSTART;TZID=Europe/Berlin:20250210T170000
DTEND;TZID=Europe/Berlin:20250210T180000
DTSTAMP:20260420T111310
CREATED:20241210T095834Z
LAST-MODIFIED:20251211T133255Z
UID:10030872-1739206800-1739210400@www.aktivita-badessen.de
SUMMARY:Zumba®
DESCRIPTION:Ein perfektes Tanzworkout mit lateinamerikanischer und internationaler Musik. Tänze wie Merengue\, Cumbia\, Reggaeton\, Salsa und mehr sorgen für Spaß und Energie.
URL:https://www.aktivita-badessen.de/einzelkurs/zumba-2-2/2025-02-10/
LOCATION:AKTIVITA Physio-Med\, Nikolaistraße 34/36\, Bad Essen\, 49152\, Deutschland
CATEGORIES:Fitnesskurs
END:VEVENT
BEGIN:VEVENT
DTSTART;TZID=Europe/Berlin:20250210T160000
DTEND;TZID=Europe/Berlin:20250210T164500
DTSTAMP:20260420T111310
CREATED:20241204T093339Z
LAST-MODIFIED:20251211T153524Z
UID:10049353-1739203200-1739205900@www.aktivita-badessen.de
SUMMARY:Rehasport (Trocken)
DESCRIPTION:Mit physiotherapeutischen Methoden werden Kraft\, Ausdauer\, Koordination und Beweglichkeit verbessert – das Gruppentraining zielt auf die Steigerung der Leistungsfähigkeit und Schmerzlinderung ab und fördert mehr Gesundheit und Lebensqualität.
URL:https://www.aktivita-badessen.de/einzelkurs/rehasport-trocken-neu-3/2025-02-10/
LOCATION:AKTIVITA Physio-Med\, Nikolaistraße 34/36\, Bad Essen\, 49152\, Deutschland
CATEGORIES:Rehasportkurs
END:VEVENT
END:VCALENDAR