BEGIN:VCALENDAR
VERSION:2.0
PRODID:-//AKTIVITA Bad Essen - ECPv6.15.20//NONSGML v1.0//EN
CALSCALE:GREGORIAN
METHOD:PUBLISH
X-WR-CALNAME:AKTIVITA Bad Essen
X-ORIGINAL-URL:https://www.aktivita-badessen.de
X-WR-CALDESC:Kurse für AKTIVITA Bad Essen
REFRESH-INTERVAL;VALUE=DURATION:PT1H
X-Robots-Tag:noindex
X-PUBLISHED-TTL:PT1H
BEGIN:VTIMEZONE
TZID:Europe/Berlin
BEGIN:DAYLIGHT
TZOFFSETFROM:+0100
TZOFFSETTO:+0200
TZNAME:CEST
DTSTART:20250330T010000
END:DAYLIGHT
BEGIN:STANDARD
TZOFFSETFROM:+0200
TZOFFSETTO:+0100
TZNAME:CET
DTSTART:20251026T010000
END:STANDARD
BEGIN:DAYLIGHT
TZOFFSETFROM:+0100
TZOFFSETTO:+0200
TZNAME:CEST
DTSTART:20260329T010000
END:DAYLIGHT
BEGIN:STANDARD
TZOFFSETFROM:+0200
TZOFFSETTO:+0100
TZNAME:CET
DTSTART:20261025T010000
END:STANDARD
BEGIN:DAYLIGHT
TZOFFSETFROM:+0100
TZOFFSETTO:+0200
TZNAME:CEST
DTSTART:20270328T010000
END:DAYLIGHT
BEGIN:STANDARD
TZOFFSETFROM:+0200
TZOFFSETTO:+0100
TZNAME:CET
DTSTART:20271031T010000
END:STANDARD
END:VTIMEZONE
BEGIN:VEVENT
DTSTART;TZID=Europe/Berlin:20260225T200000
DTEND;TZID=Europe/Berlin:20260225T210000
DTSTAMP:20260423T101604
CREATED:20240529T102148Z
LAST-MODIFIED:20251211T154240Z
UID:10078328-1772049600-1772053200@www.aktivita-badessen.de
SUMMARY:Männerfit
DESCRIPTION:Intensives Kraft-Ausdauertraining kombiniert mit gezieltem Wirbelsäulentraining – die perfekte aktive Auszeit für Männer im Alltag.
URL:https://www.aktivita-badessen.de/einzelkurs/maennerfit/2026-02-25/
LOCATION:AKTIVITA Physio-Med\, Nikolaistraße 34/36\, Bad Essen\, 49152\, Deutschland
CATEGORIES:Gesundheits- und Präventionskurs
END:VEVENT
BEGIN:VEVENT
DTSTART;TZID=Europe/Berlin:20260225T194500
DTEND;TZID=Europe/Berlin:20260225T203000
DTSTAMP:20260423T101604
CREATED:20241204T094852Z
LAST-MODIFIED:20251211T150955Z
UID:10076964-1772048700-1772051400@www.aktivita-badessen.de
SUMMARY:Rehasport (Trocken)
DESCRIPTION:Mit physiotherapeutischen Methoden werden Kraft\, Ausdauer\, Koordination und Beweglichkeit verbessert – das Gruppentraining zielt auf die Steigerung der Leistungsfähigkeit und Schmerzlinderung ab und fördert mehr Gesundheit und Lebensqualität.
URL:https://www.aktivita-badessen.de/einzelkurs/rehasport-trocken-neu-11/2026-02-25/
LOCATION:AKTIVITA Physio-Med\, Nikolaistraße 34/36\, Bad Essen\, 49152\, Deutschland
CATEGORIES:Rehasportkurs
END:VEVENT
BEGIN:VEVENT
DTSTART;TZID=Europe/Berlin:20260225T190000
DTEND;TZID=Europe/Berlin:20260225T200000
DTSTAMP:20260423T101604
CREATED:20240529T132436Z
LAST-MODIFIED:20251211T154347Z
UID:10078353-1772046000-1772049600@www.aktivita-badessen.de
SUMMARY:Wirbelsäulenfit meets Step
DESCRIPTION:Step-Aerobic mit Fokus auf Rumpfmuskulatur: Hier werden Ausdauer\, Konzentration und Koordination gefördert – ganzheitliche Prävention\, ideal für Fortgeschrittene.
URL:https://www.aktivita-badessen.de/einzelkurs/wirbelsaeulenfit-meets-step/2026-02-25/
LOCATION:AKTIVITA Physio-Med\, Nikolaistraße 34/36\, Bad Essen\, 49152\, Deutschland
CATEGORIES:Gesundheits- und Präventionskurs
END:VEVENT
BEGIN:VEVENT
DTSTART;TZID=Europe/Berlin:20260225T180000
DTEND;TZID=Europe/Berlin:20260225T190000
DTSTAMP:20260423T101604
CREATED:20241202T123703Z
LAST-MODIFIED:20251211T151119Z
UID:10077039-1772042400-1772046000@www.aktivita-badessen.de
SUMMARY:Fascial meets Wirbelsäulenfit
DESCRIPTION:Dehnungs-\, Schwung- und Federübungen kombiniert mit Rumpfkräftigung und faszialer Stabilisierung – für einen starken\, stabilen Rücken.
URL:https://www.aktivita-badessen.de/einzelkurs/fascial-meets-wirbelsaeulenfit-trocken-neu/2026-02-25/
LOCATION:AKTIVITA Physio-Med\, Nikolaistraße 34/36\, Bad Essen\, 49152\, Deutschland
CATEGORIES:Gesundheits- und Präventionskurs
END:VEVENT
BEGIN:VEVENT
DTSTART;TZID=Europe/Berlin:20260225T170000
DTEND;TZID=Europe/Berlin:20260225T180000
DTSTAMP:20260423T101604
CREATED:20241202T125723Z
LAST-MODIFIED:20251211T151210Z
UID:10077089-1772038800-1772042400@www.aktivita-badessen.de
SUMMARY:Pilates
DESCRIPTION:Pilates-Prinzipien wie Konzentration\, Kontrolle\, Atmung und Präzision stärken die Körpermitte\, kräftigen die Rumpfmuskulatur und fördern die Flexibilität. Ein ausgewogenes Training für mehr Kraft und Beweglichkeit.
URL:https://www.aktivita-badessen.de/einzelkurs/pilates-trocken-neu-3/2026-02-25/
LOCATION:AKTIVITA Physio-Med\, Nikolaistraße 34/36\, Bad Essen\, 49152\, Deutschland
CATEGORIES:Gesundheits- und Präventionskurs
END:VEVENT
BEGIN:VEVENT
DTSTART;TZID=Europe/Berlin:20260225T113000
DTEND;TZID=Europe/Berlin:20260225T121500
DTSTAMP:20260423T101604
CREATED:20241204T092558Z
LAST-MODIFIED:20251211T151335Z
UID:10077164-1772019000-1772021700@www.aktivita-badessen.de
SUMMARY:Lungensport / COPD
DESCRIPTION:Gezieltes Kraft- und Ausdauertraining zur Förderung der Atemkapazität. Brustkorbdehnungen und Atemtechniken verbessern die Belastbarkeit und steigern die Leistungsfähigkeit im Alltag.
URL:https://www.aktivita-badessen.de/einzelkurs/copd-2/2026-02-25/
LOCATION:AKTIVITA Physio-Med\, Nikolaistraße 34/36\, Bad Essen\, 49152\, Deutschland
CATEGORIES:Rehasportkurs
END:VEVENT
BEGIN:VEVENT
DTSTART;TZID=Europe/Berlin:20260225T110000
DTEND;TZID=Europe/Berlin:20260225T120000
DTSTAMP:20260423T101604
CREATED:20241204T085832Z
LAST-MODIFIED:20251211T151500Z
UID:10077214-1772017200-1772020800@www.aktivita-badessen.de
SUMMARY:Zertifiziertes Gerätetraining
DESCRIPTION:Das Ganzkörpertraining: Zertifiziertes Gerätetraining in kleinen Gruppen\, unter Anleitung eines qualifizierten Physiotherapeuten\, zur Krafterhaltung und Verbesserung des allgemeinen Wohlbefindens – einmal wöchentlich.
URL:https://www.aktivita-badessen.de/einzelkurs/zirkeltraining-das-ganzkoerpertraining-trocken-neu-4/2026-02-25/
LOCATION:AKTIVITA Physio-Med\, Nikolaistraße 34/36\, Bad Essen\, 49152\, Deutschland
CATEGORIES:Gesundheits- und Präventionskurs
END:VEVENT
BEGIN:VEVENT
DTSTART;TZID=Europe/Berlin:20260225T103000
DTEND;TZID=Europe/Berlin:20260225T111500
DTSTAMP:20260423T101604
CREATED:20241204T094358Z
LAST-MODIFIED:20251211T151527Z
UID:10077239-1772015400-1772018100@www.aktivita-badessen.de
SUMMARY:Rehasport (Trocken)
DESCRIPTION:Mit physiotherapeutischen Methoden werden Kraft\, Ausdauer\, Koordination und Beweglichkeit verbessert – das Gruppentraining zielt auf die Steigerung der Leistungsfähigkeit und Schmerzlinderung ab und fördert mehr Gesundheit und Lebensqualität.
URL:https://www.aktivita-badessen.de/einzelkurs/rehasport-trocken-neu-9/2026-02-25/
LOCATION:AKTIVITA Physio-Med\, Nikolaistraße 34/36\, Bad Essen\, 49152\, Deutschland
CATEGORIES:Rehasportkurs
END:VEVENT
BEGIN:VEVENT
DTSTART;TZID=Europe/Berlin:20260225T100000
DTEND;TZID=Europe/Berlin:20260225T103000
DTSTAMP:20260423T101604
CREATED:20241202T112352Z
LAST-MODIFIED:20251211T151948Z
UID:10077289-1772013600-1772015400@www.aktivita-badessen.de
SUMMARY:Funktionstraining (Trocken)
DESCRIPTION:Gezieltes Training zur Verbesserung der Bewegungsfunktion\, Schmerzlinderung und Steigerung der Beweglichkeit bei bestehenden Erkrankungen\, mit physiotherapeutischen Methoden und fachlicher Anleitung.
URL:https://www.aktivita-badessen.de/einzelkurs/funktionstraining-trocken-neu-5/2026-02-25/
LOCATION:AKTIVITA Physio-Med\, Nikolaistraße 34/36\, Bad Essen\, 49152\, Deutschland
CATEGORIES:Funktionstrainingskurs
END:VEVENT
BEGIN:VEVENT
DTSTART;TZID=Europe/Berlin:20260225T090000
DTEND;TZID=Europe/Berlin:20260225T100000
DTSTAMP:20260423T101604
CREATED:20241203T134714Z
LAST-MODIFIED:20251211T152039Z
UID:10077339-1772010000-1772013600@www.aktivita-badessen.de
SUMMARY:Wirbelsäulenfit meets BBP
DESCRIPTION:Kombination aus der Straffung von Bauch\, Beinen\, Po und Oberkörper mit gezielten Übungen für eine starke Wirbelsäule und ganzheitliche Fitness.
URL:https://www.aktivita-badessen.de/einzelkurs/wirbelsaeulen-meets-bbp-trocken-neu-3/2026-02-25/
LOCATION:AKTIVITA Physio-Med\, Nikolaistraße 34/36\, Bad Essen\, 49152\, Deutschland
CATEGORIES:Gesundheits- und Präventionskurs
END:VEVENT
BEGIN:VEVENT
DTSTART;TZID=Europe/Berlin:20260225T080000
DTEND;TZID=Europe/Berlin:20260225T090000
DTSTAMP:20260423T101604
CREATED:20240529T090841Z
LAST-MODIFIED:20251211T154438Z
UID:10078403-1772006400-1772010000@www.aktivita-badessen.de
SUMMARY:Fascial Fitness
DESCRIPTION:Dehnungs-\, Schwung- und Federübungen zur Verbesserung der Beweglichkeit sowie fasciale Stabilisation und Schmerzreduktion.
URL:https://www.aktivita-badessen.de/einzelkurs/fascial-fitness/2026-02-25/
LOCATION:AKTIVITA Physio-Med\, Nikolaistraße 34/36\, Bad Essen\, 49152\, Deutschland
CATEGORIES:Gesundheits- und Präventionskurs
END:VEVENT
BEGIN:VEVENT
DTSTART;TZID=Europe/Berlin:20260224T193000
DTEND;TZID=Europe/Berlin:20260224T203000
DTSTAMP:20260423T101604
CREATED:20240529T130041Z
LAST-MODIFIED:20251211T154504Z
UID:10078428-1771961400-1771965000@www.aktivita-badessen.de
SUMMARY:Wirbelsäulenfit
DESCRIPTION:Effiziente\, dynamische Übungen mit Musik für einen starken Rücken – zur Steigerung von Muskelkraft\, Beweglichkeit und Koordination.
URL:https://www.aktivita-badessen.de/einzelkurs/wirbelsaeulenfit-2/2026-02-24/
LOCATION:AKTIVITA Physio-Med\, Nikolaistraße 34/36\, Bad Essen\, 49152\, Deutschland
CATEGORIES:Gesundheits- und Präventionskurs
END:VEVENT
BEGIN:VEVENT
DTSTART;TZID=Europe/Berlin:20260224T183000
DTEND;TZID=Europe/Berlin:20260224T193000
DTSTAMP:20260423T101604
CREATED:20250816T071750Z
LAST-MODIFIED:20251211T144916Z
UID:10076524-1771957800-1771961400@www.aktivita-badessen.de
SUMMARY:Qigong
DESCRIPTION:Sanfte\, fließende Bewegungen und ruhige Atemübungen für entspannte Konzentration und harmonische Balance von Körper\, Geist und Seele.
URL:https://www.aktivita-badessen.de/einzelkurs/quigong-trocken-neu-2/2026-02-24/
LOCATION:AKTIVITA Physio-Med\, Nikolaistraße 34/36\, Bad Essen\, 49152\, Deutschland
CATEGORIES:Gesundheits- und Präventionskurs
END:VEVENT
BEGIN:VEVENT
DTSTART;TZID=Europe/Berlin:20260224T180000
DTEND;TZID=Europe/Berlin:20260224T190000
DTSTAMP:20260423T101604
CREATED:20241204T084416Z
LAST-MODIFIED:20251211T152245Z
UID:10077441-1771956000-1771959600@www.aktivita-badessen.de
SUMMARY:Zertifiziertes Gerätetraining
DESCRIPTION:Das Ganzkörpertraining: Zertifiziertes Gerätetraining in kleinen Gruppen\, unter Anleitung eines qualifizierten Physiotherapeuten\, zur Krafterhaltung und Verbesserung des allgemeinen Wohlbefindens – einmal wöchentlich.
URL:https://www.aktivita-badessen.de/einzelkurs/zirkeltraining-das-ganzkoerpertraining-trocken-neu-3/2026-02-24/
LOCATION:AKTIVITA Physio-Med\, Nikolaistraße 34/36\, Bad Essen\, 49152\, Deutschland
CATEGORIES:Gesundheits- und Präventionskurs
END:VEVENT
BEGIN:VEVENT
DTSTART;TZID=Europe/Berlin:20260224T173000
DTEND;TZID=Europe/Berlin:20260224T180000
DTSTAMP:20260423T101604
CREATED:20241202T111834Z
LAST-MODIFIED:20251211T152314Z
UID:10077467-1771954200-1771956000@www.aktivita-badessen.de
SUMMARY:Funktionstraining (Trocken)
DESCRIPTION:Gezieltes Training zur Verbesserung der Bewegungsfunktion\, Schmerzlinderung und Steigerung der Beweglichkeit bei bestehenden Erkrankungen\, mit physiotherapeutischen Methoden und fachlicher Anleitung.
URL:https://www.aktivita-badessen.de/einzelkurs/funktionstraining-trocken-neu-4/2026-02-24/
LOCATION:AKTIVITA Physio-Med\, Nikolaistraße 34/36\, Bad Essen\, 49152\, Deutschland
CATEGORIES:Funktionstrainingskurs
END:VEVENT
BEGIN:VEVENT
DTSTART;TZID=Europe/Berlin:20260224T110000
DTEND;TZID=Europe/Berlin:20260224T120000
DTSTAMP:20260423T101604
CREATED:20250816T075236Z
LAST-MODIFIED:20260112T154821Z
UID:10074776-1771930800-1771934400@www.aktivita-badessen.de
SUMMARY:Osteoporose
DESCRIPTION:Bewegungs- und Sportprogramm zur Erhaltung von Knochendichte und Muskulatur unter fachlicher Anleitung. Kraft-\, Koordinations- und Balancetraining zur Sturzvermeidung sowie Tipps zum allgemeinen Umgang mit Osteoporose. (mit Debby)
URL:https://www.aktivita-badessen.de/einzelkurs/osteoporose/2026-02-24/
LOCATION:AKTIVITA Physio-Med\, Nikolaistraße 34/36\, Bad Essen\, 49152\, Deutschland
CATEGORIES:Funktionstrainingskurs
END:VEVENT
BEGIN:VEVENT
DTSTART;TZID=Europe/Berlin:20260224T093000
DTEND;TZID=Europe/Berlin:20260224T103000
DTSTAMP:20260423T101604
CREATED:20241202T115033Z
LAST-MODIFIED:20251211T152809Z
UID:10077626-1771925400-1771929000@www.aktivita-badessen.de
SUMMARY:Osteoporose
DESCRIPTION:Bewegungs- und Sportprogramm zur Erhaltung von Knochendichte und Muskulatur unter fachlicher Anleitung. Kraft-\, Koordinations- und Balancetraining zur Sturzvermeidung sowie Tipps zum allgemeinen Umgang mit Osteoporose.
URL:https://www.aktivita-badessen.de/einzelkurs/osteoporose-trocken-neu-2/2026-02-24/
LOCATION:AKTIVITA Physio-Med\, Nikolaistraße 34/36\, Bad Essen\, 49152\, Deutschland
CATEGORIES:Funktionstrainingskurs
END:VEVENT
BEGIN:VEVENT
DTSTART;TZID=Europe/Berlin:20260223T201500
DTEND;TZID=Europe/Berlin:20260223T211500
DTSTAMP:20260423T101604
CREATED:20241202T124229Z
LAST-MODIFIED:20251211T153005Z
UID:10077730-1771877700-1771881300@www.aktivita-badessen.de
SUMMARY:Funktion meets Form
DESCRIPTION:Kraft-Ausdauertraining für Schulter\, Nacken und Rücken – ideal zur Ergänzung bei sitzender Tätigkeit\, mit und ohne Gewichte.
URL:https://www.aktivita-badessen.de/einzelkurs/funktion-meets-form-trocken-neu/2026-02-23/
LOCATION:AKTIVITA Physio-Med\, Nikolaistraße 34/36\, Bad Essen\, 49152\, Deutschland
CATEGORIES:Gesundheits- und Präventionskurs
END:VEVENT
BEGIN:VEVENT
DTSTART;TZID=Europe/Berlin:20260223T200000
DTEND;TZID=Europe/Berlin:20260223T210000
DTSTAMP:20260423T101604
CREATED:20241202T125629Z
LAST-MODIFIED:20251211T153034Z
UID:10077756-1771876800-1771880400@www.aktivita-badessen.de
SUMMARY:Pilates
DESCRIPTION:Pilates-Prinzipien wie Konzentration\, Kontrolle\, Atmung und Präzision stärken die Körpermitte\, kräftigen die Rumpfmuskulatur und fördern die Flexibilität. Ein ausgewogenes Training für mehr Kraft und Beweglichkeit.
URL:https://www.aktivita-badessen.de/einzelkurs/pilates-trocken-neu-2/2026-02-23/
LOCATION:AKTIVITA Physio-Med\, Nikolaistraße 34/36\, Bad Essen\, 49152\, Deutschland
CATEGORIES:Gesundheits- und Präventionskurs
END:VEVENT
BEGIN:VEVENT
DTSTART;TZID=Europe/Berlin:20260223T193000
DTEND;TZID=Europe/Berlin:20260223T200000
DTSTAMP:20260423T101604
CREATED:20241202T111645Z
LAST-MODIFIED:20251211T153133Z
UID:10077808-1771875000-1771876800@www.aktivita-badessen.de
SUMMARY:Funktionstraining (Trocken)
DESCRIPTION:Gezieltes Training zur Verbesserung der Bewegungsfunktion\, Schmerzlinderung und Steigerung der Beweglichkeit bei bestehenden Erkrankungen\, mit physiotherapeutischen Methoden und fachlicher Anleitung.
URL:https://www.aktivita-badessen.de/einzelkurs/funktionstraining-trocken-neu-3/2026-02-23/
LOCATION:AKTIVITA Physio-Med\, Nikolaistraße 34/36\, Bad Essen\, 49152\, Deutschland
CATEGORIES:Funktionstrainingskurs
END:VEVENT
BEGIN:VEVENT
DTSTART;TZID=Europe/Berlin:20260223T190000
DTEND;TZID=Europe/Berlin:20260223T200000
DTSTAMP:20260423T101604
CREATED:20240529T125840Z
LAST-MODIFIED:20251211T154720Z
UID:10078480-1771873200-1771876800@www.aktivita-badessen.de
SUMMARY:Wirbelsäulenfit
DESCRIPTION:Effiziente\, dynamische Übungen mit Musik für einen starken Rücken – zur Steigerung von Muskelkraft\, Beweglichkeit und Koordination.
URL:https://www.aktivita-badessen.de/einzelkurs/wirbelsaeulenfit-1/2026-02-23/
LOCATION:AKTIVITA Physio-Med\, Nikolaistraße 34/36\, Bad Essen\, 49152\, Deutschland
CATEGORIES:Gesundheits- und Präventionskurs
END:VEVENT
BEGIN:VEVENT
DTSTART;TZID=Europe/Berlin:20260223T184500
DTEND;TZID=Europe/Berlin:20260223T193000
DTSTAMP:20260423T101604
CREATED:20241204T093503Z
LAST-MODIFIED:20251211T153236Z
UID:10077860-1771872300-1771875000@www.aktivita-badessen.de
SUMMARY:Rehasport (Trocken)
DESCRIPTION:Mit physiotherapeutischen Methoden werden Kraft\, Ausdauer\, Koordination und Beweglichkeit verbessert – das Gruppentraining zielt auf die Steigerung der Leistungsfähigkeit und Schmerzlinderung ab und fördert mehr Gesundheit und Lebensqualität.
URL:https://www.aktivita-badessen.de/einzelkurs/rehasport-trocken-neu-4/2026-02-23/
LOCATION:AKTIVITA Physio-Med\, Nikolaistraße 34/36\, Bad Essen\, 49152\, Deutschland
CATEGORIES:Rehasportkurs
END:VEVENT
BEGIN:VEVENT
DTSTART;TZID=Europe/Berlin:20260223T170000
DTEND;TZID=Europe/Berlin:20260223T183000
DTSTAMP:20260423T101604
CREATED:20250217T104359Z
LAST-MODIFIED:20251211T134847Z
UID:10075338-1771866000-1771871400@www.aktivita-badessen.de
SUMMARY:Yoga\, 90 Minuten
DESCRIPTION:Im Fokus stehen Achtsamkeit\, Konzentration und Körperwahrnehmung. Durch bewusstes Atmen wird die Flexibilität gefördert und eine entspannte Ausgeglichenheit erreicht.
URL:https://www.aktivita-badessen.de/einzelkurs/yoga-4-2-2-2-2/2026-02-23/
LOCATION:AKTIVITA Physio-Med\, Nikolaistraße 34/36\, Bad Essen\, 49152\, Deutschland
CATEGORIES:Fitnesskurs
END:VEVENT
BEGIN:VEVENT
DTSTART;TZID=Europe/Berlin:20260223T170000
DTEND;TZID=Europe/Berlin:20260223T180000
DTSTAMP:20260423T101604
CREATED:20241210T095834Z
LAST-MODIFIED:20251211T133255Z
UID:10075312-1771866000-1771869600@www.aktivita-badessen.de
SUMMARY:Zumba®
DESCRIPTION:Ein perfektes Tanzworkout mit lateinamerikanischer und internationaler Musik. Tänze wie Merengue\, Cumbia\, Reggaeton\, Salsa und mehr sorgen für Spaß und Energie.
URL:https://www.aktivita-badessen.de/einzelkurs/zumba-2-2/2026-02-23/
LOCATION:AKTIVITA Physio-Med\, Nikolaistraße 34/36\, Bad Essen\, 49152\, Deutschland
CATEGORIES:Fitnesskurs
END:VEVENT
BEGIN:VEVENT
DTSTART;TZID=Europe/Berlin:20260223T160000
DTEND;TZID=Europe/Berlin:20260223T164500
DTSTAMP:20260423T101604
CREATED:20241204T093339Z
LAST-MODIFIED:20251211T153524Z
UID:10077964-1771862400-1771865100@www.aktivita-badessen.de
SUMMARY:Rehasport (Trocken)
DESCRIPTION:Mit physiotherapeutischen Methoden werden Kraft\, Ausdauer\, Koordination und Beweglichkeit verbessert – das Gruppentraining zielt auf die Steigerung der Leistungsfähigkeit und Schmerzlinderung ab und fördert mehr Gesundheit und Lebensqualität.
URL:https://www.aktivita-badessen.de/einzelkurs/rehasport-trocken-neu-3/2026-02-23/
LOCATION:AKTIVITA Physio-Med\, Nikolaistraße 34/36\, Bad Essen\, 49152\, Deutschland
CATEGORIES:Rehasportkurs
END:VEVENT
BEGIN:VEVENT
DTSTART;TZID=Europe/Berlin:20260223T114500
DTEND;TZID=Europe/Berlin:20260223T123000
DTSTAMP:20260423T101604
CREATED:20240529T145932Z
LAST-MODIFIED:20251211T154743Z
UID:10078506-1771847100-1771849800@www.aktivita-badessen.de
SUMMARY:Lungensport / COPD
DESCRIPTION:Gezieltes Kraft- und Ausdauertraining zur Förderung der Atemkapazität. Brustkorbdehnungen und Atemtechniken verbessern die Belastbarkeit und steigern die Leistungsfähigkeit im Alltag.
URL:https://www.aktivita-badessen.de/einzelkurs/copd-lungensport/2026-02-23/
LOCATION:AKTIVITA Physio-Med\, Nikolaistraße 34/36\, Bad Essen\, 49152\, Deutschland
CATEGORIES:Rehasportkurs
END:VEVENT
BEGIN:VEVENT
DTSTART;TZID=Europe/Berlin:20260223T110000
DTEND;TZID=Europe/Berlin:20260223T120000
DTSTAMP:20260423T101604
CREATED:20241203T142908Z
LAST-MODIFIED:20251211T153630Z
UID:10078016-1771844400-1771848000@www.aktivita-badessen.de
SUMMARY:Zertifiziertes Gerätetraining
DESCRIPTION:Das Ganzkörpertraining: Zertifiziertes Gerätetraining in kleinen Gruppen\, unter Anleitung eines qualifizierten Physiotherapeuten\, zur Krafterhaltung und Verbesserung des allgemeinen Wohlbefindens – einmal wöchentlich
URL:https://www.aktivita-badessen.de/einzelkurs/zirkeltraining-das-ganzkoerpertraining-trocken-neu/2026-02-23/
LOCATION:AKTIVITA Physio-Med\, Nikolaistraße 34/36\, Bad Essen\, 49152\, Deutschland
CATEGORIES:Gesundheits- und Präventionskurs
END:VEVENT
BEGIN:VEVENT
DTSTART;TZID=Europe/Berlin:20260223T100000
DTEND;TZID=Europe/Berlin:20260223T110000
DTSTAMP:20260423T101604
CREATED:20241202T125530Z
LAST-MODIFIED:20251211T153720Z
UID:10078068-1771840800-1771844400@www.aktivita-badessen.de
SUMMARY:Pilates
DESCRIPTION:Pilates-Prinzipien wie Konzentration\, Kontrolle\, Atmung und Präzision stärken die Körpermitte\, kräftigen die Rumpfmuskulatur und fördern die Flexibilität. Ein ausgewogenes Training für mehr Kraft und Beweglichkeit.
URL:https://www.aktivita-badessen.de/einzelkurs/pilates-trocken-neu/2026-02-23/
LOCATION:AKTIVITA Physio-Med\, Nikolaistraße 34/36\, Bad Essen\, 49152\, Deutschland
CATEGORIES:Gesundheits- und Präventionskurs
END:VEVENT
BEGIN:VEVENT
DTSTART;TZID=Europe/Berlin:20260223T093000
DTEND;TZID=Europe/Berlin:20260223T103000
DTSTAMP:20260423T101604
CREATED:20241202T114536Z
LAST-MODIFIED:20251211T153923Z
UID:10078146-1771839000-1771842600@www.aktivita-badessen.de
SUMMARY:Osteoporose
DESCRIPTION:Bewegungs- und Sportprogramm zur Erhaltung von Knochendichte und Muskulatur unter fachlicher Anleitung. Kraft-\, Koordinations- und Balancetraining zur Sturzvermeidung sowie Tipps zum allgemeinen Umgang mit Osteoporose.
URL:https://www.aktivita-badessen.de/einzelkurs/osteoporose-trocken-neu/2026-02-23/
LOCATION:AKTIVITA Physio-Med\, Nikolaistraße 34/36\, Bad Essen\, 49152\, Deutschland
CATEGORIES:Funktionstrainingskurs
END:VEVENT
BEGIN:VEVENT
DTSTART;TZID=Europe/Berlin:20260223T090000
DTEND;TZID=Europe/Berlin:20260223T100000
DTSTAMP:20260423T101604
CREATED:20241203T133918Z
LAST-MODIFIED:20251211T154029Z
UID:10078198-1771837200-1771840800@www.aktivita-badessen.de
SUMMARY:Wirbelsäulenfit meets BBP
DESCRIPTION:Kombination aus der Straffung von Bauch\, Beinen\, Po und Oberkörper mit gezielten Übungen für eine starke Wirbelsäule und ganzheitliche Fitness.
URL:https://www.aktivita-badessen.de/einzelkurs/wirbelsaeulen-meets-bbp-trocken-neu/2026-02-23/
LOCATION:AKTIVITA Physio-Med\, Nikolaistraße 34/36\, Bad Essen\, 49152\, Deutschland
CATEGORIES:Gesundheits- und Präventionskurs
END:VEVENT
END:VCALENDAR