BEGIN:VCALENDAR
VERSION:2.0
PRODID:-//AKTIVITA Bad Essen - ECPv6.15.20//NONSGML v1.0//EN
CALSCALE:GREGORIAN
METHOD:PUBLISH
X-WR-CALNAME:AKTIVITA Bad Essen
X-ORIGINAL-URL:https://www.aktivita-badessen.de
X-WR-CALDESC:Kurse für AKTIVITA Bad Essen
REFRESH-INTERVAL;VALUE=DURATION:PT1H
X-Robots-Tag:noindex
X-PUBLISHED-TTL:PT1H
BEGIN:VTIMEZONE
TZID:Europe/Berlin
BEGIN:DAYLIGHT
TZOFFSETFROM:+0100
TZOFFSETTO:+0200
TZNAME:CEST
DTSTART:20240331T010000
END:DAYLIGHT
BEGIN:STANDARD
TZOFFSETFROM:+0200
TZOFFSETTO:+0100
TZNAME:CET
DTSTART:20241027T010000
END:STANDARD
BEGIN:DAYLIGHT
TZOFFSETFROM:+0100
TZOFFSETTO:+0200
TZNAME:CEST
DTSTART:20250330T010000
END:DAYLIGHT
BEGIN:STANDARD
TZOFFSETFROM:+0200
TZOFFSETTO:+0100
TZNAME:CET
DTSTART:20251026T010000
END:STANDARD
BEGIN:DAYLIGHT
TZOFFSETFROM:+0100
TZOFFSETTO:+0200
TZNAME:CEST
DTSTART:20260329T010000
END:DAYLIGHT
BEGIN:STANDARD
TZOFFSETFROM:+0200
TZOFFSETTO:+0100
TZNAME:CET
DTSTART:20261025T010000
END:STANDARD
END:VTIMEZONE
BEGIN:VEVENT
DTSTART;TZID=Europe/Berlin:20251014T080000
DTEND;TZID=Europe/Berlin:20251014T090000
DTSTAMP:20260419T171925
CREATED:20241204T100604Z
LAST-MODIFIED:20251211T152939Z
UID:10073940-1760428800-1760432400@www.aktivita-badessen.de
SUMMARY:Rehasport (Wasser)
DESCRIPTION:Schonende Ganzkörperübungen im Wasser zur Steigerung von Kraft\, Ausdauer und Beweglichkeit – gelenkschonend\, zur Schmerzlinderung und Verbesserung der Lebensqualität.
URL:https://www.aktivita-badessen.de/einzelkurs/rehasport-wasser-neu-5/2025-10-14/
LOCATION:AKTIVITA SoleSpa\, Lindenstraße 100\, Bad Essen\, 49152\, Deutschland
CATEGORIES:Rehasportkurs
END:VEVENT
BEGIN:VEVENT
DTSTART;TZID=Europe/Berlin:20251013T200000
DTEND;TZID=Europe/Berlin:20251013T204500
DTSTAMP:20260419T171925
CREATED:20241204T093616Z
LAST-MODIFIED:20251211T153106Z
UID:10073958-1760385600-1760388300@www.aktivita-badessen.de
SUMMARY:Rehasport (Trocken)
DESCRIPTION:Mit physiotherapeutischen Methoden werden Kraft\, Ausdauer\, Koordination und Beweglichkeit verbessert – das Gruppentraining zielt auf die Steigerung der Leistungsfähigkeit und Schmerzlinderung ab und fördert mehr Gesundheit und Lebensqualität.
URL:https://www.aktivita-badessen.de/einzelkurs/rehasport-trocken-neu-5/2025-10-13/
LOCATION:AKTIVITA SoleSpa\, Lindenstraße 100\, Bad Essen\, 49152\, Deutschland
CATEGORIES:Rehasportkurs
END:VEVENT
BEGIN:VEVENT
DTSTART;TZID=Europe/Berlin:20251013T190000
DTEND;TZID=Europe/Berlin:20251013T200000
DTSTAMP:20260419T171925
CREATED:20241210T090103Z
LAST-MODIFIED:20251211T135045Z
UID:10072234-1760382000-1760385600@www.aktivita-badessen.de
SUMMARY:Bauch-Beine-Po
DESCRIPTION:Gezieltes Training zur Straffung und Kräftigung von Bauch\, Beinen\, Po und Oberkörper – ein umfassendes Körperworkout.
URL:https://www.aktivita-badessen.de/einzelkurs/bauch-beine-po-2/2025-10-13/
LOCATION:AKTIVITA SoleSpa\, Lindenstraße 100\, Bad Essen\, 49152\, Deutschland
CATEGORIES:Fitnesskurs
END:VEVENT
BEGIN:VEVENT
DTSTART;TZID=Europe/Berlin:20251013T190000
DTEND;TZID=Europe/Berlin:20251013T200000
DTSTAMP:20260419T171925
CREATED:20241204T100518Z
LAST-MODIFIED:20251211T153202Z
UID:10073994-1760382000-1760385600@www.aktivita-badessen.de
SUMMARY:Rehasport (Wasser)
DESCRIPTION:Schonende Ganzkörperübungen im Wasser zur Steigerung von Kraft\, Ausdauer und Beweglichkeit – gelenkschonend\, zur Schmerzlinderung und Verbesserung der Lebensqualität.
URL:https://www.aktivita-badessen.de/einzelkurs/rehasport-wasser-neu-4/2025-10-13/
LOCATION:AKTIVITA SoleSpa\, Lindenstraße 100\, Bad Essen\, 49152\, Deutschland
CATEGORIES:Rehasportkurs
END:VEVENT
BEGIN:VEVENT
DTSTART;TZID=Europe/Berlin:20251013T180000
DTEND;TZID=Europe/Berlin:20251013T190000
DTSTAMP:20260419T171925
CREATED:20241210T093517Z
LAST-MODIFIED:20251211T135211Z
UID:10072252-1760378400-1760382000@www.aktivita-badessen.de
SUMMARY:Power-Workout
DESCRIPTION:Ein abwechslungsreiches Intervalltraining mit und ohne Kleingeräte\, bei dem das eigene Körpergewicht im Fokus steht. Power ist garantiert.
URL:https://www.aktivita-badessen.de/einzelkurs/power-workout-2/2025-10-13/
LOCATION:AKTIVITA SoleSpa\, Lindenstraße 100\, Bad Essen\, 49152\, Deutschland
CATEGORIES:Fitnesskurs
END:VEVENT
BEGIN:VEVENT
DTSTART;TZID=Europe/Berlin:20251013T180000
DTEND;TZID=Europe/Berlin:20251013T190000
DTSTAMP:20260419T171925
CREATED:20241204T100431Z
LAST-MODIFIED:20251211T153302Z
UID:10074030-1760378400-1760382000@www.aktivita-badessen.de
SUMMARY:Rehasport (Wasser)
DESCRIPTION:Schonende Ganzkörperübungen im Wasser zur Steigerung von Kraft\, Ausdauer und Beweglichkeit – gelenkschonend\, zur Schmerzlinderung und Verbesserung der Lebensqualität.
URL:https://www.aktivita-badessen.de/einzelkurs/rehasport-wasser-neu-3/2025-10-13/
LOCATION:AKTIVITA SoleSpa\, Lindenstraße 100\, Bad Essen\, 49152\, Deutschland
CATEGORIES:Rehasportkurs
END:VEVENT
BEGIN:VEVENT
DTSTART;TZID=Europe/Berlin:20251013T180000
DTEND;TZID=Europe/Berlin:20251013T190000
DTSTAMP:20260419T171925
CREATED:20241204T084205Z
LAST-MODIFIED:20251211T153327Z
UID:10074048-1760378400-1760382000@www.aktivita-badessen.de
SUMMARY:Zertifiziertes Gerätetraining
DESCRIPTION:Das Ganzkörpertraining: Zertifiziertes Gerätetraining in kleinen Gruppen\, unter Anleitung eines qualifizierten Physiotherapeuten\, zur Krafterhaltung und Verbesserung des allgemeinen Wohlbefindens – einmal wöchentlich
URL:https://www.aktivita-badessen.de/einzelkurs/zirkeltraining-das-ganzkoerpertraining-trocken-neu-2/2025-10-13/
LOCATION:AKTIVITA SoleSpa\, Lindenstraße 100\, Bad Essen\, 49152\, Deutschland
CATEGORIES:Gesundheits- und Präventionskurs
END:VEVENT
BEGIN:VEVENT
DTSTART;TZID=Europe/Berlin:20251013T171500
DTEND;TZID=Europe/Berlin:20251013T180000
DTSTAMP:20260419T171925
CREATED:20241202T120835Z
LAST-MODIFIED:20251211T153453Z
UID:10074066-1760375700-1760378400@www.aktivita-badessen.de
SUMMARY:Aquafit
DESCRIPTION:Vielseitiges Ganzkörpertraining im Wasser\, sowohl mit als auch ohne Geräte\, begleitet von Musik und therapeutischer Anleitung.
URL:https://www.aktivita-badessen.de/einzelkurs/aquafit-wassser-neu/2025-10-13/
LOCATION:AKTIVITA SoleSpa\, Lindenstraße 100\, Bad Essen\, 49152\, Deutschland
CATEGORIES:Gesundheits- und Präventionskurs
END:VEVENT
BEGIN:VEVENT
DTSTART;TZID=Europe/Berlin:20251013T170000
DTEND;TZID=Europe/Berlin:20251013T180000
DTSTAMP:20260419T171925
CREATED:20250217T150950Z
LAST-MODIFIED:20251211T134909Z
UID:10074661-1760374800-1760378400@www.aktivita-badessen.de
SUMMARY:Pilates
DESCRIPTION:Pilates-Prinzipien wie Konzentration\, Kontrolle\, Atmung und Präzision stärken die Körpermitte\, kräftigen die Rumpfmuskulatur und fördern die Flexibilität. Ein ausgewogenes Training für mehr Kraft und Beweglichkeit.
URL:https://www.aktivita-badessen.de/einzelkurs/pilates/2025-10-13/
LOCATION:AKTIVITA SoleSpa\, Lindenstraße 100\, Bad Essen\, 49152\, Deutschland
CATEGORIES:Fitnesskurs
END:VEVENT
BEGIN:VEVENT
DTSTART;TZID=Europe/Berlin:20251013T135000
DTEND;TZID=Europe/Berlin:20251013T171000
DTSTAMP:20260419T171925
CREATED:20241204T110010Z
LAST-MODIFIED:20260105T092621Z
UID:10074102-1760363400-1760375400@www.aktivita-badessen.de
SUMMARY:Kinderschwimmen
DESCRIPTION:Kinder lernen die Schwimmgrundlagen\, verfeinern ihre Technik und Schwimmstile und arbeiten auf die Abzeichen Seepferdchen\, Seeräuber und Bronze hin (für Anfänger ab 4 Jahren). \nIn Kooperation mit: Schwimmschule Jürgen Lamping
URL:https://www.aktivita-badessen.de/einzelkurs/kinderschwimmmen-wasser-neu/2025-10-13/
LOCATION:AKTIVITA SoleSpa\, Lindenstraße 100\, Bad Essen\, 49152\, Deutschland
CATEGORIES:Schwimmschule
END:VEVENT
BEGIN:VEVENT
DTSTART;TZID=Europe/Berlin:20251013T103000
DTEND;TZID=Europe/Berlin:20251013T113000
DTSTAMP:20260419T171925
CREATED:20241204T100338Z
LAST-MODIFIED:20251211T153654Z
UID:10074138-1760351400-1760355000@www.aktivita-badessen.de
SUMMARY:Rehasport (Wasser)
DESCRIPTION:Schonende Ganzkörperübungen im Wasser zur Steigerung von Kraft\, Ausdauer und Beweglichkeit – gelenkschonend\, zur Schmerzlinderung und Verbesserung der Lebensqualität.
URL:https://www.aktivita-badessen.de/einzelkurs/rehasport-wasser-neu-2/2025-10-13/
LOCATION:AKTIVITA SoleSpa\, Lindenstraße 100\, Bad Essen\, 49152\, Deutschland
CATEGORIES:Rehasportkurs
END:VEVENT
BEGIN:VEVENT
DTSTART;TZID=Europe/Berlin:20251013T100000
DTEND;TZID=Europe/Berlin:20251013T104500
DTSTAMP:20260419T171925
CREATED:20241214T101657Z
LAST-MODIFIED:20251211T153752Z
UID:10074156-1760349600-1760352300@www.aktivita-badessen.de
SUMMARY:Rehasport (Trocken)
DESCRIPTION:Mit physiotherapeutischen Methoden werden Kraft\, Ausdauer\, Koordination und Beweglichkeit verbessert – das Gruppentraining zielt auf die Steigerung der Leistungsfähigkeit und Schmerzlinderung ab und fördert mehr Gesundheit und Lebensqualität.
URL:https://www.aktivita-badessen.de/einzelkurs/rehasport-trocken-3/2025-10-13/
LOCATION:AKTIVITA SoleSpa\, Lindenstraße 100\, Bad Essen\, 49152\, Deutschland
CATEGORIES:Rehasportkurs
END:VEVENT
BEGIN:VEVENT
DTSTART;TZID=Europe/Berlin:20251013T093000
DTEND;TZID=Europe/Berlin:20251013T103000
DTSTAMP:20260419T171925
CREATED:20241204T100151Z
LAST-MODIFIED:20251211T153853Z
UID:10074718-1760347800-1760351400@www.aktivita-badessen.de
SUMMARY:Rehasport (Wasser)
DESCRIPTION:Schonende Ganzkörperübungen im Wasser zur Steigerung von Kraft\, Ausdauer und Beweglichkeit – gelenkschonend\, zur Schmerzlinderung und Verbesserung der Lebensqualität.
URL:https://www.aktivita-badessen.de/einzelkurs/rehasport-wasser-neu/2025-10-13/
LOCATION:AKTIVITA SoleSpa\, Lindenstraße 100\, Bad Essen\, 49152\, Deutschland
CATEGORIES:Rehasportkurs
END:VEVENT
BEGIN:VEVENT
DTSTART;TZID=Europe/Berlin:20251013T091500
DTEND;TZID=Europe/Berlin:20251013T100000
DTSTAMP:20260419T171925
CREATED:20241204T093233Z
LAST-MODIFIED:20251211T153948Z
UID:10074192-1760346900-1760349600@www.aktivita-badessen.de
SUMMARY:Rehasport (Trocken)
DESCRIPTION:Mit physiotherapeutischen Methoden werden Kraft\, Ausdauer\, Koordination und Beweglichkeit verbessert – das Gruppentraining zielt auf die Steigerung der Leistungsfähigkeit und Schmerzlinderung ab und fördert mehr Gesundheit und Lebensqualität.
URL:https://www.aktivita-badessen.de/einzelkurs/rehasport-trocken-neu-2/2025-10-13/
LOCATION:AKTIVITA SoleSpa\, Lindenstraße 100\, Bad Essen\, 49152\, Deutschland
CATEGORIES:Rehasportkurs
END:VEVENT
BEGIN:VEVENT
DTSTART;TZID=Europe/Berlin:20251013T083000
DTEND;TZID=Europe/Berlin:20251013T093000
DTSTAMP:20260419T171925
CREATED:20241212T130421Z
LAST-MODIFIED:20251211T134956Z
UID:10072199-1760344200-1760347800@www.aktivita-badessen.de
SUMMARY:Rehasport (Wasser)
DESCRIPTION:Schonende Ganzkörperübungen im Wasser zur Steigerung von Kraft\, Ausdauer und Beweglichkeit – gelenkschonend\, zur Schmerzlinderung und Verbesserung der Lebensqualität.
URL:https://www.aktivita-badessen.de/einzelkurs/rehasport-wasser/2025-10-13/
LOCATION:AKTIVITA SoleSpa\, Lindenstraße 100\, Bad Essen\, 49152\, Deutschland
CATEGORIES:Rehasportkurs
END:VEVENT
BEGIN:VEVENT
DTSTART;TZID=Europe/Berlin:20251013T083000
DTEND;TZID=Europe/Berlin:20251013T091500
DTSTAMP:20260419T171925
CREATED:20241204T093055Z
LAST-MODIFIED:20251211T154057Z
UID:10074228-1760344200-1760346900@www.aktivita-badessen.de
SUMMARY:Rehasport (Trocken)
DESCRIPTION:Mit physiotherapeutischen Methoden werden Kraft\, Ausdauer\, Koordination und Beweglichkeit verbessert – das Gruppentraining zielt auf die Steigerung der Leistungsfähigkeit und Schmerzlinderung ab und fördert mehr Gesundheit und Lebensqualität.
URL:https://www.aktivita-badessen.de/einzelkurs/rehasport-trocken-neu/2025-10-13/
LOCATION:AKTIVITA SoleSpa\, Lindenstraße 100\, Bad Essen\, 49152\, Deutschland
CATEGORIES:Rehasportkurs
END:VEVENT
BEGIN:VEVENT
DTSTART;TZID=Europe/Berlin:20251011T110000
DTEND;TZID=Europe/Berlin:20251011T120000
DTSTAMP:20260419T171925
CREATED:20241210T095727Z
LAST-MODIFIED:20251211T135253Z
UID:10072287-1760180400-1760184000@www.aktivita-badessen.de
SUMMARY:Yoga-Fit
DESCRIPTION:Beim Power-Yoga werden Kraft und Dynamik spürbar\, Stärken entfaltet und die eigenen Grenzen auf neue Weise erlebt.
URL:https://www.aktivita-badessen.de/einzelkurs/yoga-fit-2/2025-10-11/
LOCATION:AKTIVITA SoleSpa\, Lindenstraße 100\, Bad Essen\, 49152\, Deutschland
CATEGORIES:Fitnesskurs
END:VEVENT
BEGIN:VEVENT
DTSTART;TZID=Europe/Berlin:20251011T100000
DTEND;TZID=Europe/Berlin:20251011T110000
DTSTAMP:20260419T171925
CREATED:20241210T090735Z
LAST-MODIFIED:20251211T135352Z
UID:10072304-1760176800-1760180400@www.aktivita-badessen.de
SUMMARY:HIIT-Intervalltraining
DESCRIPTION:Intensives Intervalltraining zur Steigerung von Kraft und Ausdauer – perfekt für ein effektives Ganzkörper-Workout in kurzer Zeit.
URL:https://www.aktivita-badessen.de/einzelkurs/hitt-intervalltraining-trocken-neu-2/2025-10-11/
LOCATION:AKTIVITA SoleSpa\, Lindenstraße 100\, Bad Essen\, 49152\, Deutschland
CATEGORIES:Fitnesskurs
END:VEVENT
BEGIN:VEVENT
DTSTART;TZID=Europe/Berlin:20251010T180000
DTEND;TZID=Europe/Berlin:20251010T190000
DTSTAMP:20260419T171925
CREATED:20241210T085737Z
LAST-MODIFIED:20251211T135414Z
UID:10072321-1760119200-1760122800@www.aktivita-badessen.de
SUMMARY:Bauch-Beine-Po
DESCRIPTION:Gezieltes Training zur Straffung und Kräftigung von Bauch\, Beinen\, Po und Oberkörper – ein umfassendes Körperworkout.
URL:https://www.aktivita-badessen.de/einzelkurs/bauch-beine-po-trocken-neu-2/2025-10-10/
LOCATION:AKTIVITA SoleSpa\, Lindenstraße 100\, Bad Essen\, 49152\, Deutschland
CATEGORIES:Fitnesskurs
END:VEVENT
BEGIN:VEVENT
DTSTART;TZID=Europe/Berlin:20251010T180000
DTEND;TZID=Europe/Berlin:20251010T190000
DTSTAMP:20260419T171925
CREATED:20241204T103001Z
LAST-MODIFIED:20251211T142151Z
UID:10072585-1760119200-1760122800@www.aktivita-badessen.de
SUMMARY:Rehasport (Wasser)
DESCRIPTION:Rubensgruppe: Schonende Ganzkörperübungen im Wasser zur Steigerung von Kraft\, Ausdauer und Beweglichkeit – gelenkschonend\, zur Schmerzlinderung und Verbesserung der Lebensqualität.
URL:https://www.aktivita-badessen.de/einzelkurs/rehasport-wasser-neu-29/2025-10-10/
LOCATION:AKTIVITA SoleSpa\, Lindenstraße 100\, Bad Essen\, 49152\, Deutschland
CATEGORIES:Rehasportkurs
END:VEVENT
BEGIN:VEVENT
DTSTART;TZID=Europe/Berlin:20251010T173000
DTEND;TZID=Europe/Berlin:20251010T180000
DTSTAMP:20260419T171925
CREATED:20241202T110028Z
LAST-MODIFIED:20251211T142255Z
UID:10072619-1760117400-1760119200@www.aktivita-badessen.de
SUMMARY:Funktionstraining (Wasser)
DESCRIPTION:Schonendes Training im Wasser zur Verbesserung Ihrer Bewegungsfunktion\, Schmerzlinderung und Reduzierung von Belastungen.
URL:https://www.aktivita-badessen.de/einzelkurs/funktionstraining-wasser-neu-9/2025-10-10/
LOCATION:AKTIVITA SoleSpa\, Lindenstraße 100\, Bad Essen\, 49152\, Deutschland
CATEGORIES:Funktionstrainingskurs
END:VEVENT
BEGIN:VEVENT
DTSTART;TZID=Europe/Berlin:20251010T170000
DTEND;TZID=Europe/Berlin:20251010T180000
DTSTAMP:20260419T171925
CREATED:20241210T093750Z
LAST-MODIFIED:20251211T135437Z
UID:10072338-1760115600-1760119200@www.aktivita-badessen.de
SUMMARY:Step-Intervall
DESCRIPTION:Intervalltraining mit dem Step-Board – intensiv und vielseitig zur Verbesserung von Kraft und Ausdauer.
URL:https://www.aktivita-badessen.de/einzelkurs/step-intervall-2/2025-10-10/
LOCATION:AKTIVITA SoleSpa\, Lindenstraße 100\, Bad Essen\, 49152\, Deutschland
CATEGORIES:Fitnesskurs
END:VEVENT
BEGIN:VEVENT
DTSTART;TZID=Europe/Berlin:20251010T160000
DTEND;TZID=Europe/Berlin:20251010T170000
DTSTAMP:20260419T171925
CREATED:20241204T102912Z
LAST-MODIFIED:20251211T142325Z
UID:10072636-1760112000-1760115600@www.aktivita-badessen.de
SUMMARY:Rehasport (Wasser)
DESCRIPTION:Schonende Ganzkörperübungen im Wasser zur Steigerung von Kraft\, Ausdauer und Beweglichkeit – gelenkschonend\, zur Schmerzlinderung und Verbesserung der Lebensqualität.
URL:https://www.aktivita-badessen.de/einzelkurs/rehasport-wasser-neu-28/2025-10-10/
LOCATION:AKTIVITA SoleSpa\, Lindenstraße 100\, Bad Essen\, 49152\, Deutschland
CATEGORIES:Rehasportkurs
END:VEVENT
BEGIN:VEVENT
DTSTART;TZID=Europe/Berlin:20251010T143000
DTEND;TZID=Europe/Berlin:20251010T153000
DTSTAMP:20260419T171925
CREATED:20241204T102757Z
LAST-MODIFIED:20251211T142429Z
UID:10072670-1760106600-1760110200@www.aktivita-badessen.de
SUMMARY:Rehasport (Wasser)
DESCRIPTION:Schonende Ganzkörperübungen im Wasser zur Steigerung von Kraft\, Ausdauer und Beweglichkeit – gelenkschonend\, zur Schmerzlinderung und Verbesserung der Lebensqualität.
URL:https://www.aktivita-badessen.de/einzelkurs/rehasport-wasser-neu-27/2025-10-10/
LOCATION:AKTIVITA SoleSpa\, Lindenstraße 100\, Bad Essen\, 49152\, Deutschland
CATEGORIES:Rehasportkurs
END:VEVENT
BEGIN:VEVENT
DTSTART;TZID=Europe/Berlin:20251010T113000
DTEND;TZID=Europe/Berlin:20251010T123000
DTSTAMP:20260419T171925
CREATED:20241204T102700Z
LAST-MODIFIED:20251211T142456Z
UID:10072687-1760095800-1760099400@www.aktivita-badessen.de
SUMMARY:Rehasport (Wasser)
DESCRIPTION:Schonende Ganzkörperübungen im Wasser zur Steigerung von Kraft\, Ausdauer und Beweglichkeit – gelenkschonend\, zur Schmerzlinderung und Verbesserung der Lebensqualität.
URL:https://www.aktivita-badessen.de/einzelkurs/rehasport-wasser-neu-26/2025-10-10/
LOCATION:AKTIVITA SoleSpa\, Lindenstraße 100\, Bad Essen\, 49152\, Deutschland
CATEGORIES:Rehasportkurs
END:VEVENT
BEGIN:VEVENT
DTSTART;TZID=Europe/Berlin:20251010T103000
DTEND;TZID=Europe/Berlin:20251010T113000
DTSTAMP:20260419T171925
CREATED:20241204T102555Z
LAST-MODIFIED:20251211T143052Z
UID:10072738-1760092200-1760095800@www.aktivita-badessen.de
SUMMARY:Rehasport (Wasser)
DESCRIPTION:Schonende Ganzkörperübungen im Wasser zur Steigerung von Kraft\, Ausdauer und Beweglichkeit – gelenkschonend\, zur Schmerzlinderung und Verbesserung der Lebensqualität.
URL:https://www.aktivita-badessen.de/einzelkurs/rehasport-wasser-neu-25/2025-10-10/
LOCATION:AKTIVITA SoleSpa\, Lindenstraße 100\, Bad Essen\, 49152\, Deutschland
CATEGORIES:Rehasportkurs
END:VEVENT
BEGIN:VEVENT
DTSTART;TZID=Europe/Berlin:20251010T100000
DTEND;TZID=Europe/Berlin:20251010T113000
DTSTAMP:20260419T171925
CREATED:20241209T092525Z
LAST-MODIFIED:20251211T135542Z
UID:10072355-1760090400-1760095800@www.aktivita-badessen.de
SUMMARY:Yoga\, 90 Minuten
DESCRIPTION:Im Fokus stehen Achtsamkeit\, Konzentration und Körperwahrnehmung. Durch bewusstes Atmen wird die Flexibilität gefördert und eine entspannte Ausgeglichenheit erreicht.
URL:https://www.aktivita-badessen.de/einzelkurs/yoga-4-4-2/2025-10-10/
LOCATION:AKTIVITA SoleSpa\, Lindenstraße 100\, Bad Essen\, 49152\, Deutschland
CATEGORIES:Fitnesskurs
END:VEVENT
BEGIN:VEVENT
DTSTART;TZID=Europe/Berlin:20251010T100000
DTEND;TZID=Europe/Berlin:20251010T103000
DTSTAMP:20260419T171925
CREATED:20241202T105853Z
LAST-MODIFIED:20251211T143135Z
UID:10072755-1760090400-1760092200@www.aktivita-badessen.de
SUMMARY:Funktionstraining (Wasser)
DESCRIPTION:Schonendes Training im Wasser zur Verbesserung Ihrer Bewegungsfunktion\, Schmerzlinderung und Reduzierung von Belastungen.
URL:https://www.aktivita-badessen.de/einzelkurs/funktionstraining-wasser-neu-8/2025-10-10/
LOCATION:AKTIVITA SoleSpa\, Lindenstraße 100\, Bad Essen\, 49152\, Deutschland
CATEGORIES:Funktionstrainingskurs
END:VEVENT
BEGIN:VEVENT
DTSTART;TZID=Europe/Berlin:20251010T090000
DTEND;TZID=Europe/Berlin:20251010T100000
DTSTAMP:20260419T171925
CREATED:20250217T151928Z
LAST-MODIFIED:20251211T143318Z
UID:10072806-1760086800-1760090400@www.aktivita-badessen.de
SUMMARY:Rehasport (Wasser)
DESCRIPTION:Schonende Ganzkörperübungen im Wasser zur Steigerung von Kraft\, Ausdauer und Beweglichkeit – gelenkschonend\, zur Schmerzlinderung und Verbesserung der Lebensqualität.
URL:https://www.aktivita-badessen.de/einzelkurs/rehasport-wasser-4/2025-10-10/
LOCATION:AKTIVITA SoleSpa\, Lindenstraße 100\, Bad Essen\, 49152\, Deutschland
CATEGORIES:Rehasportkurs
END:VEVENT
BEGIN:VEVENT
DTSTART;TZID=Europe/Berlin:20251010T083000
DTEND;TZID=Europe/Berlin:20251010T091500
DTSTAMP:20260419T171925
CREATED:20241204T095904Z
LAST-MODIFIED:20251211T143500Z
UID:10072840-1760085000-1760087700@www.aktivita-badessen.de
SUMMARY:Rehasport (Trocken)
DESCRIPTION:Mit physiotherapeutischen Methoden werden Kraft\, Ausdauer\, Koordination und Beweglichkeit verbessert – das Gruppentraining zielt auf die Steigerung der Leistungsfähigkeit und Schmerzlinderung ab und fördert mehr Gesundheit und Lebensqualität.
URL:https://www.aktivita-badessen.de/einzelkurs/rehasport-trocken-neu-15/2025-10-10/
LOCATION:AKTIVITA SoleSpa\, Lindenstraße 100\, Bad Essen\, 49152\, Deutschland
CATEGORIES:Rehasportkurs
END:VEVENT
END:VCALENDAR