BEGIN:VCALENDAR
VERSION:2.0
PRODID:-//AKTIVITA Bad Essen - ECPv6.15.20//NONSGML v1.0//EN
CALSCALE:GREGORIAN
METHOD:PUBLISH
X-ORIGINAL-URL:https://www.aktivita-badessen.de
X-WR-CALDESC:Kurse für AKTIVITA Bad Essen
REFRESH-INTERVAL;VALUE=DURATION:PT1H
X-Robots-Tag:noindex
X-PUBLISHED-TTL:PT1H
BEGIN:VTIMEZONE
TZID:Europe/Berlin
BEGIN:DAYLIGHT
TZOFFSETFROM:+0100
TZOFFSETTO:+0200
TZNAME:CEST
DTSTART:20240331T010000
END:DAYLIGHT
BEGIN:STANDARD
TZOFFSETFROM:+0200
TZOFFSETTO:+0100
TZNAME:CET
DTSTART:20241027T010000
END:STANDARD
BEGIN:DAYLIGHT
TZOFFSETFROM:+0100
TZOFFSETTO:+0200
TZNAME:CEST
DTSTART:20250330T010000
END:DAYLIGHT
BEGIN:STANDARD
TZOFFSETFROM:+0200
TZOFFSETTO:+0100
TZNAME:CET
DTSTART:20251026T010000
END:STANDARD
BEGIN:DAYLIGHT
TZOFFSETFROM:+0100
TZOFFSETTO:+0200
TZNAME:CEST
DTSTART:20260329T010000
END:DAYLIGHT
BEGIN:STANDARD
TZOFFSETFROM:+0200
TZOFFSETTO:+0100
TZNAME:CET
DTSTART:20261025T010000
END:STANDARD
END:VTIMEZONE
BEGIN:VEVENT
DTSTART;TZID=Europe/Berlin:20250901T083000
DTEND;TZID=Europe/Berlin:20250901T093000
DTSTAMP:20260420T074923
CREATED:20241212T130421Z
LAST-MODIFIED:20251211T134956Z
UID:10072193-1756715400-1756719000@www.aktivita-badessen.de
SUMMARY:Rehasport (Wasser)
DESCRIPTION:Schonende Ganzkörperübungen im Wasser zur Steigerung von Kraft\, Ausdauer und Beweglichkeit – gelenkschonend\, zur Schmerzlinderung und Verbesserung der Lebensqualität.
URL:https://www.aktivita-badessen.de/einzelkurs/rehasport-wasser/2025-09-01/
LOCATION:AKTIVITA SoleSpa\, Lindenstraße 100\, Bad Essen\, 49152\, Deutschland
CATEGORIES:Rehasportkurs
END:VEVENT
BEGIN:VEVENT
DTSTART;TZID=Europe/Berlin:20250901T083000
DTEND;TZID=Europe/Berlin:20250901T091500
DTSTAMP:20260420T074923
CREATED:20241204T093055Z
LAST-MODIFIED:20251211T154057Z
UID:10074222-1756715400-1756718100@www.aktivita-badessen.de
SUMMARY:Rehasport (Trocken)
DESCRIPTION:Mit physiotherapeutischen Methoden werden Kraft\, Ausdauer\, Koordination und Beweglichkeit verbessert – das Gruppentraining zielt auf die Steigerung der Leistungsfähigkeit und Schmerzlinderung ab und fördert mehr Gesundheit und Lebensqualität.
URL:https://www.aktivita-badessen.de/einzelkurs/rehasport-trocken-neu/2025-09-01/
LOCATION:AKTIVITA SoleSpa\, Lindenstraße 100\, Bad Essen\, 49152\, Deutschland
CATEGORIES:Rehasportkurs
END:VEVENT
BEGIN:VEVENT
DTSTART;TZID=Europe/Berlin:20250830T110000
DTEND;TZID=Europe/Berlin:20250830T120000
DTSTAMP:20260420T074923
CREATED:20241210T095727Z
LAST-MODIFIED:20251211T135253Z
UID:10070184-1756551600-1756555200@www.aktivita-badessen.de
SUMMARY:Yoga-Fit
DESCRIPTION:Beim Power-Yoga werden Kraft und Dynamik spürbar\, Stärken entfaltet und die eigenen Grenzen auf neue Weise erlebt.
URL:https://www.aktivita-badessen.de/einzelkurs/yoga-fit-2/2025-08-30/
LOCATION:AKTIVITA SoleSpa\, Lindenstraße 100\, Bad Essen\, 49152\, Deutschland
CATEGORIES:Fitnesskurs
END:VEVENT
BEGIN:VEVENT
DTSTART;TZID=Europe/Berlin:20250830T100000
DTEND;TZID=Europe/Berlin:20250830T110000
DTSTAMP:20260420T074923
CREATED:20241210T090735Z
LAST-MODIFIED:20251211T135352Z
UID:10070189-1756548000-1756551600@www.aktivita-badessen.de
SUMMARY:HIIT-Intervalltraining
DESCRIPTION:Intensives Intervalltraining zur Steigerung von Kraft und Ausdauer – perfekt für ein effektives Ganzkörper-Workout in kurzer Zeit.
URL:https://www.aktivita-badessen.de/einzelkurs/hitt-intervalltraining-trocken-neu-2/2025-08-30/
LOCATION:AKTIVITA SoleSpa\, Lindenstraße 100\, Bad Essen\, 49152\, Deutschland
CATEGORIES:Fitnesskurs
END:VEVENT
BEGIN:VEVENT
DTSTART;TZID=Europe/Berlin:20250829T180000
DTEND;TZID=Europe/Berlin:20250829T190000
DTSTAMP:20260420T074923
CREATED:20241210T085737Z
LAST-MODIFIED:20251211T135414Z
UID:10070202-1756490400-1756494000@www.aktivita-badessen.de
SUMMARY:Bauch-Beine-Po
DESCRIPTION:Gezieltes Training zur Straffung und Kräftigung von Bauch\, Beinen\, Po und Oberkörper – ein umfassendes Körperworkout.
URL:https://www.aktivita-badessen.de/einzelkurs/bauch-beine-po-trocken-neu-2/2025-08-29/
LOCATION:AKTIVITA SoleSpa\, Lindenstraße 100\, Bad Essen\, 49152\, Deutschland
CATEGORIES:Fitnesskurs
END:VEVENT
BEGIN:VEVENT
DTSTART;TZID=Europe/Berlin:20250829T180000
DTEND;TZID=Europe/Berlin:20250829T190000
DTSTAMP:20260420T074923
CREATED:20241204T103001Z
LAST-MODIFIED:20251211T142151Z
UID:10070393-1756490400-1756494000@www.aktivita-badessen.de
SUMMARY:Rehasport (Wasser)
DESCRIPTION:Rubensgruppe: Schonende Ganzkörperübungen im Wasser zur Steigerung von Kraft\, Ausdauer und Beweglichkeit – gelenkschonend\, zur Schmerzlinderung und Verbesserung der Lebensqualität.
URL:https://www.aktivita-badessen.de/einzelkurs/rehasport-wasser-neu-29/2025-08-29/
LOCATION:AKTIVITA SoleSpa\, Lindenstraße 100\, Bad Essen\, 49152\, Deutschland
CATEGORIES:Rehasportkurs
END:VEVENT
BEGIN:VEVENT
DTSTART;TZID=Europe/Berlin:20250829T173000
DTEND;TZID=Europe/Berlin:20250829T180000
DTSTAMP:20260420T074923
CREATED:20241202T110028Z
LAST-MODIFIED:20251211T142255Z
UID:10070419-1756488600-1756490400@www.aktivita-badessen.de
SUMMARY:Funktionstraining (Wasser)
DESCRIPTION:Schonendes Training im Wasser zur Verbesserung Ihrer Bewegungsfunktion\, Schmerzlinderung und Reduzierung von Belastungen.
URL:https://www.aktivita-badessen.de/einzelkurs/funktionstraining-wasser-neu-9/2025-08-29/
LOCATION:AKTIVITA SoleSpa\, Lindenstraße 100\, Bad Essen\, 49152\, Deutschland
CATEGORIES:Funktionstrainingskurs
END:VEVENT
BEGIN:VEVENT
DTSTART;TZID=Europe/Berlin:20250829T170000
DTEND;TZID=Europe/Berlin:20250829T180000
DTSTAMP:20260420T074923
CREATED:20241210T093750Z
LAST-MODIFIED:20251211T135437Z
UID:10070215-1756486800-1756490400@www.aktivita-badessen.de
SUMMARY:Step-Intervall
DESCRIPTION:Intervalltraining mit dem Step-Board – intensiv und vielseitig zur Verbesserung von Kraft und Ausdauer.
URL:https://www.aktivita-badessen.de/einzelkurs/step-intervall-2/2025-08-29/
LOCATION:AKTIVITA SoleSpa\, Lindenstraße 100\, Bad Essen\, 49152\, Deutschland
CATEGORIES:Fitnesskurs
END:VEVENT
BEGIN:VEVENT
DTSTART;TZID=Europe/Berlin:20250829T160000
DTEND;TZID=Europe/Berlin:20250829T170000
DTSTAMP:20260420T074923
CREATED:20241204T102912Z
LAST-MODIFIED:20251211T142325Z
UID:10070432-1756483200-1756486800@www.aktivita-badessen.de
SUMMARY:Rehasport (Wasser)
DESCRIPTION:Schonende Ganzkörperübungen im Wasser zur Steigerung von Kraft\, Ausdauer und Beweglichkeit – gelenkschonend\, zur Schmerzlinderung und Verbesserung der Lebensqualität.
URL:https://www.aktivita-badessen.de/einzelkurs/rehasport-wasser-neu-28/2025-08-29/
LOCATION:AKTIVITA SoleSpa\, Lindenstraße 100\, Bad Essen\, 49152\, Deutschland
CATEGORIES:Rehasportkurs
END:VEVENT
BEGIN:VEVENT
DTSTART;TZID=Europe/Berlin:20250829T143000
DTEND;TZID=Europe/Berlin:20250829T153000
DTSTAMP:20260420T074923
CREATED:20241204T102757Z
LAST-MODIFIED:20251211T142429Z
UID:10070458-1756477800-1756481400@www.aktivita-badessen.de
SUMMARY:Rehasport (Wasser)
DESCRIPTION:Schonende Ganzkörperübungen im Wasser zur Steigerung von Kraft\, Ausdauer und Beweglichkeit – gelenkschonend\, zur Schmerzlinderung und Verbesserung der Lebensqualität.
URL:https://www.aktivita-badessen.de/einzelkurs/rehasport-wasser-neu-27/2025-08-29/
LOCATION:AKTIVITA SoleSpa\, Lindenstraße 100\, Bad Essen\, 49152\, Deutschland
CATEGORIES:Rehasportkurs
END:VEVENT
BEGIN:VEVENT
DTSTART;TZID=Europe/Berlin:20250829T113000
DTEND;TZID=Europe/Berlin:20250829T123000
DTSTAMP:20260420T074923
CREATED:20241204T102700Z
LAST-MODIFIED:20251211T142456Z
UID:10070471-1756467000-1756470600@www.aktivita-badessen.de
SUMMARY:Rehasport (Wasser)
DESCRIPTION:Schonende Ganzkörperübungen im Wasser zur Steigerung von Kraft\, Ausdauer und Beweglichkeit – gelenkschonend\, zur Schmerzlinderung und Verbesserung der Lebensqualität.
URL:https://www.aktivita-badessen.de/einzelkurs/rehasport-wasser-neu-26/2025-08-29/
LOCATION:AKTIVITA SoleSpa\, Lindenstraße 100\, Bad Essen\, 49152\, Deutschland
CATEGORIES:Rehasportkurs
END:VEVENT
BEGIN:VEVENT
DTSTART;TZID=Europe/Berlin:20250829T103000
DTEND;TZID=Europe/Berlin:20250829T113000
DTSTAMP:20260420T074923
CREATED:20241204T102555Z
LAST-MODIFIED:20251211T143052Z
UID:10070510-1756463400-1756467000@www.aktivita-badessen.de
SUMMARY:Rehasport (Wasser)
DESCRIPTION:Schonende Ganzkörperübungen im Wasser zur Steigerung von Kraft\, Ausdauer und Beweglichkeit – gelenkschonend\, zur Schmerzlinderung und Verbesserung der Lebensqualität.
URL:https://www.aktivita-badessen.de/einzelkurs/rehasport-wasser-neu-25/2025-08-29/
LOCATION:AKTIVITA SoleSpa\, Lindenstraße 100\, Bad Essen\, 49152\, Deutschland
CATEGORIES:Rehasportkurs
END:VEVENT
BEGIN:VEVENT
DTSTART;TZID=Europe/Berlin:20250829T100000
DTEND;TZID=Europe/Berlin:20250829T113000
DTSTAMP:20260420T074923
CREATED:20241209T092525Z
LAST-MODIFIED:20251211T135542Z
UID:10070228-1756461600-1756467000@www.aktivita-badessen.de
SUMMARY:Yoga\, 90 Minuten
DESCRIPTION:Im Fokus stehen Achtsamkeit\, Konzentration und Körperwahrnehmung. Durch bewusstes Atmen wird die Flexibilität gefördert und eine entspannte Ausgeglichenheit erreicht.
URL:https://www.aktivita-badessen.de/einzelkurs/yoga-4-4-2/2025-08-29/
LOCATION:AKTIVITA SoleSpa\, Lindenstraße 100\, Bad Essen\, 49152\, Deutschland
CATEGORIES:Fitnesskurs
END:VEVENT
BEGIN:VEVENT
DTSTART;TZID=Europe/Berlin:20250829T100000
DTEND;TZID=Europe/Berlin:20250829T103000
DTSTAMP:20260420T074923
CREATED:20241202T105853Z
LAST-MODIFIED:20251211T143135Z
UID:10070523-1756461600-1756463400@www.aktivita-badessen.de
SUMMARY:Funktionstraining (Wasser)
DESCRIPTION:Schonendes Training im Wasser zur Verbesserung Ihrer Bewegungsfunktion\, Schmerzlinderung und Reduzierung von Belastungen.
URL:https://www.aktivita-badessen.de/einzelkurs/funktionstraining-wasser-neu-8/2025-08-29/
LOCATION:AKTIVITA SoleSpa\, Lindenstraße 100\, Bad Essen\, 49152\, Deutschland
CATEGORIES:Funktionstrainingskurs
END:VEVENT
BEGIN:VEVENT
DTSTART;TZID=Europe/Berlin:20250829T090000
DTEND;TZID=Europe/Berlin:20250829T100000
DTSTAMP:20260420T074923
CREATED:20250217T151928Z
LAST-MODIFIED:20251211T143318Z
UID:10070562-1756458000-1756461600@www.aktivita-badessen.de
SUMMARY:Rehasport (Wasser)
DESCRIPTION:Schonende Ganzkörperübungen im Wasser zur Steigerung von Kraft\, Ausdauer und Beweglichkeit – gelenkschonend\, zur Schmerzlinderung und Verbesserung der Lebensqualität.
URL:https://www.aktivita-badessen.de/einzelkurs/rehasport-wasser-4/2025-08-29/
LOCATION:AKTIVITA SoleSpa\, Lindenstraße 100\, Bad Essen\, 49152\, Deutschland
CATEGORIES:Rehasportkurs
END:VEVENT
BEGIN:VEVENT
DTSTART;TZID=Europe/Berlin:20250829T083000
DTEND;TZID=Europe/Berlin:20250829T091500
DTSTAMP:20260420T074923
CREATED:20241204T095904Z
LAST-MODIFIED:20251211T143500Z
UID:10070588-1756456200-1756458900@www.aktivita-badessen.de
SUMMARY:Rehasport (Trocken)
DESCRIPTION:Mit physiotherapeutischen Methoden werden Kraft\, Ausdauer\, Koordination und Beweglichkeit verbessert – das Gruppentraining zielt auf die Steigerung der Leistungsfähigkeit und Schmerzlinderung ab und fördert mehr Gesundheit und Lebensqualität.
URL:https://www.aktivita-badessen.de/einzelkurs/rehasport-trocken-neu-15/2025-08-29/
LOCATION:AKTIVITA SoleSpa\, Lindenstraße 100\, Bad Essen\, 49152\, Deutschland
CATEGORIES:Rehasportkurs
END:VEVENT
BEGIN:VEVENT
DTSTART;TZID=Europe/Berlin:20250829T080000
DTEND;TZID=Europe/Berlin:20250829T090000
DTSTAMP:20260420T074923
CREATED:20250217T151809Z
LAST-MODIFIED:20251211T143559Z
UID:10070601-1756454400-1756458000@www.aktivita-badessen.de
SUMMARY:Rehasport (Wasser)
DESCRIPTION:Schonende Ganzkörperübungen im Wasser zur Steigerung von Kraft\, Ausdauer und Beweglichkeit – gelenkschonend\, zur Schmerzlinderung und Verbesserung der Lebensqualität.
URL:https://www.aktivita-badessen.de/einzelkurs/rehasport-wasser-3/2025-08-29/
LOCATION:AKTIVITA SoleSpa\, Lindenstraße 100\, Bad Essen\, 49152\, Deutschland
CATEGORIES:Rehasportkurs
END:VEVENT
BEGIN:VEVENT
DTSTART;TZID=Europe/Berlin:20250828T200000
DTEND;TZID=Europe/Berlin:20250828T210000
DTSTAMP:20260420T074923
CREATED:20241202T124025Z
LAST-MODIFIED:20251211T143701Z
UID:10070614-1756411200-1756414800@www.aktivita-badessen.de
SUMMARY:Funktion meets Form Männer
DESCRIPTION:Ausgleichstraining mit gezielten Übungen zur Reduzierung einseitiger Belastungen sowie zur Verbesserung der Koordination und Beweglichkeit.
URL:https://www.aktivita-badessen.de/einzelkurs/funktion-meets-form-maenner-trocken-neu/2025-08-28/
LOCATION:AKTIVITA SoleSpa\, Lindenstraße 100\, Bad Essen\, 49152\, Deutschland
CATEGORIES:Gesundheits- und Präventionskurs
END:VEVENT
BEGIN:VEVENT
DTSTART;TZID=Europe/Berlin:20250828T193000
DTEND;TZID=Europe/Berlin:20250828T203000
DTSTAMP:20260420T074923
CREATED:20241213T123032Z
LAST-MODIFIED:20251211T143729Z
UID:10070627-1756409400-1756413000@www.aktivita-badessen.de
SUMMARY:Rehasport (Wasser)
DESCRIPTION:Schonende Ganzkörperübungen im Wasser zur Steigerung von Kraft\, Ausdauer und Beweglichkeit – gelenkschonend\, zur Schmerzlinderung und Verbesserung der Lebensqualität.
URL:https://www.aktivita-badessen.de/einzelkurs/rehasport-wasser-2/2025-08-28/
LOCATION:AKTIVITA SoleSpa\, Lindenstraße 100\, Bad Essen\, 49152\, Deutschland
CATEGORIES:Rehasportkurs
END:VEVENT
BEGIN:VEVENT
DTSTART;TZID=Europe/Berlin:20250828T190000
DTEND;TZID=Europe/Berlin:20250828T200000
DTSTAMP:20260420T074923
CREATED:20241202T101044Z
LAST-MODIFIED:20251211T143806Z
UID:10070653-1756407600-1756411200@www.aktivita-badessen.de
SUMMARY:Langhantel-Workout
DESCRIPTION:Kraft-Ausdauertraining mit der Langhantel – ein intensives Workout für den gesamten Körper\, das Kraft und Ausdauer steigert.
URL:https://www.aktivita-badessen.de/einzelkurs/langhantel-workouttrocken-neu-2/2025-08-28/
LOCATION:AKTIVITA SoleSpa\, Lindenstraße 100\, Bad Essen\, 49152\, Deutschland
CATEGORIES:Fitnesskurs
END:VEVENT
BEGIN:VEVENT
DTSTART;TZID=Europe/Berlin:20250828T190000
DTEND;TZID=Europe/Berlin:20250828T193000
DTSTAMP:20260420T074923
CREATED:20241202T105713Z
LAST-MODIFIED:20251211T143847Z
UID:10070666-1756407600-1756409400@www.aktivita-badessen.de
SUMMARY:Funktionstraining (Wasser)
DESCRIPTION:Schonendes Training im Wasser zur Verbesserung Ihrer Bewegungsfunktion\, Schmerzlinderung und Reduzierung von Belastungen.
URL:https://www.aktivita-badessen.de/einzelkurs/funktionstraining-wasser-neu-7/2025-08-28/
LOCATION:AKTIVITA SoleSpa\, Lindenstraße 100\, Bad Essen\, 49152\, Deutschland
CATEGORIES:Funktionstrainingskurs
END:VEVENT
BEGIN:VEVENT
DTSTART;TZID=Europe/Berlin:20250828T180000
DTEND;TZID=Europe/Berlin:20250828T190000
DTSTAMP:20260420T074923
CREATED:20241204T102305Z
LAST-MODIFIED:20251211T144026Z
UID:10070692-1756404000-1756407600@www.aktivita-badessen.de
SUMMARY:Rehasport (Wasser)
DESCRIPTION:Schonende Ganzkörperübungen im Wasser zur Steigerung von Kraft\, Ausdauer und Beweglichkeit – gelenkschonend\, zur Schmerzlinderung und Verbesserung der Lebensqualität.
URL:https://www.aktivita-badessen.de/einzelkurs/rehasport-wasser-neu-22/2025-08-28/
LOCATION:AKTIVITA SoleSpa\, Lindenstraße 100\, Bad Essen\, 49152\, Deutschland
CATEGORIES:Rehasportkurs
END:VEVENT
BEGIN:VEVENT
DTSTART;TZID=Europe/Berlin:20250828T174500
DTEND;TZID=Europe/Berlin:20250828T184500
DTSTAMP:20260420T074923
CREATED:20241202T093512Z
LAST-MODIFIED:20251211T135642Z
UID:10070254-1756403100-1756406700@www.aktivita-badessen.de
SUMMARY:Yoga\, 60 Minuten
DESCRIPTION:Im Fokus stehen Achtsamkeit\, Konzentration und Körperwahrnehmung. Durch bewusstes Atmen wird die Flexibilität gefördert und eine entspannte Ausgeglichenheit erreicht.
URL:https://www.aktivita-badessen.de/einzelkurs/yoga-3-2-2/2025-08-28/
LOCATION:AKTIVITA SoleSpa\, Lindenstraße 100\, Bad Essen\, 49152\, Deutschland
CATEGORIES:Fitnesskurs
END:VEVENT
BEGIN:VEVENT
DTSTART;TZID=Europe/Berlin:20250828T171500
DTEND;TZID=Europe/Berlin:20250828T174500
DTSTAMP:20260420T074923
CREATED:20241216T104556Z
LAST-MODIFIED:20251211T135025Z
UID:10068908-1756401300-1756403100@www.aktivita-badessen.de
SUMMARY:Funktionstraining (Trocken)
DESCRIPTION:
URL:https://www.aktivita-badessen.de/einzelkurs/funktonstairining-trocken/2025-08-28/
LOCATION:AKTIVITA SoleSpa\, Lindenstraße 100\, Bad Essen\, 49152\, Deutschland
CATEGORIES:Funktionstrainingskurs
END:VEVENT
BEGIN:VEVENT
DTSTART;TZID=Europe/Berlin:20250828T170000
DTEND;TZID=Europe/Berlin:20250828T180000
DTSTAMP:20260420T074923
CREATED:20241204T102205Z
LAST-MODIFIED:20251211T145917Z
UID:10070731-1756400400-1756404000@www.aktivita-badessen.de
SUMMARY:Rehasport (Wasser)
DESCRIPTION:Schonende Ganzkörperübungen im Wasser zur Steigerung von Kraft\, Ausdauer und Beweglichkeit – gelenkschonend\, zur Schmerzlinderung und Verbesserung der Lebensqualität.
URL:https://www.aktivita-badessen.de/einzelkurs/rehasport-wasser-neu-21/2025-08-28/
LOCATION:AKTIVITA SoleSpa\, Lindenstraße 100\, Bad Essen\, 49152\, Deutschland
CATEGORIES:Rehasportkurs
END:VEVENT
BEGIN:VEVENT
DTSTART;TZID=Europe/Berlin:20250828T163000
DTEND;TZID=Europe/Berlin:20250828T171500
DTSTAMP:20260420T074923
CREATED:20241213T152644Z
LAST-MODIFIED:20251211T145949Z
UID:10070744-1756398600-1756401300@www.aktivita-badessen.de
SUMMARY:Rehasport (Trocken)
DESCRIPTION:Mit physiotherapeutischen Methoden werden Kraft\, Ausdauer\, Koordination und Beweglichkeit verbessert – das Gruppentraining zielt auf die Steigerung der Leistungsfähigkeit und Schmerzlinderung ab und fördert mehr Gesundheit und Lebensqualität.
URL:https://www.aktivita-badessen.de/einzelkurs/rehasport-trocken-2/2025-08-28/
LOCATION:AKTIVITA SoleSpa\, Lindenstraße 100\, Bad Essen\, 49152\, Deutschland
CATEGORIES:Rehasportkurs
END:VEVENT
BEGIN:VEVENT
DTSTART;TZID=Europe/Berlin:20250828T160000
DTEND;TZID=Europe/Berlin:20250828T170000
DTSTAMP:20260420T074923
CREATED:20241204T102106Z
LAST-MODIFIED:20251211T150400Z
UID:10070757-1756396800-1756400400@www.aktivita-badessen.de
SUMMARY:Rehasport (Wasser)
DESCRIPTION:Schonende Ganzkörperübungen im Wasser zur Steigerung von Kraft\, Ausdauer und Beweglichkeit – gelenkschonend\, zur Schmerzlinderung und Verbesserung der Lebensqualität.
URL:https://www.aktivita-badessen.de/einzelkurs/rehasport-wasser-neu-20/2025-08-28/
LOCATION:AKTIVITA SoleSpa\, Lindenstraße 100\, Bad Essen\, 49152\, Deutschland
CATEGORIES:Rehasportkurs
END:VEVENT
BEGIN:VEVENT
DTSTART;TZID=Europe/Berlin:20250828T133000
DTEND;TZID=Europe/Berlin:20250828T155000
DTSTAMP:20260420T074923
CREATED:20241204T110110Z
LAST-MODIFIED:20260105T092550Z
UID:10070783-1756387800-1756396200@www.aktivita-badessen.de
SUMMARY:Kinderschwimmen
DESCRIPTION:Kinder lernen die Schwimmgrundlagen\, verfeinern ihre Technik und Schwimmstile und arbeiten auf die Abzeichen Seepferdchen\, Seeräuber und Bronze hin (für Anfänger ab 4 Jahren). \nIn Kooperation mit: Schwimmschule Jürgen Lamping
URL:https://www.aktivita-badessen.de/einzelkurs/kinderschwimmen-wasser-neu/2025-08-28/
LOCATION:AKTIVITA SoleSpa\, Lindenstraße 100\, Bad Essen\, 49152\, Deutschland
CATEGORIES:Schwimmschule
END:VEVENT
BEGIN:VEVENT
DTSTART;TZID=Europe/Berlin:20250828T110000
DTEND;TZID=Europe/Berlin:20250828T120000
DTSTAMP:20260420T074923
CREATED:20241204T102013Z
LAST-MODIFIED:20251211T150500Z
UID:10070796-1756378800-1756382400@www.aktivita-badessen.de
SUMMARY:Rehasport (Wasser)
DESCRIPTION:Schonende Ganzkörperübungen im Wasser zur Steigerung von Kraft\, Ausdauer und Beweglichkeit – gelenkschonend\, zur Schmerzlinderung und Verbesserung der Lebensqualität.
URL:https://www.aktivita-badessen.de/einzelkurs/rehasport-wasser-neu-19/2025-08-28/
LOCATION:AKTIVITA SoleSpa\, Lindenstraße 100\, Bad Essen\, 49152\, Deutschland
CATEGORIES:Rehasportkurs
END:VEVENT
BEGIN:VEVENT
DTSTART;TZID=Europe/Berlin:20250828T110000
DTEND;TZID=Europe/Berlin:20250828T120000
DTSTAMP:20260420T074923
CREATED:20241204T090554Z
LAST-MODIFIED:20251211T150532Z
UID:10070809-1756378800-1756382400@www.aktivita-badessen.de
SUMMARY:Zertifiziertes Gerätetraining
DESCRIPTION:Das Ganzkörpertraining: Zertifiziertes Gerätetraining in kleinen Gruppen\, unter Anleitung eines qualifizierten Physiotherapeuten\, zur Krafterhaltung und Verbesserung des allgemeinen Wohlbefindens – einmal wöchentlich.
URL:https://www.aktivita-badessen.de/einzelkurs/zirkeltraining-das-ganzkoerpertraining-trocken-neu-7/2025-08-28/
LOCATION:AKTIVITA SoleSpa\, Lindenstraße 100\, Bad Essen\, 49152\, Deutschland
CATEGORIES:Gesundheits- und Präventionskurs
END:VEVENT
END:VCALENDAR