BEGIN:VCALENDAR
VERSION:2.0
PRODID:-//AKTIVITA Bad Essen - ECPv6.15.20//NONSGML v1.0//EN
CALSCALE:GREGORIAN
METHOD:PUBLISH
X-ORIGINAL-URL:https://www.aktivita-badessen.de
X-WR-CALDESC:Kurse für AKTIVITA Bad Essen
REFRESH-INTERVAL;VALUE=DURATION:PT1H
X-Robots-Tag:noindex
X-PUBLISHED-TTL:PT1H
BEGIN:VTIMEZONE
TZID:Europe/Berlin
BEGIN:DAYLIGHT
TZOFFSETFROM:+0100
TZOFFSETTO:+0200
TZNAME:CEST
DTSTART:20240331T010000
END:DAYLIGHT
BEGIN:STANDARD
TZOFFSETFROM:+0200
TZOFFSETTO:+0100
TZNAME:CET
DTSTART:20241027T010000
END:STANDARD
BEGIN:DAYLIGHT
TZOFFSETFROM:+0100
TZOFFSETTO:+0200
TZNAME:CEST
DTSTART:20250330T010000
END:DAYLIGHT
BEGIN:STANDARD
TZOFFSETFROM:+0200
TZOFFSETTO:+0100
TZNAME:CET
DTSTART:20251026T010000
END:STANDARD
BEGIN:DAYLIGHT
TZOFFSETFROM:+0100
TZOFFSETTO:+0200
TZNAME:CEST
DTSTART:20260329T010000
END:DAYLIGHT
BEGIN:STANDARD
TZOFFSETFROM:+0200
TZOFFSETTO:+0100
TZNAME:CET
DTSTART:20261025T010000
END:STANDARD
END:VTIMEZONE
BEGIN:VEVENT
DTSTART;TZID=Europe/Berlin:20250827T100000
DTEND;TZID=Europe/Berlin:20250827T110000
DTSTAMP:20260420T092234
CREATED:20241204T101403Z
LAST-MODIFIED:20251211T151555Z
UID:10071069-1756288800-1756292400@www.aktivita-badessen.de
SUMMARY:Rehasport (Wasser)
DESCRIPTION:Schonende Ganzkörperübungen im Wasser zur Steigerung von Kraft\, Ausdauer und Beweglichkeit – gelenkschonend\, zur Schmerzlinderung und Verbesserung der Lebensqualität.
URL:https://www.aktivita-badessen.de/einzelkurs/rehasport-wasser-neu-13/2025-08-27/
LOCATION:AKTIVITA SoleSpa\, Lindenstraße 100\, Bad Essen\, 49152\, Deutschland
CATEGORIES:Rehasportkurs
END:VEVENT
BEGIN:VEVENT
DTSTART;TZID=Europe/Berlin:20250827T090000
DTEND;TZID=Europe/Berlin:20250827T100000
DTSTAMP:20260420T092234
CREATED:20241214T105046Z
LAST-MODIFIED:20251211T154412Z
UID:10074514-1756285200-1756288800@www.aktivita-badessen.de
SUMMARY:Wirbelsäulenfit Aktiv ab 60
DESCRIPTION:Spezielles Trainingsprogramm für Wirbelsäule und Gelenke\, das Kraft\, Ausdauer\, Beweglichkeit und Koordination steigert – ideal für die Bedürfnisse ab 60.
URL:https://www.aktivita-badessen.de/einzelkurs/wirbelsaeulenfit-aktiv-ab-60-3/2025-08-27/
LOCATION:AKTIVITA SoleSpa\, Lindenstraße 100\, Bad Essen\, 49152\, Deutschland
CATEGORIES:Gesundheits- und Präventionskurs
END:VEVENT
BEGIN:VEVENT
DTSTART;TZID=Europe/Berlin:20250827T090000
DTEND;TZID=Europe/Berlin:20250827T100000
DTSTAMP:20260420T092234
CREATED:20241204T101247Z
LAST-MODIFIED:20251211T152014Z
UID:10071095-1756285200-1756288800@www.aktivita-badessen.de
SUMMARY:Rehasport (Wasser)
DESCRIPTION:Schonende Ganzkörperübungen im Wasser zur Steigerung von Kraft\, Ausdauer und Beweglichkeit – gelenkschonend\, zur Schmerzlinderung und Verbesserung der Lebensqualität.
URL:https://www.aktivita-badessen.de/einzelkurs/rehasport-wasser-neu-12/2025-08-27/
LOCATION:AKTIVITA SoleSpa\, Lindenstraße 100\, Bad Essen\, 49152\, Deutschland
CATEGORIES:Rehasportkurs
END:VEVENT
BEGIN:VEVENT
DTSTART;TZID=Europe/Berlin:20250827T081500
DTEND;TZID=Europe/Berlin:20250827T091000
DTSTAMP:20260420T092234
CREATED:20241204T095250Z
LAST-MODIFIED:20251211T152106Z
UID:10071121-1756282500-1756285800@www.aktivita-badessen.de
SUMMARY:Rehasport (Trocken)
DESCRIPTION:Mit physiotherapeutischen Methoden werden Kraft\, Ausdauer\, Koordination und Beweglichkeit verbessert – das Gruppentraining zielt auf die Steigerung der Leistungsfähigkeit und Schmerzlinderung ab und fördert mehr Gesundheit und Lebensqualität.
URL:https://www.aktivita-badessen.de/einzelkurs/rehasport-trocken-neu-13/2025-08-27/
LOCATION:AKTIVITA SoleSpa\, Lindenstraße 100\, Bad Essen\, 49152\, Deutschland
CATEGORIES:Rehasportkurs
END:VEVENT
BEGIN:VEVENT
DTSTART;TZID=Europe/Berlin:20250826T193000
DTEND;TZID=Europe/Berlin:20250826T201500
DTSTAMP:20260420T092234
CREATED:20241204T094054Z
LAST-MODIFIED:20251211T152131Z
UID:10071134-1756236600-1756239300@www.aktivita-badessen.de
SUMMARY:Rehasport (Trocken)
DESCRIPTION:Mit physiotherapeutischen Methoden werden Kraft\, Ausdauer\, Koordination und Beweglichkeit verbessert – das Gruppentraining zielt auf die Steigerung der Leistungsfähigkeit und Schmerzlinderung ab und fördert mehr Gesundheit und Lebensqualität.
URL:https://www.aktivita-badessen.de/einzelkurs/rehasport-trocken-neu-7/2025-08-26/
LOCATION:AKTIVITA SoleSpa\, Lindenstraße 100\, Bad Essen\, 49152\, Deutschland
CATEGORIES:Rehasportkurs
END:VEVENT
BEGIN:VEVENT
DTSTART;TZID=Europe/Berlin:20250826T190000
DTEND;TZID=Europe/Berlin:20250826T200000
DTSTAMP:20260420T092234
CREATED:20241204T101141Z
LAST-MODIFIED:20251211T152217Z
UID:10071147-1756234800-1756238400@www.aktivita-badessen.de
SUMMARY:Rehasport (Wasser)
DESCRIPTION:Schonende Ganzkörperübungen im Wasser zur Steigerung von Kraft\, Ausdauer und Beweglichkeit – gelenkschonend\, zur Schmerzlinderung und Verbesserung der Lebensqualität.
URL:https://www.aktivita-badessen.de/einzelkurs/rehasport-wasser-neu-11/2025-08-26/
LOCATION:AKTIVITA SoleSpa\, Lindenstraße 100\, Bad Essen\, 49152\, Deutschland
CATEGORIES:Rehasportkurs
END:VEVENT
BEGIN:VEVENT
DTSTART;TZID=Europe/Berlin:20250826T183000
DTEND;TZID=Europe/Berlin:20250826T193000
DTSTAMP:20260420T092234
CREATED:20241210T092040Z
LAST-MODIFIED:20251211T135850Z
UID:10070332-1756233000-1756236600@www.aktivita-badessen.de
SUMMARY:Langhantel-Workout
DESCRIPTION:Kraft-Ausdauertraining mit der Langhantel – ein intensives Workout für den gesamten Körper\, das Kraft und Ausdauer steigert.
URL:https://www.aktivita-badessen.de/einzelkurs/langhantel-workouttrocken-neu-2-2/2025-08-26/
LOCATION:AKTIVITA SoleSpa\, Lindenstraße 100\, Bad Essen\, 49152\, Deutschland
CATEGORIES:Fitnesskurs
ATTACH;FMTTYPE=image/webp:https://www.aktivita-badessen.de/wp-content/uploads/2024/12/Langhantel-Workout.webp
END:VEVENT
BEGIN:VEVENT
DTSTART;TZID=Europe/Berlin:20250826T170000
DTEND;TZID=Europe/Berlin:20250826T174500
DTSTAMP:20260420T092234
CREATED:20241212T140559Z
LAST-MODIFIED:20251211T135914Z
UID:10072527-1756227600-1756230300@www.aktivita-badessen.de
SUMMARY:Aquafit-Zirkeltraining
DESCRIPTION:Kraft- und Ausdauertraining im Wasser mit abwechslungsreichen Stationen und Ganzkörperübungen\, sowohl mit als auch ohne Geräte.
URL:https://www.aktivita-badessen.de/einzelkurs/aquafit-zirkeltraining-2/2025-08-26/
LOCATION:AKTIVITA SoleSpa\, Lindenstraße 100\, Bad Essen\, 49152\, Deutschland
CATEGORIES:Gesundheits- und Präventionskurs
END:VEVENT
BEGIN:VEVENT
DTSTART;TZID=Europe/Berlin:20250826T160000
DTEND;TZID=Europe/Berlin:20250826T170000
DTSTAMP:20260420T092234
CREATED:20250415T130850Z
LAST-MODIFIED:20251211T131829Z
UID:10071212-1756224000-1756227600@www.aktivita-badessen.de
SUMMARY:Rehasport (Wasser)
DESCRIPTION:Schonende Ganzkörperübungen im Wasser zur Steigerung von Kraft\, Ausdauer und Beweglichkeit – gelenkschonend\, zur Schmerzlinderung und Verbesserung der Lebensqualität.
URL:https://www.aktivita-badessen.de/einzelkurs/rehasport-wasser-neu-9-2/2025-08-26/
LOCATION:AKTIVITA SoleSpa\, Lindenstraße 100\, Bad Essen\, 49152\, Deutschland
CATEGORIES:Rehasportkurs
END:VEVENT
BEGIN:VEVENT
DTSTART;TZID=Europe/Berlin:20250826T160000
DTEND;TZID=Europe/Berlin:20250826T170000
DTSTAMP:20260420T092234
CREATED:20241204T101000Z
LAST-MODIFIED:20251211T152433Z
UID:10073732-1756224000-1756227600@www.aktivita-badessen.de
SUMMARY:Rehasport (Wasser)
DESCRIPTION:Schonende Ganzkörperübungen im Wasser zur Steigerung von Kraft\, Ausdauer und Beweglichkeit – gelenkschonend\, zur Schmerzlinderung und Verbesserung der Lebensqualität.
URL:https://www.aktivita-badessen.de/einzelkurs/rehasport-wasser-neu-9/2025-08-26/
LOCATION:AKTIVITA SoleSpa\, Lindenstraße 100\, Bad Essen\, 49152\, Deutschland
CATEGORIES:Rehasportkurs
END:VEVENT
BEGIN:VEVENT
DTSTART;TZID=Europe/Berlin:20250826T150000
DTEND;TZID=Europe/Berlin:20250826T160000
DTSTAMP:20260420T092234
CREATED:20250415T125813Z
LAST-MODIFIED:20251211T131852Z
UID:10071225-1756220400-1756224000@www.aktivita-badessen.de
SUMMARY:Rehasport (Wasser)
DESCRIPTION:Schonende Ganzkörperübungen im Wasser zur Steigerung von Kraft\, Ausdauer und Beweglichkeit – gelenkschonend\, zur Schmerzlinderung und Verbesserung der Lebensqualität.
URL:https://www.aktivita-badessen.de/einzelkurs/rehasport-wasser-neu-8-2/2025-08-26/
LOCATION:AKTIVITA SoleSpa\, Lindenstraße 100\, Bad Essen\, 49152\, Deutschland
CATEGORIES:Rehasportkurs
END:VEVENT
BEGIN:VEVENT
DTSTART;TZID=Europe/Berlin:20250826T140000
DTEND;TZID=Europe/Berlin:20250826T183000
DTSTAMP:20260420T092234
CREATED:20241204T113201Z
LAST-MODIFIED:20251211T152509Z
UID:10071238-1756216800-1756233000@www.aktivita-badessen.de
SUMMARY:Ballettschule Watkins
DESCRIPTION:Ballett für Kinder bis zu jungen Erwachsenen – für alle\, die ihre tänzerischen Fähigkeiten entwickeln möchten. \nIn Kooperation mit: Balettschule Watkins
URL:https://www.aktivita-badessen.de/einzelkurs/ballettschule-trocken-neu/2025-08-26/
LOCATION:AKTIVITA SoleSpa\, Lindenstraße 100\, Bad Essen\, 49152\, Deutschland
CATEGORIES:Tanzkurs
END:VEVENT
BEGIN:VEVENT
DTSTART;TZID=Europe/Berlin:20250826T110000
DTEND;TZID=Europe/Berlin:20250826T120000
DTSTAMP:20260420T092234
CREATED:20241204T100751Z
LAST-MODIFIED:20251211T152644Z
UID:10071251-1756206000-1756209600@www.aktivita-badessen.de
SUMMARY:Rehasport (Wasser)
DESCRIPTION:Schonende Ganzkörperübungen im Wasser zur Steigerung von Kraft\, Ausdauer und Beweglichkeit – gelenkschonend\, zur Schmerzlinderung und Verbesserung der Lebensqualität.
URL:https://www.aktivita-badessen.de/einzelkurs/rehasport-wasser-neu-7/2025-08-26/
LOCATION:AKTIVITA SoleSpa\, Lindenstraße 100\, Bad Essen\, 49152\, Deutschland
CATEGORIES:Rehasportkurs
END:VEVENT
BEGIN:VEVENT
DTSTART;TZID=Europe/Berlin:20250826T103000
DTEND;TZID=Europe/Berlin:20250826T110000
DTSTAMP:20260420T092234
CREATED:20241202T104900Z
LAST-MODIFIED:20251211T152712Z
UID:10071264-1756204200-1756206000@www.aktivita-badessen.de
SUMMARY:Funktionstraining (Wasser)
DESCRIPTION:Schonendes Training im Wasser zur Verbesserung Ihrer Bewegungsfunktion\, Schmerzlinderung und Reduzierung von Belastungen.
URL:https://www.aktivita-badessen.de/einzelkurs/funktionstraining-wasser-neu-3/2025-08-26/
LOCATION:AKTIVITA SoleSpa\, Lindenstraße 100\, Bad Essen\, 49152\, Deutschland
CATEGORIES:Funktionstrainingskurs
END:VEVENT
BEGIN:VEVENT
DTSTART;TZID=Europe/Berlin:20250826T100000
DTEND;TZID=Europe/Berlin:20250826T103000
DTSTAMP:20260420T092234
CREATED:20241202T104700Z
LAST-MODIFIED:20251211T152740Z
UID:10073861-1756202400-1756204200@www.aktivita-badessen.de
SUMMARY:Funktionstraining (Wasser)
DESCRIPTION:Schonendes Training im Wasser zur Verbesserung Ihrer Bewegungsfunktion\, Schmerzlinderung und Reduzierung von Belastungen.
URL:https://www.aktivita-badessen.de/einzelkurs/funktionstraining-wasser-neu-2/2025-08-26/
LOCATION:AKTIVITA SoleSpa\, Lindenstraße 100\, Bad Essen\, 49152\, Deutschland
CATEGORIES:Funktionstrainingskurs
END:VEVENT
BEGIN:VEVENT
DTSTART;TZID=Europe/Berlin:20250826T093000
DTEND;TZID=Europe/Berlin:20250826T104500
DTSTAMP:20260420T092234
CREATED:20240529T093758Z
LAST-MODIFIED:20251211T154651Z
UID:10074405-1756200600-1756205100@www.aktivita-badessen.de
SUMMARY:Kangatraining
DESCRIPTION:Kangatraining für Mütter und ihre Babys: Rückbildungsgerechte Übungen sowie Kraft- und Ausdauertraining – gemeinsam mit dem Baby in der Trage. \nIn Kooperation mit: Rebekka Nülle-Wobker
URL:https://www.aktivita-badessen.de/einzelkurs/kangatraining/2025-08-26/
LOCATION:AKTIVITA SoleSpa\, Lindenstraße 100\, Bad Essen\, 49152\, Deutschland
CATEGORIES:Mutter- und Kindkurs
END:VEVENT
BEGIN:VEVENT
DTSTART;TZID=Europe/Berlin:20250826T090000
DTEND;TZID=Europe/Berlin:20250826T100000
DTSTAMP:20260420T092234
CREATED:20241204T100706Z
LAST-MODIFIED:20251211T152839Z
UID:10071303-1756198800-1756202400@www.aktivita-badessen.de
SUMMARY:Rehasport (Wasser)
DESCRIPTION:Schonende Ganzkörperübungen im Wasser zur Steigerung von Kraft\, Ausdauer und Beweglichkeit – gelenkschonend\, zur Schmerzlinderung und Verbesserung der Lebensqualität.
URL:https://www.aktivita-badessen.de/einzelkurs/rehasport-wasser-neu-6/2025-08-26/
LOCATION:AKTIVITA SoleSpa\, Lindenstraße 100\, Bad Essen\, 49152\, Deutschland
CATEGORIES:Rehasportkurs
END:VEVENT
BEGIN:VEVENT
DTSTART;TZID=Europe/Berlin:20250826T090000
DTEND;TZID=Europe/Berlin:20250826T100000
DTSTAMP:20260420T092234
CREATED:20241204T085530Z
LAST-MODIFIED:20251211T152913Z
UID:10071316-1756198800-1756202400@www.aktivita-badessen.de
SUMMARY:Zertifiziertes Gerätetraining
DESCRIPTION:Das Ganzkörpertraining: Zertifiziertes Gerätetraining in kleinen Gruppen\, unter Anleitung eines qualifizierten Physiotherapeuten\, zur Krafterhaltung und Verbesserung des allgemeinen Wohlbefindens – einmal wöchentlich.
URL:https://www.aktivita-badessen.de/einzelkurs/zirkeltraining-das-ganzkoerpertrainingtrocken-neu/2025-08-26/
LOCATION:AKTIVITA SoleSpa\, Lindenstraße 100\, Bad Essen\, 49152\, Deutschland
CATEGORIES:Gesundheits- und Präventionskurs
END:VEVENT
BEGIN:VEVENT
DTSTART;TZID=Europe/Berlin:20250826T080000
DTEND;TZID=Europe/Berlin:20250826T090000
DTSTAMP:20260420T092234
CREATED:20241204T100604Z
LAST-MODIFIED:20251211T152939Z
UID:10071329-1756195200-1756198800@www.aktivita-badessen.de
SUMMARY:Rehasport (Wasser)
DESCRIPTION:Schonende Ganzkörperübungen im Wasser zur Steigerung von Kraft\, Ausdauer und Beweglichkeit – gelenkschonend\, zur Schmerzlinderung und Verbesserung der Lebensqualität.
URL:https://www.aktivita-badessen.de/einzelkurs/rehasport-wasser-neu-5/2025-08-26/
LOCATION:AKTIVITA SoleSpa\, Lindenstraße 100\, Bad Essen\, 49152\, Deutschland
CATEGORIES:Rehasportkurs
END:VEVENT
BEGIN:VEVENT
DTSTART;TZID=Europe/Berlin:20250825T200000
DTEND;TZID=Europe/Berlin:20250825T204500
DTSTAMP:20260420T092234
CREATED:20241204T093616Z
LAST-MODIFIED:20251211T153106Z
UID:10071368-1756152000-1756154700@www.aktivita-badessen.de
SUMMARY:Rehasport (Trocken)
DESCRIPTION:Mit physiotherapeutischen Methoden werden Kraft\, Ausdauer\, Koordination und Beweglichkeit verbessert – das Gruppentraining zielt auf die Steigerung der Leistungsfähigkeit und Schmerzlinderung ab und fördert mehr Gesundheit und Lebensqualität.
URL:https://www.aktivita-badessen.de/einzelkurs/rehasport-trocken-neu-5/2025-08-25/
LOCATION:AKTIVITA SoleSpa\, Lindenstraße 100\, Bad Essen\, 49152\, Deutschland
CATEGORIES:Rehasportkurs
END:VEVENT
BEGIN:VEVENT
DTSTART;TZID=Europe/Berlin:20250825T190000
DTEND;TZID=Europe/Berlin:20250825T200000
DTSTAMP:20260420T092234
CREATED:20241210T090103Z
LAST-MODIFIED:20251211T135045Z
UID:10070145-1756148400-1756152000@www.aktivita-badessen.de
SUMMARY:Bauch-Beine-Po
DESCRIPTION:Gezieltes Training zur Straffung und Kräftigung von Bauch\, Beinen\, Po und Oberkörper – ein umfassendes Körperworkout.
URL:https://www.aktivita-badessen.de/einzelkurs/bauch-beine-po-2/2025-08-25/
LOCATION:AKTIVITA SoleSpa\, Lindenstraße 100\, Bad Essen\, 49152\, Deutschland
CATEGORIES:Fitnesskurs
END:VEVENT
BEGIN:VEVENT
DTSTART;TZID=Europe/Berlin:20250825T190000
DTEND;TZID=Europe/Berlin:20250825T200000
DTSTAMP:20260420T092234
CREATED:20241204T100518Z
LAST-MODIFIED:20251211T153202Z
UID:10071394-1756148400-1756152000@www.aktivita-badessen.de
SUMMARY:Rehasport (Wasser)
DESCRIPTION:Schonende Ganzkörperübungen im Wasser zur Steigerung von Kraft\, Ausdauer und Beweglichkeit – gelenkschonend\, zur Schmerzlinderung und Verbesserung der Lebensqualität.
URL:https://www.aktivita-badessen.de/einzelkurs/rehasport-wasser-neu-4/2025-08-25/
LOCATION:AKTIVITA SoleSpa\, Lindenstraße 100\, Bad Essen\, 49152\, Deutschland
CATEGORIES:Rehasportkurs
END:VEVENT
BEGIN:VEVENT
DTSTART;TZID=Europe/Berlin:20250825T180000
DTEND;TZID=Europe/Berlin:20250825T190000
DTSTAMP:20260420T092234
CREATED:20241210T093517Z
LAST-MODIFIED:20251211T135211Z
UID:10070158-1756144800-1756148400@www.aktivita-badessen.de
SUMMARY:Power-Workout
DESCRIPTION:Ein abwechslungsreiches Intervalltraining mit und ohne Kleingeräte\, bei dem das eigene Körpergewicht im Fokus steht. Power ist garantiert.
URL:https://www.aktivita-badessen.de/einzelkurs/power-workout-2/2025-08-25/
LOCATION:AKTIVITA SoleSpa\, Lindenstraße 100\, Bad Essen\, 49152\, Deutschland
CATEGORIES:Fitnesskurs
END:VEVENT
BEGIN:VEVENT
DTSTART;TZID=Europe/Berlin:20250825T180000
DTEND;TZID=Europe/Berlin:20250825T190000
DTSTAMP:20260420T092234
CREATED:20241204T100431Z
LAST-MODIFIED:20251211T153302Z
UID:10071420-1756144800-1756148400@www.aktivita-badessen.de
SUMMARY:Rehasport (Wasser)
DESCRIPTION:Schonende Ganzkörperübungen im Wasser zur Steigerung von Kraft\, Ausdauer und Beweglichkeit – gelenkschonend\, zur Schmerzlinderung und Verbesserung der Lebensqualität.
URL:https://www.aktivita-badessen.de/einzelkurs/rehasport-wasser-neu-3/2025-08-25/
LOCATION:AKTIVITA SoleSpa\, Lindenstraße 100\, Bad Essen\, 49152\, Deutschland
CATEGORIES:Rehasportkurs
END:VEVENT
BEGIN:VEVENT
DTSTART;TZID=Europe/Berlin:20250825T180000
DTEND;TZID=Europe/Berlin:20250825T190000
DTSTAMP:20260420T092234
CREATED:20241204T084205Z
LAST-MODIFIED:20251211T153327Z
UID:10071433-1756144800-1756148400@www.aktivita-badessen.de
SUMMARY:Zertifiziertes Gerätetraining
DESCRIPTION:Das Ganzkörpertraining: Zertifiziertes Gerätetraining in kleinen Gruppen\, unter Anleitung eines qualifizierten Physiotherapeuten\, zur Krafterhaltung und Verbesserung des allgemeinen Wohlbefindens – einmal wöchentlich
URL:https://www.aktivita-badessen.de/einzelkurs/zirkeltraining-das-ganzkoerpertraining-trocken-neu-2/2025-08-25/
LOCATION:AKTIVITA SoleSpa\, Lindenstraße 100\, Bad Essen\, 49152\, Deutschland
CATEGORIES:Gesundheits- und Präventionskurs
END:VEVENT
BEGIN:VEVENT
DTSTART;TZID=Europe/Berlin:20250825T171500
DTEND;TZID=Europe/Berlin:20250825T180000
DTSTAMP:20260420T092234
CREATED:20241202T120835Z
LAST-MODIFIED:20251211T153453Z
UID:10071446-1756142100-1756144800@www.aktivita-badessen.de
SUMMARY:Aquafit
DESCRIPTION:Vielseitiges Ganzkörpertraining im Wasser\, sowohl mit als auch ohne Geräte\, begleitet von Musik und therapeutischer Anleitung.
URL:https://www.aktivita-badessen.de/einzelkurs/aquafit-wassser-neu/2025-08-25/
LOCATION:AKTIVITA SoleSpa\, Lindenstraße 100\, Bad Essen\, 49152\, Deutschland
CATEGORIES:Gesundheits- und Präventionskurs
END:VEVENT
BEGIN:VEVENT
DTSTART;TZID=Europe/Berlin:20250825T170000
DTEND;TZID=Europe/Berlin:20250825T180000
DTSTAMP:20260420T092234
CREATED:20250217T150950Z
LAST-MODIFIED:20251211T134909Z
UID:10074654-1756141200-1756144800@www.aktivita-badessen.de
SUMMARY:Pilates
DESCRIPTION:Pilates-Prinzipien wie Konzentration\, Kontrolle\, Atmung und Präzision stärken die Körpermitte\, kräftigen die Rumpfmuskulatur und fördern die Flexibilität. Ein ausgewogenes Training für mehr Kraft und Beweglichkeit.
URL:https://www.aktivita-badessen.de/einzelkurs/pilates/2025-08-25/
LOCATION:AKTIVITA SoleSpa\, Lindenstraße 100\, Bad Essen\, 49152\, Deutschland
CATEGORIES:Fitnesskurs
END:VEVENT
BEGIN:VEVENT
DTSTART;TZID=Europe/Berlin:20250825T135000
DTEND;TZID=Europe/Berlin:20250825T171000
DTSTAMP:20260420T092234
CREATED:20241204T110010Z
LAST-MODIFIED:20260105T092621Z
UID:10071472-1756129800-1756141800@www.aktivita-badessen.de
SUMMARY:Kinderschwimmen
DESCRIPTION:Kinder lernen die Schwimmgrundlagen\, verfeinern ihre Technik und Schwimmstile und arbeiten auf die Abzeichen Seepferdchen\, Seeräuber und Bronze hin (für Anfänger ab 4 Jahren). \nIn Kooperation mit: Schwimmschule Jürgen Lamping
URL:https://www.aktivita-badessen.de/einzelkurs/kinderschwimmmen-wasser-neu/2025-08-25/
LOCATION:AKTIVITA SoleSpa\, Lindenstraße 100\, Bad Essen\, 49152\, Deutschland
CATEGORIES:Schwimmschule
END:VEVENT
BEGIN:VEVENT
DTSTART;TZID=Europe/Berlin:20250825T103000
DTEND;TZID=Europe/Berlin:20250825T113000
DTSTAMP:20260420T092234
CREATED:20241204T100338Z
LAST-MODIFIED:20251211T153654Z
UID:10071511-1756117800-1756121400@www.aktivita-badessen.de
SUMMARY:Rehasport (Wasser)
DESCRIPTION:Schonende Ganzkörperübungen im Wasser zur Steigerung von Kraft\, Ausdauer und Beweglichkeit – gelenkschonend\, zur Schmerzlinderung und Verbesserung der Lebensqualität.
URL:https://www.aktivita-badessen.de/einzelkurs/rehasport-wasser-neu-2/2025-08-25/
LOCATION:AKTIVITA SoleSpa\, Lindenstraße 100\, Bad Essen\, 49152\, Deutschland
CATEGORIES:Rehasportkurs
END:VEVENT
BEGIN:VEVENT
DTSTART;TZID=Europe/Berlin:20250825T100000
DTEND;TZID=Europe/Berlin:20250825T104500
DTSTAMP:20260420T092234
CREATED:20241214T101657Z
LAST-MODIFIED:20251211T153752Z
UID:10071537-1756116000-1756118700@www.aktivita-badessen.de
SUMMARY:Rehasport (Trocken)
DESCRIPTION:Mit physiotherapeutischen Methoden werden Kraft\, Ausdauer\, Koordination und Beweglichkeit verbessert – das Gruppentraining zielt auf die Steigerung der Leistungsfähigkeit und Schmerzlinderung ab und fördert mehr Gesundheit und Lebensqualität.
URL:https://www.aktivita-badessen.de/einzelkurs/rehasport-trocken-3/2025-08-25/
LOCATION:AKTIVITA SoleSpa\, Lindenstraße 100\, Bad Essen\, 49152\, Deutschland
CATEGORIES:Rehasportkurs
END:VEVENT
END:VCALENDAR