BEGIN:VCALENDAR
VERSION:2.0
PRODID:-//AKTIVITA Bad Essen - ECPv6.15.20//NONSGML v1.0//EN
CALSCALE:GREGORIAN
METHOD:PUBLISH
X-WR-CALNAME:AKTIVITA Bad Essen
X-ORIGINAL-URL:https://www.aktivita-badessen.de
X-WR-CALDESC:Kurse für AKTIVITA Bad Essen
REFRESH-INTERVAL;VALUE=DURATION:PT1H
X-Robots-Tag:noindex
X-PUBLISHED-TTL:PT1H
BEGIN:VTIMEZONE
TZID:Europe/Berlin
BEGIN:DAYLIGHT
TZOFFSETFROM:+0100
TZOFFSETTO:+0200
TZNAME:CEST
DTSTART:20240331T010000
END:DAYLIGHT
BEGIN:STANDARD
TZOFFSETFROM:+0200
TZOFFSETTO:+0100
TZNAME:CET
DTSTART:20241027T010000
END:STANDARD
BEGIN:DAYLIGHT
TZOFFSETFROM:+0100
TZOFFSETTO:+0200
TZNAME:CEST
DTSTART:20250330T010000
END:DAYLIGHT
BEGIN:STANDARD
TZOFFSETFROM:+0200
TZOFFSETTO:+0100
TZNAME:CET
DTSTART:20251026T010000
END:STANDARD
BEGIN:DAYLIGHT
TZOFFSETFROM:+0100
TZOFFSETTO:+0200
TZNAME:CEST
DTSTART:20260329T010000
END:DAYLIGHT
BEGIN:STANDARD
TZOFFSETFROM:+0200
TZOFFSETTO:+0100
TZNAME:CET
DTSTART:20261025T010000
END:STANDARD
END:VTIMEZONE
BEGIN:VEVENT
DTSTART;TZID=Europe/Berlin:20250811T083000
DTEND;TZID=Europe/Berlin:20250811T093000
DTSTAMP:20260420T152547
CREATED:20241212T130421Z
LAST-MODIFIED:20251211T134956Z
UID:10070130-1754901000-1754904600@www.aktivita-badessen.de
SUMMARY:Rehasport (Wasser)
DESCRIPTION:Schonende Ganzkörperübungen im Wasser zur Steigerung von Kraft\, Ausdauer und Beweglichkeit – gelenkschonend\, zur Schmerzlinderung und Verbesserung der Lebensqualität.
URL:https://www.aktivita-badessen.de/einzelkurs/rehasport-wasser/2025-08-11/
LOCATION:AKTIVITA SoleSpa\, Lindenstraße 100\, Bad Essen\, 49152\, Deutschland
CATEGORIES:Rehasportkurs
END:VEVENT
BEGIN:VEVENT
DTSTART;TZID=Europe/Berlin:20250811T083000
DTEND;TZID=Europe/Berlin:20250811T091500
DTSTAMP:20260420T152547
CREATED:20241204T093055Z
LAST-MODIFIED:20251211T154057Z
UID:10071600-1754901000-1754903700@www.aktivita-badessen.de
SUMMARY:Rehasport (Trocken)
DESCRIPTION:Mit physiotherapeutischen Methoden werden Kraft\, Ausdauer\, Koordination und Beweglichkeit verbessert – das Gruppentraining zielt auf die Steigerung der Leistungsfähigkeit und Schmerzlinderung ab und fördert mehr Gesundheit und Lebensqualität.
URL:https://www.aktivita-badessen.de/einzelkurs/rehasport-trocken-neu/2025-08-11/
LOCATION:AKTIVITA SoleSpa\, Lindenstraße 100\, Bad Essen\, 49152\, Deutschland
CATEGORIES:Rehasportkurs
END:VEVENT
BEGIN:VEVENT
DTSTART;TZID=Europe/Berlin:20250809T110000
DTEND;TZID=Europe/Berlin:20250809T120000
DTSTAMP:20260420T152547
CREATED:20241210T095727Z
LAST-MODIFIED:20251211T135253Z
UID:10070181-1754737200-1754740800@www.aktivita-badessen.de
SUMMARY:Yoga-Fit
DESCRIPTION:Beim Power-Yoga werden Kraft und Dynamik spürbar\, Stärken entfaltet und die eigenen Grenzen auf neue Weise erlebt.
URL:https://www.aktivita-badessen.de/einzelkurs/yoga-fit-2/2025-08-09/
LOCATION:AKTIVITA SoleSpa\, Lindenstraße 100\, Bad Essen\, 49152\, Deutschland
CATEGORIES:Fitnesskurs
END:VEVENT
BEGIN:VEVENT
DTSTART;TZID=Europe/Berlin:20250809T100000
DTEND;TZID=Europe/Berlin:20250809T110000
DTSTAMP:20260420T152547
CREATED:20241210T090735Z
LAST-MODIFIED:20251211T135352Z
UID:10070186-1754733600-1754737200@www.aktivita-badessen.de
SUMMARY:HIIT-Intervalltraining
DESCRIPTION:Intensives Intervalltraining zur Steigerung von Kraft und Ausdauer – perfekt für ein effektives Ganzkörper-Workout in kurzer Zeit.
URL:https://www.aktivita-badessen.de/einzelkurs/hitt-intervalltraining-trocken-neu-2/2025-08-09/
LOCATION:AKTIVITA SoleSpa\, Lindenstraße 100\, Bad Essen\, 49152\, Deutschland
CATEGORIES:Fitnesskurs
END:VEVENT
BEGIN:VEVENT
DTSTART;TZID=Europe/Berlin:20250808T180000
DTEND;TZID=Europe/Berlin:20250808T190000
DTSTAMP:20260420T152547
CREATED:20241210T085737Z
LAST-MODIFIED:20251211T135414Z
UID:10070199-1754676000-1754679600@www.aktivita-badessen.de
SUMMARY:Bauch-Beine-Po
DESCRIPTION:Gezieltes Training zur Straffung und Kräftigung von Bauch\, Beinen\, Po und Oberkörper – ein umfassendes Körperworkout.
URL:https://www.aktivita-badessen.de/einzelkurs/bauch-beine-po-trocken-neu-2/2025-08-08/
LOCATION:AKTIVITA SoleSpa\, Lindenstraße 100\, Bad Essen\, 49152\, Deutschland
CATEGORIES:Fitnesskurs
END:VEVENT
BEGIN:VEVENT
DTSTART;TZID=Europe/Berlin:20250808T180000
DTEND;TZID=Europe/Berlin:20250808T190000
DTSTAMP:20260420T152547
CREATED:20241204T103001Z
LAST-MODIFIED:20251211T142151Z
UID:10070390-1754676000-1754679600@www.aktivita-badessen.de
SUMMARY:Rehasport (Wasser)
DESCRIPTION:Rubensgruppe: Schonende Ganzkörperübungen im Wasser zur Steigerung von Kraft\, Ausdauer und Beweglichkeit – gelenkschonend\, zur Schmerzlinderung und Verbesserung der Lebensqualität.
URL:https://www.aktivita-badessen.de/einzelkurs/rehasport-wasser-neu-29/2025-08-08/
LOCATION:AKTIVITA SoleSpa\, Lindenstraße 100\, Bad Essen\, 49152\, Deutschland
CATEGORIES:Rehasportkurs
END:VEVENT
BEGIN:VEVENT
DTSTART;TZID=Europe/Berlin:20250808T173000
DTEND;TZID=Europe/Berlin:20250808T180000
DTSTAMP:20260420T152547
CREATED:20241202T110028Z
LAST-MODIFIED:20251211T142255Z
UID:10070416-1754674200-1754676000@www.aktivita-badessen.de
SUMMARY:Funktionstraining (Wasser)
DESCRIPTION:Schonendes Training im Wasser zur Verbesserung Ihrer Bewegungsfunktion\, Schmerzlinderung und Reduzierung von Belastungen.
URL:https://www.aktivita-badessen.de/einzelkurs/funktionstraining-wasser-neu-9/2025-08-08/
LOCATION:AKTIVITA SoleSpa\, Lindenstraße 100\, Bad Essen\, 49152\, Deutschland
CATEGORIES:Funktionstrainingskurs
END:VEVENT
BEGIN:VEVENT
DTSTART;TZID=Europe/Berlin:20250808T170000
DTEND;TZID=Europe/Berlin:20250808T180000
DTSTAMP:20260420T152547
CREATED:20241210T093750Z
LAST-MODIFIED:20251211T135437Z
UID:10070212-1754672400-1754676000@www.aktivita-badessen.de
SUMMARY:Step-Intervall
DESCRIPTION:Intervalltraining mit dem Step-Board – intensiv und vielseitig zur Verbesserung von Kraft und Ausdauer.
URL:https://www.aktivita-badessen.de/einzelkurs/step-intervall-2/2025-08-08/
LOCATION:AKTIVITA SoleSpa\, Lindenstraße 100\, Bad Essen\, 49152\, Deutschland
CATEGORIES:Fitnesskurs
END:VEVENT
BEGIN:VEVENT
DTSTART;TZID=Europe/Berlin:20250808T160000
DTEND;TZID=Europe/Berlin:20250808T170000
DTSTAMP:20260420T152547
CREATED:20241204T102912Z
LAST-MODIFIED:20251211T142325Z
UID:10070429-1754668800-1754672400@www.aktivita-badessen.de
SUMMARY:Rehasport (Wasser)
DESCRIPTION:Schonende Ganzkörperübungen im Wasser zur Steigerung von Kraft\, Ausdauer und Beweglichkeit – gelenkschonend\, zur Schmerzlinderung und Verbesserung der Lebensqualität.
URL:https://www.aktivita-badessen.de/einzelkurs/rehasport-wasser-neu-28/2025-08-08/
LOCATION:AKTIVITA SoleSpa\, Lindenstraße 100\, Bad Essen\, 49152\, Deutschland
CATEGORIES:Rehasportkurs
END:VEVENT
BEGIN:VEVENT
DTSTART;TZID=Europe/Berlin:20250808T143000
DTEND;TZID=Europe/Berlin:20250808T153000
DTSTAMP:20260420T152547
CREATED:20241204T102757Z
LAST-MODIFIED:20251211T142429Z
UID:10070455-1754663400-1754667000@www.aktivita-badessen.de
SUMMARY:Rehasport (Wasser)
DESCRIPTION:Schonende Ganzkörperübungen im Wasser zur Steigerung von Kraft\, Ausdauer und Beweglichkeit – gelenkschonend\, zur Schmerzlinderung und Verbesserung der Lebensqualität.
URL:https://www.aktivita-badessen.de/einzelkurs/rehasport-wasser-neu-27/2025-08-08/
LOCATION:AKTIVITA SoleSpa\, Lindenstraße 100\, Bad Essen\, 49152\, Deutschland
CATEGORIES:Rehasportkurs
END:VEVENT
BEGIN:VEVENT
DTSTART;TZID=Europe/Berlin:20250808T113000
DTEND;TZID=Europe/Berlin:20250808T123000
DTSTAMP:20260420T152547
CREATED:20241204T102700Z
LAST-MODIFIED:20251211T142456Z
UID:10070468-1754652600-1754656200@www.aktivita-badessen.de
SUMMARY:Rehasport (Wasser)
DESCRIPTION:Schonende Ganzkörperübungen im Wasser zur Steigerung von Kraft\, Ausdauer und Beweglichkeit – gelenkschonend\, zur Schmerzlinderung und Verbesserung der Lebensqualität.
URL:https://www.aktivita-badessen.de/einzelkurs/rehasport-wasser-neu-26/2025-08-08/
LOCATION:AKTIVITA SoleSpa\, Lindenstraße 100\, Bad Essen\, 49152\, Deutschland
CATEGORIES:Rehasportkurs
END:VEVENT
BEGIN:VEVENT
DTSTART;TZID=Europe/Berlin:20250808T103000
DTEND;TZID=Europe/Berlin:20250808T113000
DTSTAMP:20260420T152547
CREATED:20241204T102555Z
LAST-MODIFIED:20251211T143052Z
UID:10070507-1754649000-1754652600@www.aktivita-badessen.de
SUMMARY:Rehasport (Wasser)
DESCRIPTION:Schonende Ganzkörperübungen im Wasser zur Steigerung von Kraft\, Ausdauer und Beweglichkeit – gelenkschonend\, zur Schmerzlinderung und Verbesserung der Lebensqualität.
URL:https://www.aktivita-badessen.de/einzelkurs/rehasport-wasser-neu-25/2025-08-08/
LOCATION:AKTIVITA SoleSpa\, Lindenstraße 100\, Bad Essen\, 49152\, Deutschland
CATEGORIES:Rehasportkurs
END:VEVENT
BEGIN:VEVENT
DTSTART;TZID=Europe/Berlin:20250808T100000
DTEND;TZID=Europe/Berlin:20250808T113000
DTSTAMP:20260420T152548
CREATED:20241209T092525Z
LAST-MODIFIED:20251211T135542Z
UID:10070225-1754647200-1754652600@www.aktivita-badessen.de
SUMMARY:Yoga\, 90 Minuten
DESCRIPTION:Im Fokus stehen Achtsamkeit\, Konzentration und Körperwahrnehmung. Durch bewusstes Atmen wird die Flexibilität gefördert und eine entspannte Ausgeglichenheit erreicht.
URL:https://www.aktivita-badessen.de/einzelkurs/yoga-4-4-2/2025-08-08/
LOCATION:AKTIVITA SoleSpa\, Lindenstraße 100\, Bad Essen\, 49152\, Deutschland
CATEGORIES:Fitnesskurs
END:VEVENT
BEGIN:VEVENT
DTSTART;TZID=Europe/Berlin:20250808T100000
DTEND;TZID=Europe/Berlin:20250808T103000
DTSTAMP:20260420T152548
CREATED:20241202T105853Z
LAST-MODIFIED:20251211T143135Z
UID:10070520-1754647200-1754649000@www.aktivita-badessen.de
SUMMARY:Funktionstraining (Wasser)
DESCRIPTION:Schonendes Training im Wasser zur Verbesserung Ihrer Bewegungsfunktion\, Schmerzlinderung und Reduzierung von Belastungen.
URL:https://www.aktivita-badessen.de/einzelkurs/funktionstraining-wasser-neu-8/2025-08-08/
LOCATION:AKTIVITA SoleSpa\, Lindenstraße 100\, Bad Essen\, 49152\, Deutschland
CATEGORIES:Funktionstrainingskurs
END:VEVENT
BEGIN:VEVENT
DTSTART;TZID=Europe/Berlin:20250808T090000
DTEND;TZID=Europe/Berlin:20250808T100000
DTSTAMP:20260420T152548
CREATED:20250217T151928Z
LAST-MODIFIED:20251211T143318Z
UID:10070559-1754643600-1754647200@www.aktivita-badessen.de
SUMMARY:Rehasport (Wasser)
DESCRIPTION:Schonende Ganzkörperübungen im Wasser zur Steigerung von Kraft\, Ausdauer und Beweglichkeit – gelenkschonend\, zur Schmerzlinderung und Verbesserung der Lebensqualität.
URL:https://www.aktivita-badessen.de/einzelkurs/rehasport-wasser-4/2025-08-08/
LOCATION:AKTIVITA SoleSpa\, Lindenstraße 100\, Bad Essen\, 49152\, Deutschland
CATEGORIES:Rehasportkurs
END:VEVENT
BEGIN:VEVENT
DTSTART;TZID=Europe/Berlin:20250808T083000
DTEND;TZID=Europe/Berlin:20250808T091500
DTSTAMP:20260420T152548
CREATED:20241204T095904Z
LAST-MODIFIED:20251211T143500Z
UID:10070585-1754641800-1754644500@www.aktivita-badessen.de
SUMMARY:Rehasport (Trocken)
DESCRIPTION:Mit physiotherapeutischen Methoden werden Kraft\, Ausdauer\, Koordination und Beweglichkeit verbessert – das Gruppentraining zielt auf die Steigerung der Leistungsfähigkeit und Schmerzlinderung ab und fördert mehr Gesundheit und Lebensqualität.
URL:https://www.aktivita-badessen.de/einzelkurs/rehasport-trocken-neu-15/2025-08-08/
LOCATION:AKTIVITA SoleSpa\, Lindenstraße 100\, Bad Essen\, 49152\, Deutschland
CATEGORIES:Rehasportkurs
END:VEVENT
BEGIN:VEVENT
DTSTART;TZID=Europe/Berlin:20250808T080000
DTEND;TZID=Europe/Berlin:20250808T090000
DTSTAMP:20260420T152548
CREATED:20250217T151809Z
LAST-MODIFIED:20251211T143559Z
UID:10070598-1754640000-1754643600@www.aktivita-badessen.de
SUMMARY:Rehasport (Wasser)
DESCRIPTION:Schonende Ganzkörperübungen im Wasser zur Steigerung von Kraft\, Ausdauer und Beweglichkeit – gelenkschonend\, zur Schmerzlinderung und Verbesserung der Lebensqualität.
URL:https://www.aktivita-badessen.de/einzelkurs/rehasport-wasser-3/2025-08-08/
LOCATION:AKTIVITA SoleSpa\, Lindenstraße 100\, Bad Essen\, 49152\, Deutschland
CATEGORIES:Rehasportkurs
END:VEVENT
BEGIN:VEVENT
DTSTART;TZID=Europe/Berlin:20250807T200000
DTEND;TZID=Europe/Berlin:20250807T210000
DTSTAMP:20260420T152548
CREATED:20241202T124025Z
LAST-MODIFIED:20251211T143701Z
UID:10070611-1754596800-1754600400@www.aktivita-badessen.de
SUMMARY:Funktion meets Form Männer
DESCRIPTION:Ausgleichstraining mit gezielten Übungen zur Reduzierung einseitiger Belastungen sowie zur Verbesserung der Koordination und Beweglichkeit.
URL:https://www.aktivita-badessen.de/einzelkurs/funktion-meets-form-maenner-trocken-neu/2025-08-07/
LOCATION:AKTIVITA SoleSpa\, Lindenstraße 100\, Bad Essen\, 49152\, Deutschland
CATEGORIES:Gesundheits- und Präventionskurs
END:VEVENT
BEGIN:VEVENT
DTSTART;TZID=Europe/Berlin:20250807T193000
DTEND;TZID=Europe/Berlin:20250807T203000
DTSTAMP:20260420T152548
CREATED:20241213T123032Z
LAST-MODIFIED:20251211T143729Z
UID:10070624-1754595000-1754598600@www.aktivita-badessen.de
SUMMARY:Rehasport (Wasser)
DESCRIPTION:Schonende Ganzkörperübungen im Wasser zur Steigerung von Kraft\, Ausdauer und Beweglichkeit – gelenkschonend\, zur Schmerzlinderung und Verbesserung der Lebensqualität.
URL:https://www.aktivita-badessen.de/einzelkurs/rehasport-wasser-2/2025-08-07/
LOCATION:AKTIVITA SoleSpa\, Lindenstraße 100\, Bad Essen\, 49152\, Deutschland
CATEGORIES:Rehasportkurs
END:VEVENT
BEGIN:VEVENT
DTSTART;TZID=Europe/Berlin:20250807T190000
DTEND;TZID=Europe/Berlin:20250807T200000
DTSTAMP:20260420T152548
CREATED:20241202T101044Z
LAST-MODIFIED:20251211T143806Z
UID:10070650-1754593200-1754596800@www.aktivita-badessen.de
SUMMARY:Langhantel-Workout
DESCRIPTION:Kraft-Ausdauertraining mit der Langhantel – ein intensives Workout für den gesamten Körper\, das Kraft und Ausdauer steigert.
URL:https://www.aktivita-badessen.de/einzelkurs/langhantel-workouttrocken-neu-2/2025-08-07/
LOCATION:AKTIVITA SoleSpa\, Lindenstraße 100\, Bad Essen\, 49152\, Deutschland
CATEGORIES:Fitnesskurs
END:VEVENT
BEGIN:VEVENT
DTSTART;TZID=Europe/Berlin:20250807T190000
DTEND;TZID=Europe/Berlin:20250807T193000
DTSTAMP:20260420T152548
CREATED:20241202T105713Z
LAST-MODIFIED:20251211T143847Z
UID:10070663-1754593200-1754595000@www.aktivita-badessen.de
SUMMARY:Funktionstraining (Wasser)
DESCRIPTION:Schonendes Training im Wasser zur Verbesserung Ihrer Bewegungsfunktion\, Schmerzlinderung und Reduzierung von Belastungen.
URL:https://www.aktivita-badessen.de/einzelkurs/funktionstraining-wasser-neu-7/2025-08-07/
LOCATION:AKTIVITA SoleSpa\, Lindenstraße 100\, Bad Essen\, 49152\, Deutschland
CATEGORIES:Funktionstrainingskurs
END:VEVENT
BEGIN:VEVENT
DTSTART;TZID=Europe/Berlin:20250807T180000
DTEND;TZID=Europe/Berlin:20250807T190000
DTSTAMP:20260420T152548
CREATED:20241204T102305Z
LAST-MODIFIED:20251211T144026Z
UID:10070689-1754589600-1754593200@www.aktivita-badessen.de
SUMMARY:Rehasport (Wasser)
DESCRIPTION:Schonende Ganzkörperübungen im Wasser zur Steigerung von Kraft\, Ausdauer und Beweglichkeit – gelenkschonend\, zur Schmerzlinderung und Verbesserung der Lebensqualität.
URL:https://www.aktivita-badessen.de/einzelkurs/rehasport-wasser-neu-22/2025-08-07/
LOCATION:AKTIVITA SoleSpa\, Lindenstraße 100\, Bad Essen\, 49152\, Deutschland
CATEGORIES:Rehasportkurs
END:VEVENT
BEGIN:VEVENT
DTSTART;TZID=Europe/Berlin:20250807T174500
DTEND;TZID=Europe/Berlin:20250807T184500
DTSTAMP:20260420T152548
CREATED:20241202T093512Z
LAST-MODIFIED:20251211T135642Z
UID:10070251-1754588700-1754592300@www.aktivita-badessen.de
SUMMARY:Yoga\, 60 Minuten
DESCRIPTION:Im Fokus stehen Achtsamkeit\, Konzentration und Körperwahrnehmung. Durch bewusstes Atmen wird die Flexibilität gefördert und eine entspannte Ausgeglichenheit erreicht.
URL:https://www.aktivita-badessen.de/einzelkurs/yoga-3-2-2/2025-08-07/
LOCATION:AKTIVITA SoleSpa\, Lindenstraße 100\, Bad Essen\, 49152\, Deutschland
CATEGORIES:Fitnesskurs
END:VEVENT
BEGIN:VEVENT
DTSTART;TZID=Europe/Berlin:20250807T171500
DTEND;TZID=Europe/Berlin:20250807T174500
DTSTAMP:20260420T152548
CREATED:20241216T104556Z
LAST-MODIFIED:20251211T135025Z
UID:10068905-1754586900-1754588700@www.aktivita-badessen.de
SUMMARY:Funktionstraining (Trocken)
DESCRIPTION:
URL:https://www.aktivita-badessen.de/einzelkurs/funktonstairining-trocken/2025-08-07/
LOCATION:AKTIVITA SoleSpa\, Lindenstraße 100\, Bad Essen\, 49152\, Deutschland
CATEGORIES:Funktionstrainingskurs
END:VEVENT
BEGIN:VEVENT
DTSTART;TZID=Europe/Berlin:20250807T170000
DTEND;TZID=Europe/Berlin:20250807T180000
DTSTAMP:20260420T152548
CREATED:20241204T102205Z
LAST-MODIFIED:20251211T145917Z
UID:10070728-1754586000-1754589600@www.aktivita-badessen.de
SUMMARY:Rehasport (Wasser)
DESCRIPTION:Schonende Ganzkörperübungen im Wasser zur Steigerung von Kraft\, Ausdauer und Beweglichkeit – gelenkschonend\, zur Schmerzlinderung und Verbesserung der Lebensqualität.
URL:https://www.aktivita-badessen.de/einzelkurs/rehasport-wasser-neu-21/2025-08-07/
LOCATION:AKTIVITA SoleSpa\, Lindenstraße 100\, Bad Essen\, 49152\, Deutschland
CATEGORIES:Rehasportkurs
END:VEVENT
BEGIN:VEVENT
DTSTART;TZID=Europe/Berlin:20250807T163000
DTEND;TZID=Europe/Berlin:20250807T171500
DTSTAMP:20260420T152548
CREATED:20241213T152644Z
LAST-MODIFIED:20251211T145949Z
UID:10070741-1754584200-1754586900@www.aktivita-badessen.de
SUMMARY:Rehasport (Trocken)
DESCRIPTION:Mit physiotherapeutischen Methoden werden Kraft\, Ausdauer\, Koordination und Beweglichkeit verbessert – das Gruppentraining zielt auf die Steigerung der Leistungsfähigkeit und Schmerzlinderung ab und fördert mehr Gesundheit und Lebensqualität.
URL:https://www.aktivita-badessen.de/einzelkurs/rehasport-trocken-2/2025-08-07/
LOCATION:AKTIVITA SoleSpa\, Lindenstraße 100\, Bad Essen\, 49152\, Deutschland
CATEGORIES:Rehasportkurs
END:VEVENT
BEGIN:VEVENT
DTSTART;TZID=Europe/Berlin:20250807T160000
DTEND;TZID=Europe/Berlin:20250807T170000
DTSTAMP:20260420T152548
CREATED:20241204T102106Z
LAST-MODIFIED:20251211T150400Z
UID:10070754-1754582400-1754586000@www.aktivita-badessen.de
SUMMARY:Rehasport (Wasser)
DESCRIPTION:Schonende Ganzkörperübungen im Wasser zur Steigerung von Kraft\, Ausdauer und Beweglichkeit – gelenkschonend\, zur Schmerzlinderung und Verbesserung der Lebensqualität.
URL:https://www.aktivita-badessen.de/einzelkurs/rehasport-wasser-neu-20/2025-08-07/
LOCATION:AKTIVITA SoleSpa\, Lindenstraße 100\, Bad Essen\, 49152\, Deutschland
CATEGORIES:Rehasportkurs
END:VEVENT
BEGIN:VEVENT
DTSTART;TZID=Europe/Berlin:20250807T133000
DTEND;TZID=Europe/Berlin:20250807T155000
DTSTAMP:20260420T152548
CREATED:20241204T110110Z
LAST-MODIFIED:20260105T092550Z
UID:10070780-1754573400-1754581800@www.aktivita-badessen.de
SUMMARY:Kinderschwimmen
DESCRIPTION:Kinder lernen die Schwimmgrundlagen\, verfeinern ihre Technik und Schwimmstile und arbeiten auf die Abzeichen Seepferdchen\, Seeräuber und Bronze hin (für Anfänger ab 4 Jahren). \nIn Kooperation mit: Schwimmschule Jürgen Lamping
URL:https://www.aktivita-badessen.de/einzelkurs/kinderschwimmen-wasser-neu/2025-08-07/
LOCATION:AKTIVITA SoleSpa\, Lindenstraße 100\, Bad Essen\, 49152\, Deutschland
CATEGORIES:Schwimmschule
END:VEVENT
BEGIN:VEVENT
DTSTART;TZID=Europe/Berlin:20250807T110000
DTEND;TZID=Europe/Berlin:20250807T120000
DTSTAMP:20260420T152548
CREATED:20241204T102013Z
LAST-MODIFIED:20251211T150500Z
UID:10070793-1754564400-1754568000@www.aktivita-badessen.de
SUMMARY:Rehasport (Wasser)
DESCRIPTION:Schonende Ganzkörperübungen im Wasser zur Steigerung von Kraft\, Ausdauer und Beweglichkeit – gelenkschonend\, zur Schmerzlinderung und Verbesserung der Lebensqualität.
URL:https://www.aktivita-badessen.de/einzelkurs/rehasport-wasser-neu-19/2025-08-07/
LOCATION:AKTIVITA SoleSpa\, Lindenstraße 100\, Bad Essen\, 49152\, Deutschland
CATEGORIES:Rehasportkurs
END:VEVENT
BEGIN:VEVENT
DTSTART;TZID=Europe/Berlin:20250807T110000
DTEND;TZID=Europe/Berlin:20250807T120000
DTSTAMP:20260420T152548
CREATED:20241204T090554Z
LAST-MODIFIED:20251211T150532Z
UID:10070806-1754564400-1754568000@www.aktivita-badessen.de
SUMMARY:Zertifiziertes Gerätetraining
DESCRIPTION:Das Ganzkörpertraining: Zertifiziertes Gerätetraining in kleinen Gruppen\, unter Anleitung eines qualifizierten Physiotherapeuten\, zur Krafterhaltung und Verbesserung des allgemeinen Wohlbefindens – einmal wöchentlich.
URL:https://www.aktivita-badessen.de/einzelkurs/zirkeltraining-das-ganzkoerpertraining-trocken-neu-7/2025-08-07/
LOCATION:AKTIVITA SoleSpa\, Lindenstraße 100\, Bad Essen\, 49152\, Deutschland
CATEGORIES:Gesundheits- und Präventionskurs
END:VEVENT
END:VCALENDAR